{"text_format":"2","workbook":"xlsx","n_sheets":2,"sheets":["Rekapitulácia stavby","JablonovePozzbrojnic - Po..."],"not_rendered":{"charts":0,"images":1,"macros":0,"external_links":0,"defined_names":4,"comments":0,"pivot_tables":0},"unopened":[],"bounds":{"document_bytes":16777216,"sheet_cells":100000,"run_cost":"one","rows_first":2000,"rows_last":500,"rows_between":2000,"halvings":0,"cell_chars":16384,"cell_head_chars":4096},"cells_cut":0,"cells_raw":0,"read":"whole","date_system":"1900"}

{"sheet":"Rekapitulácia stavby","index":0,"n_rows":96,"n_cols":89,"rows_kept":96,"cut":false,"hidden":false,"merged":[[1,2,1,41],[3,2,3,41],[4,56,33,56],[4,10,4,40],[5,10,5,40],[13,4,13,35],[22,4,22,39],[25,36,25,40],[26,36,26,40],[28,36,28,40],[30,11,30,14],[30,22,30,30],[30,36,30,40],[31,11,31,14],[31,22,31,30],[31,36,31,40],[32,11,32,14],[32,22,32,30],[32,36,32,40],[33,11,33,14],[33,22,33,30],[33,36,33,40],[34,11,34,14],[34,22,34,30],[34,36,34,40],[36,23,36,27],[36,36,36,40],[75,2,75,41],[77,11,77,40],[81,38,81,41],[81,44,83,45],[82,38,82,41],[84,2,84,6],[84,8,84,31],[84,32,84,38],[84,39,84,41],[87,39,87,41],[87,32,87,38],[87,3,87,7],[87,9,87,31],[90,32,90,38],[90,39,90,41],[91,3,91,27],[91,32,91,38],[91,39,91,41],[92,3,92,27],[92,32,92,38],[92,39,92,41],[93,3,93,27],[93,32,93,38],[93,39,93,41],[86,32,86,38],[86,39,86,41],[89,32,89,38],[89,39,89,41],[95,32,95,38],[95,39,95,41],[1,43,1,56]]}
["2012",null,null,"Hárok obsahuje:",{"$nulls":6},"1) Súhrnný list stavby",{"$nulls":11},"2) Rekapitulácia objektov",{"$nulls":29},"2.0","ZAMOK",{"$nulls":17},"False","False"]
[null,null,"optimalizované pre tlač zostáv vo formáte A4 - na výšku",{"$nulls":40},">>  skryté stĺpce  <<",{"$nulls":26},"0,001","20"]
[{"$nulls":70},"0,001","20"]
[null,null,"SÚHRNNÝ LIST STAVBY",{"$nulls":41},"v ---  nižšie sa nachádzajú doplnkové a pomocné údaje k zostavám  --- v",{"$nulls":11},"Návod na vyplnenie",{"$nulls":13},"0,001"]
[null,null,null,"Kód:",{"$nulls":6},"JablonovePozzbrojnic",{"$nulls":45},"Meniť je možné iba bunky so žltým podfarbením!\r\n\r\n1) na prvom liste Rekapitulácie stavby vyplňte v zostave\r\n\r\n    a) Súhrnný list\r\n       - údaje o Zhotoviteľovi\r\n         (prenesú sa do ostatných zostáv aj v iných listoch)\r\n\r\n    b) Rekapitulácia objektov\r\n       - potrebné Ostatné náklady\r\n\r\n2) na vybraných listoch vyplňte v zostave\r\n\r\n    a) Krycí list\r\n       - údaje o Zhotoviteľovi, pokiaľ sa líšia od údajov o Zhotoviteľovi na Súhrnnom liste\r\n         (údaje se prenesú do ostatných zostav v danom liste)\r\n\r\n    b) Rekapitulácia rozpočtu\r\n       - potrebné Ostatné náklady\r\n\r\n    c) Celkové náklady za stavbu\r\n       - ceny na položkách\r\n       - množstvo, pokiaľ má žlté podfarbenie\r\n       - a v prípade potreby poznámku (tá je v skrytom stĺpci)",{"$nulls":13},"0,001"]
[null,null,null,"Stavba:",{"$nulls":6},"Požiarna zbrojnica Jablonové-prístavba",{"$nulls":59},"0,001"]
[null,null,null,"JKSO:",{"$nulls":6},"",{"$nulls":25},"KS:",null,null,"",{"$nulls":30},"0,001"]
[null,null,null,"Miesto:",{"$nulls":6},"Jablonové",{"$nulls":25},"Dátum:",null,null,"20.3.2018",{"$nulls":30},"0,001"]
[{"$nulls":70},"0,001"]
[null,null,null,"Objednávateľ:",{"$nulls":32},"IČO:",null,null,"",{"$nulls":30},"0,001"]
[{"$nulls":4},"Obec Jablonové",{"$nulls":31},"IČO DPH:",null,null,"",{"$nulls":30},"0,001"]
[{"$nulls":70},"0,001"]
[null,null,null,"Zhotoviteľ:",{"$nulls":32},"IČO:",null,null,"Vyplň údaj",{"$nulls":30},"0,001"]
[{"$nulls":4},"Vyplň údaj",{"$nulls":31},"IČO DPH:",null,null,"Vyplň údaj",{"$nulls":30},"0,001"]
[{"$nulls":70},"False"]
[null,null,null,"Projektant:",{"$nulls":32},"IČO:",null,null,"",{"$nulls":30},"False"]
[{"$nulls":4}," ",{"$nulls":31},"IČO DPH:",null,null,"",{"$nulls":30},"True"]
[{"$nulls":70},"0,01"]
[null,null,null,"Spracovateľ:",{"$nulls":32},"IČO:",null,null,"",{"$nulls":30},"0,01"]
[{"$nulls":4}," ",{"$nulls":31},"IČO DPH:",null,null,""]
[]
[null,null,null,"Poznámka:"]
[{"$nulls":4},""]
[]
[]
[null,null,null,"Náklady z rozpočtov",{"$nulls":32},{"$f":"ROUND(AG87,2)","v":0}]
[null,null,null,"Ostatné náklady zo súhrnného listu",{"$nulls":32},{"$f":"ROUND(AG90,2)","v":0}]
[]
[null,null,null,"Cena bez DPH",{"$nulls":32},{"$f":"ROUND(AK26+AK27,2)","v":0}]
[]
[null,null,null,"DPH",null,"základná",{"$nulls":5},0.20000000000000001,{"$nulls":7},"z",null,null,{"$f":"ROUND(AZ87+SUM(CD91:CD95),2)","v":0},{"$nulls":13},{"$f":"ROUND(AV87+SUM(BY91:BY95),2)","v":0}]
[{"$nulls":5},"znížená",{"$nulls":5},0.20000000000000001,{"$nulls":7},"z",null,null,{"$f":"ROUND(BA87+SUM(CE91:CE95),2)","v":0},{"$nulls":13},{"$f":"ROUND(AW87+SUM(BZ91:BZ95),2)","v":0}]
[{"$nulls":5},"zákl. prenesená",{"$nulls":5},0.20000000000000001,{"$nulls":7},"z",null,null,{"$f":"ROUND(BB87+SUM(CF91:CF95),2)","v":0},{"$nulls":13},0]
[{"$nulls":5},"zníž. prenesená",{"$nulls":5},0.20000000000000001,{"$nulls":7},"z",null,null,{"$f":"ROUND(BC87+SUM(CG91:CG95),2)","v":0},{"$nulls":13},0]
[{"$nulls":5},"nulová",{"$nulls":5},0,{"$nulls":7},"z",null,null,{"$f":"ROUND(BD87+SUM(CH91:CH95),2)","v":0},{"$nulls":13},0]
[]
[null,null,null,"Cena s DPH",{"$nulls":15},"v",null,null,null,"EUR",{"$nulls":12},{"$f":"SUM(AK29:AK35)","v":0}]
{"$rows_empty":11}
[null,null,null,"Projektant",{"$nulls":24},"Spracovateľ"]
{"$rows_empty":8}
[null,null,null,"Dátum a podpis:",{"$nulls":13},"Pečiatka",{"$nulls":10},"Dátum a podpis:",{"$nulls":9},"Pečiatka"]
[]
[null,null,null,"Objednávateľ",{"$nulls":24},"Zhotoviteľ"]
{"$rows_empty":8}
[null,null,null,"Dátum a podpis:",{"$nulls":13},"Pečiatka",{"$nulls":10},"Dátum a podpis:",{"$nulls":9},"Pečiatka"]
[]
[]
[]
[]
[]
[]
[null,null,"REKAPITULÁCIA OBJEKTOV STAVBY"]
[null,null,"Kód:",{"$nulls":8},{"$f":"K5","v":"JablonovePozzbrojnic"}]
[null,null,"Stavba:",{"$nulls":8},{"$f":"K6","v":"Požiarna zbrojnica Jablonové-prístavba"}]
[]
[null,null,"Miesto:",{"$nulls":8},{"$f":"IF(K8=\"\",\"\",K8)","v":"Jablonové"},{"$nulls":22},"Dátum:",null,null,null,{"$f":" IF(AN8= \"\",\"\",AN8)","v":"20.3.2018"}]
[]
[null,null,"Objednávateľ:",{"$nulls":8},{"$f":"IF(E11= \"\",\"\",E11)","v":"Obec Jablonové"},{"$nulls":22},"Projektant:",null,null,null,{"$f":"IF(E17=\"\",\"\",E17)","v":" "},{"$nulls":5},"Informatívne údaje z listov zákaziek"]
[null,null,"Zhotoviteľ:",{"$nulls":8},{"$f":"IF(E14= \"Vyplň údaj\",\"\",E14)","v":""},{"$nulls":22},"Spracovateľ:",null,null,null,{"$f":"IF(E20=\"\",\"\",E20)","v":" "}]
[]
[null,null,"Kód",{"$nulls":5},"Objekt",{"$nulls":23},"Cena bez DPH [EUR]",{"$nulls":6},"Cena s DPH [EUR]",{"$nulls":4},"z toho Ostat.\r\nnáklady [EUR]","DPH [EUR]","Normohodiny [h]","DPH základná [EUR]","DPH znížená [EUR]","DPH základná prenesená\r\n[EUR]","DPH znížená prenesená\r\n[EUR]","Základňa\r\nDPH základná","Základňa\r\nDPH znížená","Základňa\r\nDPH zákl. prenesená","Základňa\r\nDPH zníž. prenesená","Základňa\r\nDPH nulová"]
[]
[null,null,"1) Náklady z rozpočtov",{"$nulls":29},{"$f":"ROUND(AG88,2)","v":0},{"$nulls":6},{"$f":"SUM(AG87,AT87)","v":0},{"$nulls":4},{"$f":"ROUND(AS88,2)","v":0},{"$f":"ROUND(SUM(AV87:AW87),2)","v":0},{"$f":"ROUND(AU88,5)","v":0},{"$f":"ROUND(AZ87*L31,2)","v":0},{"$f":"ROUND(BA87*L32,2)","v":0},{"$f":"ROUND(BB87*L31,2)","v":0},{"$f":"ROUND(BC87*L32,2)","v":0},{"$f":"ROUND(AZ88,2)","v":0},{"$f":"ROUND(BA88,2)","v":0},{"$f":"ROUND(BB88,2)","v":0},{"$f":"ROUND(BC88,2)","v":0},{"$f":"ROUND(BD88,2)","v":0},{"$nulls":14},"D","0",null,"IMPORT","{823123b4-ff03-47f7-a417-373a98dec387}","{00000000-0000-0000-0000-000000000000}"]
["/",null,null,"JablonovePozzbrojnic",{"$nulls":5},"Požiarna zbrojnica Jablonové-prístavba",{"$nulls":22},{"$f":"'JablonovePozzbrojnic - Po...'!M29","v":0},{"$nulls":6},{"$f":"SUM(AG88,AT88)","v":0},{"$nulls":4},{"$f":"'JablonovePozzbrojnic - Po...'!M27","v":0},{"$f":"ROUND(SUM(AV88:AW88),2)","v":0},{"$f":"'JablonovePozzbrojnic - Po...'!W137","v":0},{"$f":"'JablonovePozzbrojnic - Po...'!M31","v":0},{"$f":"'JablonovePozzbrojnic - Po...'!M32","v":0},{"$f":"'JablonovePozzbrojnic - Po...'!M33","v":0},{"$f":"'JablonovePozzbrojnic - Po...'!M34","v":0},{"$f":"'JablonovePozzbrojnic - Po...'!H31","v":0},{"$f":"'JablonovePozzbrojnic - Po...'!H32","v":0},{"$f":"'JablonovePozzbrojnic - Po...'!H33","v":0},{"$f":"'JablonovePozzbrojnic - Po...'!H34","v":0},{"$f":"'JablonovePozzbrojnic - Po...'!H35","v":0},{"$nulls":15},"1","###NOINSERT###","IMPORT","{823123b4-ff03-47f7-a417-373a98dec387}","{00000000-0000-0000-0000-000000000000}"]
[]
[null,null,"2) Ostatné náklady zo súhrnného listu",{"$nulls":29},{"$f":"ROUND(SUM(AG91:AG94),2)","v":0},{"$nulls":6},{"$f":"ROUND(SUM(AN91:AN94),2)","v":0},{"$nulls":4},"Percent. zadanie\r\n[% nákladov rozpočtu]","Zaradenie nákladov","DPH","DPH [EUR]"]
[null,null,null,"Ostatné náklady",{"$nulls":28},{"$f":"ROUND(AG87*AS91,2)","v":0},{"$nulls":6},{"$f":"ROUND(AG91+AV91,2)","v":0},{"$nulls":4},0,"stavebná časť","základná",{"$f":"ROUND(IF(AU91=\"základná\",AG91*L31,IF(AU91=\"znížená\",AG91*L32,0)),2)","v":0},{"$nulls":25},"OSTATNENAKLADY",null,null,{"$f":"IF(AU91=\"základná\",AV91,0)","v":0},{"$f":"IF(AU91=\"znížená\",AV91,0)","v":0},0,0,0,{"$f":"IF(AU91=\"základná\",AG91,0)","v":0},{"$f":"IF(AU91=\"znížená\",AG91,0)","v":0},{"$f":"IF(AU91=\"zákl. prenesená\",AG91,0)","v":0},{"$f":"IF(AU91=\"zníž. prenesená\",AG91,0)","v":0},{"$f":"IF(AU91=\"nulová\",AG91,0)","v":0},{"$f":"IF(AU91=\"základná\",1,IF(AU91=\"znížená\",2,IF(AU91=\"zákl. prenesená\",4,IF(AU91=\"zníž. prenesená\",5,3))))","v":1},{"$f":"IF(AT91=\"stavebná časť\",1,IF(8891=\"investičná časť\",2,3))","v":1},{"$f":"IF(D91=\"Vyplň vlastné\",\"\",\"x\")","v":"x"}]
[null,null,null,"Vyplň vlastné",{"$nulls":28},{"$f":"AG87*AS92","v":0},{"$nulls":6},{"$f":"AG92+AV92","v":0},{"$nulls":4},0,"stavebná časť","základná",{"$f":"ROUND(IF(AU92=\"nulová\",0,IF(OR(AU92=\"základná\",AU92=\"zákl. prenesená\"),AG92*L31,AG92*L32)),2)","v":0},{"$nulls":25},"OSTATNENAKLADYVLASTNE",null,null,{"$f":"IF(AU92=\"základná\",AV92,0)","v":0},{"$f":"IF(AU92=\"znížená\",AV92,0)","v":0},{"$f":"IF(AU92=\"zákl. prenesená\",AV92,0)","v":0},{"$f":"IF(AU92=\"zníž. prenesená\",AV92,0)","v":0},{"$f":"IF(AU92=\"nulová\",AV92,0)","v":0},{"$f":"IF(AU92=\"základná\",AG92,0)","v":0},{"$f":"IF(AU92=\"znížená\",AG92,0)","v":0},{"$f":"IF(AU92=\"zákl. prenesená\",AG92,0)","v":0},{"$f":"IF(AU92=\"zníž. prenesená\",AG92,0)","v":0},{"$f":"IF(AU92=\"nulová\",AG92,0)","v":0},{"$f":"IF(AU92=\"základná\",1,IF(AU92=\"znížená\",2,IF(AU92=\"zákl. prenesená\",4,IF(AU92=\"zníž. prenesená\",5,3))))","v":1},{"$f":"IF(AT92=\"stavebná časť\",1,IF(8892=\"investičná časť\",2,3))","v":1},{"$f":"IF(D92=\"Vyplň vlastné\",\"\",\"x\")","v":""}]
[null,null,null,"Vyplň vlastné",{"$nulls":28},{"$f":"AG87*AS93","v":0},{"$nulls":6},{"$f":"AG93+AV93","v":0},{"$nulls":4},0,"stavebná časť","základná",{"$f":"ROUND(IF(AU93=\"nulová\",0,IF(OR(AU93=\"základná\",AU93=\"zákl. prenesená\"),AG93*L31,AG93*L32)),2)","v":0},{"$nulls":25},"OSTATNENAKLADYVLASTNE",null,null,{"$f":"IF(AU93=\"základná\",AV93,0)","v":0},{"$f":"IF(AU93=\"znížená\",AV93,0)","v":0},{"$f":"IF(AU93=\"zákl. prenesená\",AV93,0)","v":0},{"$f":"IF(AU93=\"zníž. prenesená\",AV93,0)","v":0},{"$f":"IF(AU93=\"nulová\",AV93,0)","v":0},{"$f":"IF(AU93=\"základná\",AG93,0)","v":0},{"$f":"IF(AU93=\"znížená\",AG93,0)","v":0},{"$f":"IF(AU93=\"zákl. prenesená\",AG93,0)","v":0},{"$f":"IF(AU93=\"zníž. prenesená\",AG93,0)","v":0},{"$f":"IF(AU93=\"nulová\",AG93,0)","v":0},{"$f":"IF(AU93=\"základná\",1,IF(AU93=\"znížená\",2,IF(AU93=\"zákl. prenesená\",4,IF(AU93=\"zníž. prenesená\",5,3))))","v":1},{"$f":"IF(AT93=\"stavebná časť\",1,IF(8893=\"investičná časť\",2,3))","v":1},{"$f":"IF(D93=\"Vyplň vlastné\",\"\",\"x\")","v":""}]
[null,null,null,"Vyplň vlastné",{"$nulls":28},{"$f":"AG87*AS94","v":0},{"$nulls":6},{"$f":"AG94+AV94","v":0},{"$nulls":4},0,"stavebná časť","základná",{"$f":"ROUND(IF(AU94=\"nulová\",0,IF(OR(AU94=\"základná\",AU94=\"zákl. prenesená\"),AG94*L31,AG94*L32)),2)","v":0},{"$nulls":25},"OSTATNENAKLADYVLASTNE",null,null,{"$f":"IF(AU94=\"základná\",AV94,0)","v":0},{"$f":"IF(AU94=\"znížená\",AV94,0)","v":0},{"$f":"IF(AU94=\"zákl. prenesená\",AV94,0)","v":0},{"$f":"IF(AU94=\"zníž. prenesená\",AV94,0)","v":0},{"$f":"IF(AU94=\"nulová\",AV94,0)","v":0},{"$f":"IF(AU94=\"základná\",AG94,0)","v":0},{"$f":"IF(AU94=\"znížená\",AG94,0)","v":0},{"$f":"IF(AU94=\"zákl. prenesená\",AG94,0)","v":0},{"$f":"IF(AU94=\"zníž. prenesená\",AG94,0)","v":0},{"$f":"IF(AU94=\"nulová\",AG94,0)","v":0},{"$f":"IF(AU94=\"základná\",1,IF(AU94=\"znížená\",2,IF(AU94=\"zákl. prenesená\",4,IF(AU94=\"zníž. prenesená\",5,3))))","v":1},{"$f":"IF(AT94=\"stavebná časť\",1,IF(8894=\"investičná časť\",2,3))","v":1},{"$f":"IF(D94=\"Vyplň vlastné\",\"\",\"x\")","v":""}]
[]
[null,null,"Celkové náklady za stavbu 1) + 2)",{"$nulls":29},{"$f":"ROUND(AG87+AG90,2)","v":0},{"$nulls":6},{"$f":"AN87+AN90","v":0}]

{"sheet":"JablonovePozzbrojnic - Po...","index":1,"n_rows":595,"n_cols":65,"rows_kept":595,"cut":false,"hidden":false,"merged":[[1,2,1,16],[3,2,3,16],[5,5,5,15],[7,14,7,15],[9,14,9,15],[10,14,10,15],[12,14,12,15],[13,4,13,11],[13,14,13,15],[15,14,15,15],[16,14,16,15],[18,14,18,15],[19,14,19,15],[22,4,22,11],[25,12,25,15],[26,12,26,15],[28,12,28,15],[30,7,30,9],[30,12,30,15],[31,7,31,9],[31,12,31,15],[32,7,32,9],[32,12,32,15],[33,7,33,9],[33,12,33,15],[34,7,34,9],[34,12,34,15],[36,11,36,15],[75,2,75,16],[77,5,77,15],[79,12,79,15],[81,12,81,16],[82,12,82,16],[84,2,84,6],[84,13,84,16],[86,13,86,16],[87,13,87,16],[88,13,88,16],[89,13,89,16],[90,13,90,16],[91,13,91,16],[92,13,92,16],[93,13,93,16],[94,13,94,16],[95,13,95,16],[96,13,96,16],[97,13,97,16],[98,13,98,16],[99,13,99,16],[100,13,100,16],[101,13,101,16],[102,13,102,16],[103,13,103,16],[104,13,104,16],[105,13,105,16],[106,13,106,16],[107,13,107,16],[108,13,108,16],[109,13,109,16],[110,13,110,16],[112,13,112,16],[113,3,113,7],[113,13,113,16],[114,3,114,7],[114,13,114,16],[115,3,115,7],[115,13,115,16],[116,3,116,7],[116,13,116,16],[117,3,117,7],[117,13,117,16],[118,13,118,16],[120,11,120,16],[126,2,126,16],[128,5,128,15],[130,12,130,15],[132,12,132,16],[133,12,133,16],[135,5,135,8],[135,11,135,12],[135,13,135,16],[139,5,139,8],[139,11,139,12],[139,13,139,16],[140,5,140,8],[141,5,141,8],[142,5,142,8],[143,5,143,8],[143,11,143,12],[143,13,143,16],[144,5,144,8],[145,5,145,8],[146,5,146,8],[147,5,147,8],[147,11,147,12],[147,13,147,16],[148,5,148,8],[149,5,149,8],[150,5,150,8],[151,5,151,8],[151,11,151,12],[151,13,151,16],[153,5,153,8],[153,11,153,12],[153,13,153,16],[154,5,154,8],[155,5,155,8],[156,5,156,8],[158,5,158,8],[158,11,158,12],[158,13,158,16],[159,5,159,8],[160,5,160,8],[161,5,161,8],[162,5,162,8],[162,11,162,12],[162,13,162,16],[163,5,163,8],[164,5,164,8],[165,5,165,8],[166,5,166,8],[167,5,167,8],[168,5,168,8],[169,5,169,8],[170,5,170,8],[171,5,171,8],[172,5,172,8],[172,11,172,12],[172,13,172,16],[173,5,173,8],[173,11,173,12],[173,13,173,16],[174,5,174,8],[175,5,175,8],[176,5,176,8],[178,5,178,8],[178,11,178,12],[178,13,178,16],[179,5,179,8],[180,5,180,8],[181,5,181,8],[182,5,182,8],[182,11,182,12],[182,13,182,16],[183,5,183,8],[184,5,184,8],[185,5,185,8],[186,5,186,8],[186,11,186,12],[186,13,186,16],[187,5,187,8],[187,11,187,12],[187,13,187,16],[188,5,188,8],[189,5,189,8],[190,5,190,8],[191,5,191,8],[192,5,192,8],[192,11,192,12],[192,13,192,16],[193,5,193,8],[194,5,194,8],[195,5,195,8],[196,5,196,8],[196,11,196,12],[196,13,196,16],[198,5,198,8],[198,11,198,12],[198,13,198,16],[199,5,199,8],[200,5,200,8],[201,5,201,8],[202,5,202,8],[203,5,203,8],[204,5,204,8],[204,11,204,12],[204,13,204,16],[205,5,205,8],[206,5,206,8],[207,5,207,8],[208,5,208,8],[209,5,209,8],[210,5,210,8],[211,5,211,8],[212,5,212,8],[213,5,213,8],[214,5,214,8],[215,5,215,8],[216,5,216,8],[217,5,217,8],[218,5,218,8],[218,11,218,12],[218,13,218,16],[219,5,219,8],[219,11,219,12],[219,13,219,16],[220,5,220,8],[221,5,221,8],[222,5,222,8],[223,5,223,8],[224,5,224,8],[225,5,225,8],[226,5,226,8],[227,5,227,8],[228,5,228,8],[229,5,229,8],[230,5,230,8],[231,5,231,8],[232,5,232,8],[233,5,233,8],[234,5,234,8],[235,5,235,8],[236,5,236,8],[237,5,237,8],[238,5,238,8],[238,11,238,12],[238,13,238,16],[239,5,239,8],[239,11,239,12],[239,13,239,16],[240,5,240,8],[241,5,241,8],[242,5,242,8],[243,5,243,8],[244,5,244,8],[245,5,245,8],[246,5,246,8],[247,5,247,8],[247,11,247,12],[247,13,247,16],[248,5,248,8],[249,5,249,8],[250,5,250,8],[251,5,251,8],[251,11,251,12],[251,13,251,16],[252,5,252,8],[252,11,252,12],[252,13,252,16],[253,5,253,8],[254,5,254,8],[255,5,255,8],[256,5,256,8],[256,11,256,12],[256,13,256,16],[257,5,257,8],[258,5,258,8],[259,5,259,8],[260,5,260,8],[261,5,261,8],[261,11,261,12],[261,13,261,16],[262,5,262,8],[263,5,263,8],[264,5,264,8],[265,5,265,8],[265,11,265,12],[265,13,265,16],[266,5,266,8],[267,5,267,8],[268,5,268,8],[269,5,269,8],[269,11,269,12],[269,13,269,16],[270,5,270,8],[270,11,270,12],[270,13,270,16],[272,5,272,8],[272,11,272,12],[272,13,272,16],[273,5,273,8],[274,5,274,8],[275,5,275,8],[276,5,276,8],[277,5,277,8],[277,11,277,12],[277,13,277,16],[278,5,278,8],[278,11,278,12],[278,13,278,16],[279,5,279,8],[280,5,280,8],[281,5,281,8],[282,5,282,8],[282,11,282,12],[282,13,282,16],[283,5,283,8],[284,5,284,8],[285,5,285,8],[286,5,286,8],[286,11,286,12],[286,13,286,16],[287,5,287,8],[288,5,288,8],[289,5,289,8],[290,5,290,8],[290,11,290,12],[290,13,290,16],[291,5,291,8],[292,5,292,8],[293,5,293,8],[294,5,294,8],[294,11,294,12],[294,13,294,16],[295,5,295,8],[296,5,296,8],[297,5,297,8],[298,5,298,8],[299,5,299,8],[300,5,300,8],[301,5,301,8],[302,5,302,8],[303,5,303,8],[304,5,304,8],[305,5,305,8],[306,5,306,8],[306,11,306,12],[306,13,306,16],[307,5,307,8],[308,5,308,8],[309,5,309,8],[310,5,310,8],[310,11,310,12],[310,13,310,16],[311,5,311,8],[312,5,312,8],[313,5,313,8],[314,5,314,8],[314,11,314,12],[314,13,314,16],[315,5,315,8],[316,5,316,8],[317,5,317,8],[318,5,318,8],[318,11,318,12],[318,13,318,16],[319,5,319,8],[320,5,320,8],[321,5,321,8],[322,5,322,8],[322,11,322,12],[322,13,322,16],[323,5,323,8],[324,5,324,8],[325,5,325,8],[326,5,326,8],[327,5,327,8],[328,5,328,8],[329,5,329,8],[330,5,330,8],[330,11,330,12],[330,13,330,16],[331,5,331,8],[331,11,331,12],[331,13,331,16],[332,5,332,8],[332,11,332,12],[332,13,332,16],[333,5,333,8],[333,11,333,12],[333,13,333,16],[334,5,334,8],[335,5,335,8],[336,5,336,8],[337,5,337,8],[338,5,338,8],[338,11,338,12],[338,13,338,16],[340,5,340,8],[340,11,340,12],[340,13,340,16],[343,5,343,8],[343,11,343,12],[343,13,343,16],[344,5,344,8],[345,5,345,8],[346,5,346,8],[347,5,347,8],[347,11,347,12],[347,13,347,16],[348,5,348,8],[349,5,349,8],[350,5,350,8],[351,5,351,8],[351,11,351,12],[351,13,351,16],[353,5,353,8],[353,11,353,12],[353,13,353,16],[354,5,354,8],[355,5,355,8],[356,5,356,8],[357,5,357,8],[357,11,357,12],[357,13,357,16],[358,5,358,8],[358,11,358,12],[358,13,358,16],[359,5,359,8],[360,5,360,8],[361,5,361,8],[362,5,362,8],[362,11,362,12],[362,13,362,16],[363,5,363,8],[363,11,363,12],[363,13,363,16],[365,5,365,8],[365,11,365,12],[365,13,365,16],[366,5,366,8],[367,5,367,8],[368,5,368,8],[369,5,369,8],[369,11,369,12],[369,13,369,16],[370,5,370,8],[371,5,371,8],[372,5,372,8],[373,5,373,8],[373,11,373,12],[373,13,373,16],[374,5,374,8],[375,5,375,8],[376,5,376,8],[377,5,377,8],[377,11,377,12],[377,13,377,16],[378,5,378,8],[379,5,379,8],[380,5,380,8],[381,5,381,8],[381,11,381,12],[381,13,381,16],[382,5,382,8],[383,5,383,8],[384,5,384,8],[385,5,385,8],[385,11,385,12],[385,13,385,16],[386,5,386,8],[387,5,387,8],[388,5,388,8],[389,5,389,8],[389,11,389,12],[389,13,389,16],[390,5,390,8],[390,11,390,12],[390,13,390,16],[391,5,391,8],[392,5,392,8],[393,5,393,8],[393,11,393,12],[393,13,393,16],[394,5,394,8],[394,11,394,12],[394,13,394,16],[396,5,396,8],[396,11,396,12],[396,13,396,16],[397,5,397,8],[398,5,398,8],[399,5,399,8],[400,5,400,8],[400,11,400,12],[400,13,400,16],[402,5,402,8],[402,11,402,12],[402,13,402,16],[403,5,403,8],[404,5,404,8],[405,5,405,8],[406,5,406,8],[406,11,406,12],[406,13,406,16],[407,5,407,8],[408,5,408,8],[409,5,409,8],[410,5,410,8],[410,11,410,12],[410,13,410,16],[411,5,411,8],[412,5,412,8],[413,5,413,8],[414,5,414,8],[414,11,414,12],[414,13,414,16],[415,5,415,8],[415,11,415,12],[415,13,415,16],[416,5,416,8],[417,5,417,8],[418,5,418,8],[419,5,419,8],[419,11,419,12],[419,13,419,16],[420,5,420,8],[420,11,420,12],[420,13,420,16],[421,5,421,8],[421,11,421,12],[421,13,421,16],[422,5,422,8],[422,11,422,12],[422,13,422,16],[423,5,423,8],[423,11,423,12],[423,13,423,16],[424,5,424,8],[425,5,425,8],[426,5,426,8],[427,5,427,8],[427,11,427,12],[427,13,427,16],[428,5,428,8],[428,11,428,12],[428,13,428,16],[429,5,429,8],[429,11,429,12],[429,13,429,16],[431,5,431,8],[431,11,431,12],[431,13,431,16],[432,5,432,8],[433,5,433,8],[434,5,434,8],[435,5,435,8],[435,11,435,12],[435,13,435,16],[437,5,437,8],[437,11,437,12],[437,13,437,16],[438,5,438,8],[439,5,439,8],[440,5,440,8],[441,5,441,8],[442,5,442,8],[443,5,443,8],[443,11,443,12],[443,13,443,16],[444,5,444,8],[444,11,444,12],[444,13,444,16],[445,5,445,8],[446,5,446,8],[447,5,447,8],[448,5,448,8],[449,5,449,8],[450,5,450,8],[451,5,451,8],[452,5,452,8],[452,11,452,12],[452,13,452,16],[453,5,453,8],[453,11,453,12],[453,13,453,16],[454,5,454,8],[454,11,454,12],[454,13,454,16],[455,5,455,8],[455,11,455,12],[455,13,455,16],[456,5,456,8],[456,11,456,12],[456,13,456,16],[457,5,457,8],[457,11,457,12],[457,13,457,16],[458,5,458,8],[458,11,458,12],[458,13,458,16],[459,5,459,8],[459,11,459,12],[459,13,459,16],[461,5,461,8],[461,11,461,12],[461,13,461,16],[462,5,462,8],[462,11,462,12],[462,13,462,16],[463,5,463,8],[463,11,463,12],[463,13,463,16],[464,5,464,8],[464,11,464,12],[464,13,464,16],[465,5,465,8],[465,11,465,12],[465,13,465,16],[466,5,466,8],[466,11,466,12],[466,13,466,16],[467,5,467,8],[467,11,467,12],[467,13,467,16],[469,5,469,8],[469,11,469,12],[469,13,469,16],[470,5,470,8],[471,5,471,8],[472,5,472,8],[475,5,475,8],[475,11,475,12],[475,13,475,16],[476,5,476,8],[476,11,476,12],[476,13,476,16],[477,5,477,8],[477,11,477,12],[477,13,477,16],[478,5,478,8],[478,11,478,12],[478,13,478,16],[479,5,479,8],[479,11,479,12],[479,13,479,16],[480,5,480,8],[480,11,480,12],[480,13,480,16],[481,5,481,8],[481,11,481,12],[481,13,481,16],[482,5,482,8],[482,11,482,12],[482,13,482,16],[483,5,483,8],[483,11,483,12],[483,13,483,16],[484,5,484,8],[484,11,484,12],[484,13,484,16],[485,5,485,8],[485,11,485,12],[485,13,485,16],[486,5,486,8],[486,11,486,12],[486,13,486,16],[487,5,487,8],[487,11,487,12],[487,13,487,16],[488,5,488,8],[488,11,488,12],[488,13,488,16],[489,5,489,8],[489,11,489,12],[489,13,489,16],[490,5,490,8],[490,11,490,12],[490,13,490,16],[491,5,491,8],[491,11,491,12],[491,13,491,16],[492,5,492,8],[492,11,492,12],[492,13,492,16],[493,5,493,8],[493,11,493,12],[493,13,493,16],[494,5,494,8],[494,11,494,12],[494,13,494,16],[495,5,495,8],[495,11,495,12],[495,13,495,16],[496,5,496,8],[496,11,496,12],[496,13,496,16],[497,5,497,8],[497,11,497,12],[497,13,497,16],[498,5,498,8],[498,11,498,12],[498,13,498,16],[499,5,499,8],[499,11,499,12],[499,13,499,16],[500,5,500,8],[500,11,500,12],[500,13,500,16],[501,5,501,8],[501,11,501,12],[501,13,501,16],[502,5,502,8],[502,11,502,12],[502,13,502,16],[503,5,503,8],[503,11,503,12],[503,13,503,16],[504,5,504,8],[504,11,504,12],[504,13,504,16],[505,5,505,8],[505,11,505,12],[505,13,505,16],[506,5,506,8],[506,11,506,12],[506,13,506,16],[507,5,507,8],[507,11,507,12],[507,13,507,16],[508,5,508,8],[508,11,508,12],[508,13,508,16],[509,5,509,8],[509,11,509,12],[509,13,509,16],[510,5,510,8],[510,11,510,12],[510,13,510,16],[511,5,511,8],[511,11,511,12],[511,13,511,16],[512,5,512,8],[512,11,512,12],[512,13,512,16],[513,5,513,8],[513,11,513,12],[513,13,513,16],[514,5,514,8],[514,11,514,12],[514,13,514,16],[515,5,515,8],[515,11,515,12],[515,13,515,16],[516,5,516,8],[516,11,516,12],[516,13,516,16],[517,5,517,8],[517,11,517,12],[517,13,517,16],[518,5,518,8],[518,11,518,12],[518,13,518,16],[519,5,519,8],[519,11,519,12],[519,13,519,16],[520,5,520,8],[520,11,520,12],[520,13,520,16],[521,5,521,8],[521,11,521,12],[521,13,521,16],[522,5,522,8],[522,11,522,12],[522,13,522,16],[523,5,523,8],[523,11,523,12],[523,13,523,16],[524,5,524,8],[524,11,524,12],[524,13,524,16],[525,5,525,8],[525,11,525,12],[525,13,525,16],[526,5,526,8],[526,11,526,12],[526,13,526,16],[527,5,527,8],[527,11,527,12],[527,13,527,16],[528,5,528,8],[528,11,528,12],[528,13,528,16],[529,5,529,8],[529,11,529,12],[529,13,529,16],[530,5,530,8],[530,11,530,12],[530,13,530,16],[531,5,531,8],[531,11,531,12],[531,13,531,16],[532,5,532,8],[532,11,532,12],[532,13,532,16],[533,5,533,8],[533,11,533,12],[533,13,533,16],[534,5,534,8],[534,11,534,12],[534,13,534,16],[535,5,535,8],[535,11,535,12],[535,13,535,16],[536,5,536,8],[536,11,536,12],[536,13,536,16],[537,5,537,8],[537,11,537,12],[537,13,537,16],[538,5,538,8],[538,11,538,12],[538,13,538,16],[539,5,539,8],[539,11,539,12],[539,13,539,16],[540,5,540,8],[540,11,540,12],[540,13,540,16],[541,5,541,8],[541,11,541,12],[541,13,541,16],[542,5,542,8],[542,11,542,12],[542,13,542,16],[543,5,543,8],[543,11,543,12],[543,13,543,16],[544,5,544,8],[544,11,544,12],[544,13,544,16],[545,5,545,8],[545,11,545,12],[545,13,545,16],[546,5,546,8],[546,11,546,12],[546,13,546,16],[547,5,547,8],[547,11,547,12],[547,13,547,16],[548,5,548,8],[548,11,548,12],[548,13,548,16],[549,5,549,8],[549,11,549,12],[549,13,549,16],[550,5,550,8],[550,11,550,12],[550,13,550,16],[551,5,551,8],[551,11,551,12],[551,13,551,16],[552,5,552,8],[552,11,552,12],[552,13,552,16],[553,5,553,8],[553,11,553,12],[553,13,553,16],[554,5,554,8],[554,11,554,12],[554,13,554,16],[555,5,555,8],[555,11,555,12],[555,13,555,16],[556,5,556,8],[556,11,556,12],[556,13,556,16],[557,5,557,8],[557,11,557,12],[557,13,557,16],[558,5,558,8],[558,11,558,12],[558,13,558,16],[559,5,559,8],[559,11,559,12],[559,13,559,16],[560,5,560,8],[560,11,560,12],[560,13,560,16],[561,5,561,8],[561,11,561,12],[561,13,561,16],[562,5,562,8],[562,11,562,12],[562,13,562,16],[563,5,563,8],[563,11,563,12],[563,13,563,16],[564,5,564,8],[564,11,564,12],[564,13,564,16],[565,5,565,8],[565,11,565,12],[565,13,565,16],[566,5,566,8],[566,11,566,12],[566,13,566,16],[567,5,567,8],[567,11,567,12],[567,13,567,16],[568,5,568,8],[568,11,568,12],[568,13,568,16],[569,5,569,8],[569,11,569,12],[569,13,569,16],[570,5,570,8],[570,11,570,12],[570,13,570,16],[571,5,571,8],[571,11,571,12],[571,13,571,16],[572,5,572,8],[572,11,572,12],[572,13,572,16],[573,5,573,8],[573,11,573,12],[573,13,573,16],[574,5,574,8],[574,11,574,12],[574,13,574,16],[575,5,575,8],[575,11,575,12],[575,13,575,16],[576,5,576,8],[576,11,576,12],[576,13,576,16],[577,5,577,8],[577,11,577,12],[577,13,577,16],[578,5,578,8],[578,11,578,12],[578,13,578,16],[579,5,579,8],[579,11,579,12],[579,13,579,16],[581,5,581,8],[581,11,581,12],[581,13,581,16],[582,5,582,8],[582,11,582,12],[582,13,582,16],[583,5,583,8],[583,11,583,12],[583,13,583,16],[585,5,585,8],[585,11,585,12],[585,13,585,16],[587,5,587,8],[587,11,587,12],[587,13,587,16],[588,5,588,8],[588,11,588,12],[588,13,588,16],[590,5,590,8],[590,11,590,12],[590,13,590,16],[591,5,591,8],[591,11,591,12],[591,13,591,16],[592,5,592,8],[592,11,592,12],[592,13,592,16],[593,5,593,8],[593,11,593,12],[593,13,593,16],[594,5,594,8],[594,11,594,12],[594,13,594,16],[136,13,136,16],[137,13,137,16],[138,13,138,16],[152,13,152,16],[157,13,157,16],[177,13,177,16],[197,13,197,16],[271,13,271,16],[339,13,339,16],[341,13,341,16],[342,13,342,16],[352,13,352,16],[364,13,364,16],[395,13,395,16],[401,13,401,16],[430,13,430,16],[436,13,436,16],[460,13,460,16],[468,13,468,16],[473,13,473,16],[474,13,474,16],[580,13,580,16],[584,13,584,16],[586,13,586,16],[589,13,589,16],[0,7,0,10],[1,18,1,28]]}
[null,null,null,"Hárok obsahuje:",null,"1) Krycí list rozpočtu",null,"2) Rekapitulácia rozpočtu",null,null,null,"3) Rozpočet",null,null,"Späť na hárok:",null,null,null,"Rekapitulácia stavby"]
[null,null,"optimalizované pre tlač zostáv vo formáte A4 - na výšku",{"$nulls":15},">>  skryté stĺpce  <<",{"$nulls":26},"{823123b4-ff03-47f7-a417-373a98dec387}"]
[{"$nulls":45},"0"]
[null,null,"KRYCÍ LIST ROZPOČTU",{"$nulls":16},"v ---  nižšie sa nachádzajú doplnkové a pomocné údaje k zostavám  --- v",{"$nulls":25},"False"]
[]
[null,null,null,"Stavba:",null,"Požiarna zbrojnica Jablonové-prístavba"]
[null,null,null,"JKSO:",null,"",{"$nulls":6},"KS:",null,""]
[null,null,null,"Miesto:",null,"Jablonové",{"$nulls":6},"Dátum:",null,{"$f":"'Rekapitulácia stavby'!AN8","v":"20.3.2018"}]
[]
[null,null,null,"Objednávateľ:",{"$nulls":8},"IČO:",null,""]
[{"$nulls":4},"Obec Jablonové",{"$nulls":7},"IČO DPH:",null,""]
[]
[null,null,null,"Zhotoviteľ:",{"$nulls":8},"IČO:",null,{"$f":"IF('Rekapitulácia stavby'!AN13=\"\",\"\",'Rekapitulácia stavby'!AN13)","v":"Vyplň údaj"}]
[{"$nulls":4},{"$f":"IF('Rekapitulácia stavby'!E14=\"\",\"\",'Rekapitulácia stavby'!E14)","v":"Vyplň údaj"},{"$nulls":7},"IČO DPH:",null,{"$f":"IF('Rekapitulácia stavby'!AN14=\"\",\"\",'Rekapitulácia stavby'!AN14)","v":"Vyplň údaj"}]
[]
[null,null,null,"Projektant:",{"$nulls":8},"IČO:",null,{"$f":"IF('Rekapitulácia stavby'!AN16=\"\",\"\",'Rekapitulácia stavby'!AN16)","v":""}]
[{"$nulls":4},{"$f":"IF('Rekapitulácia stavby'!E17=\"\",\"\",'Rekapitulácia stavby'!E17)","v":" "},{"$nulls":7},"IČO DPH:",null,{"$f":"IF('Rekapitulácia stavby'!AN17=\"\",\"\",'Rekapitulácia stavby'!AN17)","v":""}]
[]
[null,null,null,"Spracovateľ:",{"$nulls":8},"IČO:",null,{"$f":"IF('Rekapitulácia stavby'!AN19=\"\",\"\",'Rekapitulácia stavby'!AN19)","v":""}]
[{"$nulls":4},{"$f":"IF('Rekapitulácia stavby'!E20=\"\",\"\",'Rekapitulácia stavby'!E20)","v":" "},{"$nulls":7},"IČO DPH:",null,{"$f":"IF('Rekapitulácia stavby'!AN20=\"\",\"\",'Rekapitulácia stavby'!AN20)","v":""}]
[]
[null,null,null,"Poznámka:"]
[{"$nulls":4},""]
[]
[]
[null,null,null,"Náklady z rozpočtu",{"$nulls":8},{"$f":"N87","v":0}]
[null,null,null,"Ostatné náklady",{"$nulls":8},{"$f":"N113","v":0}]
[]
[null,null,null,"Cena bez DPH",{"$nulls":8},{"$f":"ROUND(M26+M27,2)","v":0}]
[]
[null,null,null,"DPH","základná",0.20000000000000001,"z",{"$f":"ROUND((((SUM(BE113:BE120)+SUM(BE137:BE589))+SUM(BE591:BE595))),2)","v":0},{"$nulls":4},{"$f":"ROUND(((ROUND((SUM(BE113:BE120)+SUM(BE137:BE589)), 2)*F31)+SUM(BE591:BE595)*F31),2)","v":0}]
[{"$nulls":4},"znížená",0.20000000000000001,"z",{"$f":"ROUND((((SUM(BF113:BF120)+SUM(BF137:BF589))+SUM(BF591:BF595))),2)","v":0},{"$nulls":4},{"$f":"ROUND(((ROUND((SUM(BF113:BF120)+SUM(BF137:BF589)), 2)*F32)+SUM(BF591:BF595)*F32),2)","v":0}]
[{"$nulls":4},"zákl. prenesená",0.20000000000000001,"z",{"$f":"ROUND((((SUM(BG113:BG120)+SUM(BG137:BG589))+SUM(BG591:BG595))),2)","v":0},{"$nulls":4},0]
[{"$nulls":4},"zníž. prenesená",0.20000000000000001,"z",{"$f":"ROUND((((SUM(BH113:BH120)+SUM(BH137:BH589))+SUM(BH591:BH595))),2)","v":0},{"$nulls":4},0]
[{"$nulls":4},"nulová",0,"z",{"$f":"ROUND((((SUM(BI113:BI120)+SUM(BI137:BI589))+SUM(BI591:BI595))),2)","v":0},{"$nulls":4},0]
[]
[null,null,null,"Cena s DPH",null,null,"v","EUR",null,null,null,{"$f":"SUM(M29:M35)","v":0}]
{"$rows_empty":12}
[null,null,null,"Projektant",{"$nulls":5},"Spracovateľ"]
{"$rows_empty":8}
[null,null,null,"Dátum a podpis:",null,null,"Pečiatka",null,null,"Dátum a podpis:",null,null,null,"Pečiatka"]
[]
[null,null,null,"Objednávateľ",{"$nulls":5},"Zhotoviteľ"]
{"$rows_empty":8}
[null,null,null,"Dátum a podpis:",null,null,"Pečiatka",null,null,"Dátum a podpis:",null,null,null,"Pečiatka"]
[]
[]
[]
[]
[]
[null,null,"REKAPITULÁCIA ROZPOČTU"]
[]
[null,null,"Stavba:",null,null,{"$f":"F6","v":"Požiarna zbrojnica Jablonové-prístavba"}]
[]
[null,null,"Miesto:",null,null,{"$f":"F8","v":"Jablonové"},{"$nulls":4},"Dátum:",null,{"$f":"IF(O8=\"\",\"\",O8)","v":"20.3.2018"}]
[]
[null,null,"Objednávateľ:",null,null,{"$f":"E11","v":"Obec Jablonové"},{"$nulls":4},"Projektant:",null,{"$f":"E17","v":" "}]
[null,null,"Zhotoviteľ:",null,null,{"$f":"IF(E14=\"\",\"\",E14)","v":"Vyplň údaj"},{"$nulls":4},"Spracovateľ:",null,{"$f":"E20","v":" "}]
[]
[null,null,"Kód - Popis",{"$nulls":10},"Cena celkom [EUR]"]
[]
[null,null,"1) Náklady z rozpočtu",{"$nulls":10},{"$f":"N137","v":0},{"$nulls":32},"-1"]
[null,null,null,"HSV - Práce a dodávky HSV",{"$nulls":9},{"$f":"N138","v":0}]
[null,null,null,"    1 - Zemné práce",{"$nulls":9},{"$f":"N139","v":0}]
[null,null,null,"    2 - Zakladanie",{"$nulls":9},{"$f":"N153","v":0}]
[null,null,null,"    3 - Zvislé a kompletné konštrukcie",{"$nulls":9},{"$f":"N158","v":0}]
[null,null,null,"    4 - Vodorovné konštrukcie",{"$nulls":9},{"$f":"N178","v":0}]
[null,null,null,"    6 - Úpravy povrchov, podlahy, osadenie",{"$nulls":9},{"$f":"N198","v":0}]
[null,null,null,"    9 - Ostatné konštrukcie a práce-búranie",{"$nulls":9},{"$f":"N272","v":0}]
[null,null,null,"    99 - Presun hmôt HSV",{"$nulls":9},{"$f":"N340","v":0}]
[null,null,null,"PSV - Práce a dodávky PSV",{"$nulls":9},{"$f":"N342","v":0}]
[null,null,null,"    711 - Izolácie proti vode a vlhkosti",{"$nulls":9},{"$f":"N343","v":0}]
[null,null,null,"    713 - Izolácie tepelné",{"$nulls":9},{"$f":"N353","v":0}]
[null,null,null,"    762 - Konštrukcie tesárske",{"$nulls":9},{"$f":"N365","v":0}]
[null,null,null,"    763 - Konštrukcie - drevostavby",{"$nulls":9},{"$f":"N396","v":0}]
[null,null,null,"    764 - Konštrukcie klampiarske",{"$nulls":9},{"$f":"N402","v":0}]
[null,null,null,"    765 - Konštrukcie - krytiny tvrdé",{"$nulls":9},{"$f":"N431","v":0}]
[null,null,null,"    766 - Konštrukcie stolárske",{"$nulls":9},{"$f":"N437","v":0}]
[null,null,null,"    767 - Konštrukcie doplnkové kovové",{"$nulls":9},{"$f":"N461","v":0}]
[null,null,null,"    784 - Dokončovacie práce - maľby",{"$nulls":9},{"$f":"N469","v":0}]
[null,null,null,"M - Práce a dodávky M",{"$nulls":9},{"$f":"N474","v":0}]
[null,null,null,"    21-M - Elektromontáže",{"$nulls":9},{"$f":"N475","v":0}]
[null,null,null,"    46-M - Zemné práce pri extr.mont.prácach",{"$nulls":9},{"$f":"N581","v":0}]
[null,null,null,"HZS - Hodinové zúčtovacie sadzby",{"$nulls":9},{"$f":"N585","v":0}]
[null,null,null,"OST - Ostatné",{"$nulls":9},{"$f":"N587","v":0}]
[null,null,null,"VP -   Práce naviac",{"$nulls":9},{"$f":"N590","v":0}]
[]
[null,null,"2) Ostatné náklady",{"$nulls":10},{"$f":"ROUND(N114+N115+N116+N117+N118+N119,2)","v":0},{"$nulls":6},"DPH"]
[null,null,null,"GZS",{"$nulls":9},{"$f":"ROUND(N87*T114,2)","v":0},{"$nulls":6},"znížená",{"$nulls":29},"VRN",{"$nulls":5},{"$f":"IF(U114=\"základná\",N114,0)","v":0},{"$f":"IF(U114=\"znížená\",N114,0)","v":0},{"$f":"IF(U114=\"zákl. prenesená\",N114,0)","v":0},{"$f":"IF(U114=\"zníž. prenesená\",N114,0)","v":0},{"$f":"IF(U114=\"nulová\",N114,0)","v":0},"2"]
[null,null,null,"Projektové práce",{"$nulls":9},{"$f":"ROUND(N87*T115,2)","v":0},{"$nulls":6},"znížená",{"$nulls":29},"VRN",{"$nulls":5},{"$f":"IF(U115=\"základná\",N115,0)","v":0},{"$f":"IF(U115=\"znížená\",N115,0)","v":0},{"$f":"IF(U115=\"zákl. prenesená\",N115,0)","v":0},{"$f":"IF(U115=\"zníž. prenesená\",N115,0)","v":0},{"$f":"IF(U115=\"nulová\",N115,0)","v":0},"2"]
[null,null,null,"Sťažené podmienky",{"$nulls":9},{"$f":"ROUND(N87*T116,2)","v":0},{"$nulls":6},"znížená",{"$nulls":29},"VRN",{"$nulls":5},{"$f":"IF(U116=\"základná\",N116,0)","v":0},{"$f":"IF(U116=\"znížená\",N116,0)","v":0},{"$f":"IF(U116=\"zákl. prenesená\",N116,0)","v":0},{"$f":"IF(U116=\"zníž. prenesená\",N116,0)","v":0},{"$f":"IF(U116=\"nulová\",N116,0)","v":0},"2"]
[null,null,null,"Vplyv prostredia",{"$nulls":9},{"$f":"ROUND(N87*T117,2)","v":0},{"$nulls":6},"znížená",{"$nulls":29},"VRN",{"$nulls":5},{"$f":"IF(U117=\"základná\",N117,0)","v":0},{"$f":"IF(U117=\"znížená\",N117,0)","v":0},{"$f":"IF(U117=\"zákl. prenesená\",N117,0)","v":0},{"$f":"IF(U117=\"zníž. prenesená\",N117,0)","v":0},{"$f":"IF(U117=\"nulová\",N117,0)","v":0},"2"]
[null,null,null,"Iné VRN",{"$nulls":9},{"$f":"ROUND(N87*T118,2)","v":0},{"$nulls":6},"znížená",{"$nulls":29},"VRN",{"$nulls":5},{"$f":"IF(U118=\"základná\",N118,0)","v":0},{"$f":"IF(U118=\"znížená\",N118,0)","v":0},{"$f":"IF(U118=\"zákl. prenesená\",N118,0)","v":0},{"$f":"IF(U118=\"zníž. prenesená\",N118,0)","v":0},{"$f":"IF(U118=\"nulová\",N118,0)","v":0},"2"]
[null,null,null,"Kompletačná činnosť",{"$nulls":9},{"$f":"ROUND(N87*T119,2)","v":0},{"$nulls":6},"znížená",{"$nulls":29},"KOMPLETACNA",{"$nulls":5},{"$f":"IF(U119=\"základná\",N119,0)","v":0},{"$f":"IF(U119=\"znížená\",N119,0)","v":0},{"$f":"IF(U119=\"zákl. prenesená\",N119,0)","v":0},{"$f":"IF(U119=\"zníž. prenesená\",N119,0)","v":0},{"$f":"IF(U119=\"nulová\",N119,0)","v":0},"2"]
[]
[null,null,"Celkové náklady za stavbu 1) + 2)",{"$nulls":8},{"$f":"ROUND(SUM(N87+N113),2)","v":0}]
[]
[]
[]
[]
[]
[null,null,"ROZPOČET"]
[]
[null,null,"Stavba:",null,null,{"$f":"F6","v":"Požiarna zbrojnica Jablonové-prístavba"}]
[]
[null,null,"Miesto:",null,null,{"$f":"F8","v":"Jablonové"},{"$nulls":4},"Dátum:",null,{"$f":"IF(O8=\"\",\"\",O8)","v":"20.3.2018"}]
[]
[null,null,"Objednávateľ:",null,null,{"$f":"E11","v":"Obec Jablonové"},{"$nulls":4},"Projektant:",null,{"$f":"E17","v":" "}]
[null,null,"Zhotoviteľ:",null,null,{"$f":"IF(E14=\"\",\"\",E14)","v":"Vyplň údaj"},{"$nulls":4},"Spracovateľ:",null,{"$f":"E20","v":" "}]
[]
[null,null,"PČ","Typ","Kód","Popis",null,null,null,"MJ","Množstvo","J.cena [EUR]",null,"Cena celkom [EUR]",{"$nulls":5},"Poznámka","DPH","J. Nh [h]","Nh celkom [h]","J. hmotnosť\r\n[t]","Hmotnosť\r\ncelkom [t]","J. suť [t]","Suť Celkom [t]"]
[null,null,"Náklady z rozpočtu",{"$nulls":10},{"$f":"BK137","v":0},{"$nulls":8},{"$f":"W138+W342+W474+W585+W587+W590","v":0},null,{"$f":"Y138+Y342+Y474+Y585+Y587+Y590","v":53.031513189999998},null,{"$f":"AA138+AA342+AA474+AA585+AA587+AA590","v":13.719846800000001},{"$nulls":18},"D","-1",{"$nulls":15},{"$f":"BK138+BK342+BK474+BK585+BK587+BK590","v":0}]
[null,null,null,"HSV - Práce a dodávky HSV",{"$nulls":9},{"$f":"BK138","v":0},{"$nulls":8},{"$f":"W139+W153+W158+W178+W198+W272+W340","v":0},null,{"$f":"Y139+Y153+Y158+Y178+Y198+Y272+Y340","v":48.982271300000001},null,{"$f":"AA139+AA153+AA158+AA178+AA198+AA272+AA340","v":13.389528},{"$nulls":16},"1",null,"D","0",null,null,null,"ROZPOCET",{"$nulls":11},{"$f":"BK139+BK153+BK158+BK178+BK198+BK272+BK340","v":0}]
[null,null,null,"    1 - Zemné práce",{"$nulls":9},{"$f":"BK139","v":0},{"$nulls":8},{"$f":"SUM(W140:W152)","v":0},null,{"$f":"SUM(Y140:Y152)","v":0},null,{"$f":"SUM(AA140:AA152)","v":11.550000000000001},{"$nulls":16},"1",null,"D","1",null,null,null,"ROZPOCET",{"$nulls":11},{"$f":"SUM(BK140:BK152)","v":0}]
[null,null,"1","K","113107111","Odstránenie krytu v ploche do 200 m2 z kameniva ťaženého, hr. do 100 mm,  -0,16000t",null,null,null,"m2",30,0,null,{"$f":"ROUND(L140*K140,3)","v":0},{"$nulls":5},"","znížená",null,{"$f":"V140*K140","v":0},0,{"$f":"X140*K140","v":0},0.16,{"$f":"Z140*K140","v":4.7999999999999998},{"$nulls":16},"4",null,"K","2",null,null,null,"ROZPOCET",{"$nulls":5},{"$f":"IF(U140=\"základná\",N140,0)","v":0},{"$f":"IF(U140=\"znížená\",N140,0)","v":0},{"$f":"IF(U140=\"zákl. prenesená\",N140,0)","v":0},{"$f":"IF(U140=\"zníž. prenesená\",N140,0)","v":0},{"$f":"IF(U140=\"nulová\",N140,0)","v":0},"2",{"$f":"ROUND(L140*K140,3)","v":0},"4","1691083421"]
[{"$nulls":4},"","Odstránenie podkladnej vrstvy bet. krytu",{"$nulls":4},"",{"$nulls":34},"VV","2","1","True","0","ROZPOCET"]
[{"$nulls":4},"","7,5*4",{"$nulls":4},30,{"$nulls":34},"VV","2","2","True","0","ROZPOCET"]
[{"$nulls":4},"","Súčet",{"$nulls":4},30,{"$nulls":34},"VV","2","4","True","1","ROZPOCET"]
[null,null,"2","K","113107131","Odstránenie krytu v ploche do 200 m2 z betónu prostého, hr. vrstvy do 150 mm,  -0,22500t",null,null,null,"m2",30,0,null,{"$f":"ROUND(L144*K144,3)","v":0},{"$nulls":5},"","znížená",null,{"$f":"V144*K144","v":0},0,{"$f":"X144*K144","v":0},0.22500000000000001,{"$f":"Z144*K144","v":6.75},{"$nulls":16},"4",null,"K","2",null,null,null,"ROZPOCET",{"$nulls":5},{"$f":"IF(U144=\"základná\",N144,0)","v":0},{"$f":"IF(U144=\"znížená\",N144,0)","v":0},{"$f":"IF(U144=\"zákl. prenesená\",N144,0)","v":0},{"$f":"IF(U144=\"zníž. prenesená\",N144,0)","v":0},{"$f":"IF(U144=\"nulová\",N144,0)","v":0},"2",{"$f":"ROUND(L144*K144,3)","v":0},"4","-1668255539"]
[{"$nulls":4},"","Odstránenie bet. krytu",{"$nulls":4},"",{"$nulls":34},"VV","2","1","True","0","ROZPOCET"]
[{"$nulls":4},"","7,5*4",{"$nulls":4},30,{"$nulls":34},"VV","2","2","True","0","ROZPOCET"]
[{"$nulls":4},"","Súčet",{"$nulls":4},30,{"$nulls":34},"VV","2","4","True","1","ROZPOCET"]
[null,null,"3","K","132201101","Hľbenie rýh do šírky 600 mm v hornine 3 do 100 m3",null,null,null,"m3",9.2880000000000003,0,null,{"$f":"ROUND(L148*K148,3)","v":0},{"$nulls":5},"","znížená",null,{"$f":"V148*K148","v":0},0,{"$f":"X148*K148","v":0},0,{"$f":"Z148*K148","v":0},{"$nulls":16},"4",null,"K","2",null,null,null,"ROZPOCET",{"$nulls":5},{"$f":"IF(U148=\"základná\",N148,0)","v":0},{"$f":"IF(U148=\"znížená\",N148,0)","v":0},{"$f":"IF(U148=\"zákl. prenesená\",N148,0)","v":0},{"$f":"IF(U148=\"zníž. prenesená\",N148,0)","v":0},{"$f":"IF(U148=\"nulová\",N148,0)","v":0},"2",{"$f":"ROUND(L148*K148,3)","v":0},"4","-266981946"]
[{"$nulls":4},"","Základy po upravený terén  -1,20 m",{"$nulls":4},"",{"$nulls":34},"VV","2","1","True","0","ROZPOCET"]
[{"$nulls":4},"","(7,10+2,9*2)*1,2*0,6",{"$nulls":4},9.2880000000000003,{"$nulls":34},"VV","2","2","True","0","ROZPOCET"]
[{"$nulls":4},"","Súčet",{"$nulls":4},9.2880000000000003,{"$nulls":34},"VV","2","4","True","1","ROZPOCET"]
[null,null,"4","K","132201109","Príplatok k cene za lepivosť horniny 3",null,null,null,"m3",9.2880000000000003,0,null,{"$f":"ROUND(L152*K152,3)","v":0},{"$nulls":5},"","znížená",null,{"$f":"V152*K152","v":0},0,{"$f":"X152*K152","v":0},0,{"$f":"Z152*K152","v":0},{"$nulls":16},"4",null,"K","2",null,null,null,"ROZPOCET",{"$nulls":5},{"$f":"IF(U152=\"základná\",N152,0)","v":0},{"$f":"IF(U152=\"znížená\",N152,0)","v":0},{"$f":"IF(U152=\"zákl. prenesená\",N152,0)","v":0},{"$f":"IF(U152=\"zníž. prenesená\",N152,0)","v":0},{"$f":"IF(U152=\"nulová\",N152,0)","v":0},"2",{"$f":"ROUND(L152*K152,3)","v":0},"4","1648442815"]
[null,null,null,"    2 - Zakladanie",{"$nulls":9},{"$f":"BK153","v":0},{"$nulls":8},{"$f":"SUM(W154:W157)","v":0},null,{"$f":"SUM(Y154:Y157)","v":17.145106200000001},null,{"$f":"SUM(AA154:AA157)","v":0},{"$nulls":16},"1",null,"D","1",null,null,null,"ROZPOCET",{"$nulls":11},{"$f":"SUM(BK154:BK157)","v":0}]
[null,null,"5","K","274313612","Betón základových pásov, prostý tr. C 20/25",null,null,null,"m3",7.7400000000000002,0,null,{"$f":"ROUND(L154*K154,3)","v":0},{"$nulls":5},"","znížená",null,{"$f":"V154*K154","v":0},2.2151299999999998,{"$f":"X154*K154","v":17.145106200000001},0,{"$f":"Z154*K154","v":0},{"$nulls":16},"4",null,"K","2",null,null,null,"ROZPOCET",{"$nulls":5},{"$f":"IF(U154=\"základná\",N154,0)","v":0},{"$f":"IF(U154=\"znížená\",N154,0)","v":0},{"$f":"IF(U154=\"zákl. prenesená\",N154,0)","v":0},{"$f":"IF(U154=\"zníž. prenesená\",N154,0)","v":0},{"$f":"IF(U154=\"nulová\",N154,0)","v":0},"2",{"$f":"ROUND(L154*K154,3)","v":0},"4","-1457341375"]
[{"$nulls":4},"","Prístavba Základy  -1,000",{"$nulls":4},"",{"$nulls":34},"VV","2","1","True","0","ROZPOCET"]
[{"$nulls":4},"","(7,10+2,9*2)*1,00*0,6",{"$nulls":4},7.7400000000000002,{"$nulls":34},"VV","2","2","True","0","ROZPOCET"]
[{"$nulls":4},"","Súčet",{"$nulls":4},7.7400000000000002,{"$nulls":34},"VV","2","4","True","1","ROZPOCET"]
[null,null,null,"    3 - Zvislé a kompletné konštrukcie",{"$nulls":9},{"$f":"BK158","v":0},{"$nulls":8},{"$f":"SUM(W159:W177)","v":0},null,{"$f":"SUM(Y159:Y177)","v":8.5698487199999995},null,{"$f":"SUM(AA159:AA177)","v":0},{"$nulls":16},"1",null,"D","1",null,null,null,"ROZPOCET",{"$nulls":11},{"$f":"SUM(BK159:BK177)","v":0}]
[null,null,"6","K","310239211","Zamurovanie otvoru s plochou nad 1 do 4m2 v murive nadzákladného tehlami na maltu vápennocementovú",null,null,null,"m3",0.44,0,null,{"$f":"ROUND(L159*K159,3)","v":0},{"$nulls":5},"","znížená",null,{"$f":"V159*K159","v":0},1.8719600000000001,{"$f":"X159*K159","v":0.82366240000000002},0,{"$f":"Z159*K159","v":0},{"$nulls":16},"4",null,"K","2",null,null,null,"ROZPOCET",{"$nulls":5},{"$f":"IF(U159=\"základná\",N159,0)","v":0},{"$f":"IF(U159=\"znížená\",N159,0)","v":0},{"$f":"IF(U159=\"zákl. prenesená\",N159,0)","v":0},{"$f":"IF(U159=\"zníž. prenesená\",N159,0)","v":0},{"$f":"IF(U159=\"nulová\",N159,0)","v":0},"2",{"$f":"ROUND(L159*K159,3)","v":0},"4","798502966"]
[{"$nulls":4},"","Zamurovanie otvoru - vybúrané sklobet. tvárnice 0,55x2,00m",{"$nulls":4},"",{"$nulls":34},"VV","2","1","True","0","ROZPOCET"]
[{"$nulls":4},"","0,55*2,00*0,4",{"$nulls":4},0.44,{"$nulls":34},"VV","2","2","True","0","ROZPOCET"]
[{"$nulls":4},"","Súčet",{"$nulls":4},0.44,{"$nulls":34},"VV","2","4","True","1","ROZPOCET"]
[null,null,"7","K","311273115","Murivo nosné z tvárnic YTONG P+D s úchopnou kapsou na MC-5 a tenkovrst.,maltu YTONG hr.300 P2-350 (LAMBDA)",null,null,null,"m3",14.747999999999999,0,null,{"$f":"ROUND(L163*K163,3)","v":0},{"$nulls":5},"","znížená",null,{"$f":"V163*K163","v":0},0.48433999999999999,{"$f":"X163*K163","v":7.1430463199999998},0,{"$f":"Z163*K163","v":0},{"$nulls":16},"4",null,"K","2",null,null,null,"ROZPOCET",{"$nulls":5},{"$f":"IF(U163=\"základná\",N163,0)","v":0},{"$f":"IF(U163=\"znížená\",N163,0)","v":0},{"$f":"IF(U163=\"zákl. prenesená\",N163,0)","v":0},{"$f":"IF(U163=\"zníž. prenesená\",N163,0)","v":0},{"$f":"IF(U163=\"nulová\",N163,0)","v":0},"2",{"$f":"ROUND(L163*K163,3)","v":0},"4","-173251166"]
[{"$nulls":4},"","I.N.P.",{"$nulls":4},"",{"$nulls":34},"VV","2","1","True","0","ROZPOCET"]
[{"$nulls":4},"","(7,1*3,7)*0,3",{"$nulls":4},7.8810000000000002,{"$nulls":34},"VV","2","2","True","0","ROZPOCET"]
[{"$nulls":4},"","(3,3*2)*(5,9+3,6)/2*0,3",{"$nulls":4},9.4049999999999994,{"$nulls":34},"VV","2","2","True","0","ROZPOCET"]
[{"$nulls":4},"","Medzisúčet",{"$nulls":4},17.286000000000001,{"$nulls":34},"VV","2","3","True","0","ROZPOCET"]
[{"$nulls":4},"","Odpočet otvorov",{"$nulls":4},"",{"$nulls":34},"VV","2","1","True","0","ROZPOCET"]
[{"$nulls":4},"","-(1,2*0,6*2)*0,3",{"$nulls":4},-0.432,{"$nulls":34},"VV","2","2","True","0","ROZPOCET"]
[{"$nulls":4},"","-(2,6*2,7)*0,3",{"$nulls":4},-2.1059999999999999,{"$nulls":34},"VV","2","2","True","0","ROZPOCET"]
[{"$nulls":4},"","Medzisúčet",{"$nulls":4},-2.5379999999999998,{"$nulls":34},"VV","2","3","True","0","ROZPOCET"]
[{"$nulls":4},"","Súčet",{"$nulls":4},14.747999999999999,{"$nulls":34},"VV","2","4","True","1","ROZPOCET"]
[null,null,"8","K","317162140","Keramický preklad POROTHERM 23,8, šírky 70 mm, výšky 238 mm, dĺžky 3250 mm",null,null,null,"ks",3,0,null,{"$f":"ROUND(L173*K173,3)","v":0},{"$nulls":5},"","znížená",null,{"$f":"V173*K173","v":0},0.12672,{"$f":"X173*K173","v":0.38016},0,{"$f":"Z173*K173","v":0},{"$nulls":16},"4",null,"K","2",null,null,null,"ROZPOCET",{"$nulls":5},{"$f":"IF(U173=\"základná\",N173,0)","v":0},{"$f":"IF(U173=\"znížená\",N173,0)","v":0},{"$f":"IF(U173=\"zákl. prenesená\",N173,0)","v":0},{"$f":"IF(U173=\"zníž. prenesená\",N173,0)","v":0},{"$f":"IF(U173=\"nulová\",N173,0)","v":0},"2",{"$f":"ROUND(L173*K173,3)","v":0},"4","-1901914391"]
[null,null,"9","K","317165223","Nosný preklad YTONG šírky 300 mm, výšky 249 mm, dĺžky 1750 mm",null,null,null,"ks",2,0,null,{"$f":"ROUND(L174*K174,3)","v":0},{"$nulls":5},"","znížená",null,{"$f":"V174*K174","v":0},0.11149000000000001,{"$f":"X174*K174","v":0.22298000000000001},0,{"$f":"Z174*K174","v":0},{"$nulls":16},"4",null,"K","2",null,null,null,"ROZPOCET",{"$nulls":5},{"$f":"IF(U174=\"základná\",N174,0)","v":0},{"$f":"IF(U174=\"znížená\",N174,0)","v":0},{"$f":"IF(U174=\"zákl. prenesená\",N174,0)","v":0},{"$f":"IF(U174=\"zníž. prenesená\",N174,0)","v":0},{"$f":"IF(U174=\"nulová\",N174,0)","v":0},"2",{"$f":"ROUND(L174*K174,3)","v":0},"4","-820997910"]
[{"$nulls":4},"","Prístavba I.N.P. okná",{"$nulls":4},"",{"$nulls":34},"VV","2","1","True","0","ROZPOCET"]
[{"$nulls":4},"","2",{"$nulls":4},2,{"$nulls":34},"VV","2","2","True","0","ROZPOCET"]
[{"$nulls":4},"","Súčet",{"$nulls":4},2,{"$nulls":34},"VV","2","4","True","1","ROZPOCET"]
[null,null,null,"    4 - Vodorovné konštrukcie",{"$nulls":9},{"$f":"BK178","v":0},{"$nulls":8},{"$f":"SUM(W179:W197)","v":0},null,{"$f":"SUM(Y179:Y197)","v":2.8889286400000005},null,{"$f":"SUM(AA179:AA197)","v":0},{"$nulls":16},"1",null,"D","1",null,null,null,"ROZPOCET",{"$nulls":11},{"$f":"SUM(BK179:BK197)","v":0}]
[null,null,"10","K","417321414","Betón stužujúcich pásov a vencov železový tr. C 20/25",null,null,null,"m3",1.2150000000000001,0,null,{"$f":"ROUND(L179*K179,3)","v":0},{"$nulls":5},"","znížená",null,{"$f":"V179*K179","v":0},2.29698,{"$f":"X179*K179","v":2.7908307000000003},0,{"$f":"Z179*K179","v":0},{"$nulls":16},"4",null,"K","2",null,null,null,"ROZPOCET",{"$nulls":5},{"$f":"IF(U179=\"základná\",N179,0)","v":0},{"$f":"IF(U179=\"znížená\",N179,0)","v":0},{"$f":"IF(U179=\"zákl. prenesená\",N179,0)","v":0},{"$f":"IF(U179=\"zníž. prenesená\",N179,0)","v":0},{"$f":"IF(U179=\"nulová\",N179,0)","v":0},"2",{"$f":"ROUND(L179*K179,3)","v":0},"4","1024998883"]
[{"$nulls":4},"","Prístavba Veniec I.N.P.",{"$nulls":4},"",{"$nulls":34},"VV","2","1","True","0","ROZPOCET"]
[{"$nulls":4},"","(7,1+3,2*2)*0,30*0,30",{"$nulls":4},1.2150000000000001,{"$nulls":34},"VV","2","2","True","0","ROZPOCET"]
[{"$nulls":4},"","Súčet",{"$nulls":4},1.2150000000000001,{"$nulls":34},"VV","2","4","True","1","ROZPOCET"]
[null,null,"11","K","417351115","Debnenie bočníc stužujúcich pásov a vencov vrátane vzpier zhotovenie",null,null,null,"m2",8.0999999999999996,0,null,{"$f":"ROUND(L183*K183,3)","v":0},{"$nulls":5},"","znížená",null,{"$f":"V183*K183","v":0},0.0034099999999999998,{"$f":"X183*K183","v":0.027620999999999996},0,{"$f":"Z183*K183","v":0},{"$nulls":16},"4",null,"K","2",null,null,null,"ROZPOCET",{"$nulls":5},{"$f":"IF(U183=\"základná\",N183,0)","v":0},{"$f":"IF(U183=\"znížená\",N183,0)","v":0},{"$f":"IF(U183=\"zákl. prenesená\",N183,0)","v":0},{"$f":"IF(U183=\"zníž. prenesená\",N183,0)","v":0},{"$f":"IF(U183=\"nulová\",N183,0)","v":0},"2",{"$f":"ROUND(L183*K183,3)","v":0},"4","2083815832"]
[{"$nulls":4},"","Prístavba Veniec I.N.P.",{"$nulls":4},"",{"$nulls":34},"VV","2","1","True","0","ROZPOCET"]
[{"$nulls":4},"","(7,1+3,2*2)*0,30*2",{"$nulls":4},8.0999999999999996,{"$nulls":34},"VV","2","2","True","0","ROZPOCET"]
[{"$nulls":4},"","Súčet",{"$nulls":4},8.0999999999999996,{"$nulls":34},"VV","2","4","True","1","ROZPOCET"]
[null,null,"12","K","417351116","Debnenie bočníc stužujúcich pásov a vencov vrátane vzpier odstránenie",null,null,null,"m2",8.0999999999999996,0,null,{"$f":"ROUND(L187*K187,3)","v":0},{"$nulls":5},"","znížená",null,{"$f":"V187*K187","v":0},0,{"$f":"X187*K187","v":0},0,{"$f":"Z187*K187","v":0},{"$nulls":16},"4",null,"K","2",null,null,null,"ROZPOCET",{"$nulls":5},{"$f":"IF(U187=\"základná\",N187,0)","v":0},{"$f":"IF(U187=\"znížená\",N187,0)","v":0},{"$f":"IF(U187=\"zákl. prenesená\",N187,0)","v":0},{"$f":"IF(U187=\"zníž. prenesená\",N187,0)","v":0},{"$f":"IF(U187=\"nulová\",N187,0)","v":0},"2",{"$f":"ROUND(L187*K187,3)","v":0},"4","-1076478178"]
[null,null,"13","K","417361821","Výstuž stužujúcich pásov a vencov z betonárskej ocele 10505",null,null,null,"t",0.066000000000000003,0,null,{"$f":"ROUND(L188*K188,3)","v":0},{"$nulls":5},"","znížená",null,{"$f":"V188*K188","v":0},1.01684,{"$f":"X188*K188","v":0.067111439999999994},0,{"$f":"Z188*K188","v":0},{"$nulls":16},"4",null,"K","2",null,null,null,"ROZPOCET",{"$nulls":5},{"$f":"IF(U188=\"základná\",N188,0)","v":0},{"$f":"IF(U188=\"znížená\",N188,0)","v":0},{"$f":"IF(U188=\"zákl. prenesená\",N188,0)","v":0},{"$f":"IF(U188=\"zníž. prenesená\",N188,0)","v":0},{"$f":"IF(U188=\"nulová\",N188,0)","v":0},"2",{"$f":"ROUND(L188*K188,3)","v":0},"4","-1389458921"]
[{"$nulls":4},"","Prístavba veniec I.N.P.",{"$nulls":4},"",{"$nulls":34},"VV","2","1","True","0","ROZPOCET"]
[{"$nulls":4},"","14,2*4*0,89/1000",{"$nulls":4},0.050999999999999997,{"$nulls":34},"VV","2","2","True","0","ROZPOCET"]
[{"$nulls":4},"","(7,1+3,2*2)/0,200*0,22/1000",{"$nulls":4},0.014999999999999999,{"$nulls":34},"VV","2","2","True","0","ROZPOCET"]
[{"$nulls":4},"","Súčet",{"$nulls":4},0.066000000000000003,{"$nulls":34},"VV","2","4","True","1","ROZPOCET"]
[null,null,"14","K","417391121","Montáž obkladu betónových konštrukcií vykonaný súčasne s betónovaním Kombidoskou KD",null,null,null,"m2",4.0499999999999998,0,null,{"$f":"ROUND(L193*K193,3)","v":0},{"$nulls":5},"","znížená",null,{"$f":"V193*K193","v":0},0.00014999999999999999,{"$f":"X193*K193","v":0.00060749999999999997},0,{"$f":"Z193*K193","v":0},{"$nulls":16},"4",null,"K","2",null,null,null,"ROZPOCET",{"$nulls":5},{"$f":"IF(U193=\"základná\",N193,0)","v":0},{"$f":"IF(U193=\"znížená\",N193,0)","v":0},{"$f":"IF(U193=\"zákl. prenesená\",N193,0)","v":0},{"$f":"IF(U193=\"zníž. prenesená\",N193,0)","v":0},{"$f":"IF(U193=\"nulová\",N193,0)","v":0},"2",{"$f":"ROUND(L193*K193,3)","v":0},"4","1970539930"]
[{"$nulls":4},"","Prístavba Veniec I.N.P.",{"$nulls":4},"",{"$nulls":34},"VV","2","1","True","0","ROZPOCET"]
[{"$nulls":4},"","(7,1+3,2*2)*0,30",{"$nulls":4},4.0499999999999998,{"$nulls":34},"VV","2","2","True","0","ROZPOCET"]
[{"$nulls":4},"","Súčet",{"$nulls":4},4.0499999999999998,{"$nulls":34},"VV","2","4","True","1","ROZPOCET"]
[null,null,"15","M","5959040055","KOMBIDOSKA KD 50 drevocementová doska s polystyrénom 500x2000 mm, hr. 50 mm (doska 10 mm)",null,null,null,"m2",0.39400000000000002,0,null,{"$f":"ROUND(L197*K197,3)","v":0},{"$nulls":5},"","znížená",null,{"$f":"V197*K197","v":0},0.0070000000000000001,{"$f":"X197*K197","v":0.002758},0,{"$f":"Z197*K197","v":0},{"$nulls":16},"8",null,"M","2",null,null,null,"ROZPOCET",{"$nulls":5},{"$f":"IF(U197=\"základná\",N197,0)","v":0},{"$f":"IF(U197=\"znížená\",N197,0)","v":0},{"$f":"IF(U197=\"zákl. prenesená\",N197,0)","v":0},{"$f":"IF(U197=\"zníž. prenesená\",N197,0)","v":0},{"$f":"IF(U197=\"nulová\",N197,0)","v":0},"2",{"$f":"ROUND(L197*K197,3)","v":0},"4","1985624620"]
[null,null,null,"    6 - Úpravy povrchov, podlahy, osadenie",{"$nulls":9},{"$f":"BK198","v":0},{"$nulls":8},{"$f":"SUM(W199:W271)","v":0},null,{"$f":"SUM(Y199:Y271)","v":18.85454644},null,{"$f":"SUM(AA199:AA271)","v":0},{"$nulls":16},"1",null,"D","1",null,null,null,"ROZPOCET",{"$nulls":11},{"$f":"SUM(BK199:BK271)","v":0}]
[null,null,"16","K","612425931","Omietka vápenná vnútorného ostenia okenného alebo dverného štuková",null,null,null,"m2",6.3899999999999997,0,null,{"$f":"ROUND(L199*K199,3)","v":0},{"$nulls":5},"","znížená",null,{"$f":"V199*K199","v":0},0.037560000000000003,{"$f":"X199*K199","v":0.24000840000000001},0,{"$f":"Z199*K199","v":0},{"$nulls":16},"4",null,"K","2",null,null,null,"ROZPOCET",{"$nulls":5},{"$f":"IF(U199=\"základná\",N199,0)","v":0},{"$f":"IF(U199=\"znížená\",N199,0)","v":0},{"$f":"IF(U199=\"zákl. prenesená\",N199,0)","v":0},{"$f":"IF(U199=\"zníž. prenesená\",N199,0)","v":0},{"$f":"IF(U199=\"nulová\",N199,0)","v":0},"2",{"$f":"ROUND(L199*K199,3)","v":0},"4","1871016166"]
[{"$nulls":4},"","Omietka ostenia okien a dverí vnútorná",{"$nulls":4},"",{"$nulls":34},"VV","2","1","True","0","ROZPOCET"]
[{"$nulls":4},"","((0,9+2,2*2+1,3*2+1,2*2+(1,2+0,)*2+8))*0,2",{"$nulls":4},4.1399999999999997,{"$nulls":34},"VV","2","2","True","0","ROZPOCET"]
[{"$nulls":4},"","Zamurovanie otvoru - vybúrané sklobet. tvárnice omietka",{"$nulls":4},"",{"$nulls":34},"VV","2","1","True","0","ROZPOCET"]
[{"$nulls":4},"","0,90*2,50",{"$nulls":4},2.25,{"$nulls":34},"VV","2","2","True","0","ROZPOCET"]
[{"$nulls":4},"","Súčet",{"$nulls":4},6.3899999999999997,{"$nulls":34},"VV","2","4","True","1","ROZPOCET"]
[null,null,"17","K","612465116","Príprava vnútorného podkladu stien BAUMIT, Univerzálny základ (Baumit UniPrimer)",null,null,null,"m2",54.130000000000003,0,null,{"$f":"ROUND(L205*K205,3)","v":0},{"$nulls":5},"","znížená",null,{"$f":"V205*K205","v":0},0.00040000000000000002,{"$f":"X205*K205","v":0.021652000000000001},0,{"$f":"Z205*K205","v":0},{"$nulls":16},"4",null,"K","2",null,null,null,"ROZPOCET",{"$nulls":5},{"$f":"IF(U205=\"základná\",N205,0)","v":0},{"$f":"IF(U205=\"znížená\",N205,0)","v":0},{"$f":"IF(U205=\"zákl. prenesená\",N205,0)","v":0},{"$f":"IF(U205=\"zníž. prenesená\",N205,0)","v":0},{"$f":"IF(U205=\"nulová\",N205,0)","v":0},"2",{"$f":"ROUND(L205*K205,3)","v":0},"4","1200562851"]
[{"$nulls":4},"","Omietka ostenia okien a dverí vnútorná",{"$nulls":4},"",{"$nulls":34},"VV","2","1","True","0","ROZPOCET"]
[{"$nulls":4},"","((0,9+2,2*2+1,3*2+1,2*2+(1,2+0,6)*2+8))*0,2",{"$nulls":4},4.3799999999999999,{"$nulls":34},"VV","2","2","True","0","ROZPOCET"]
[{"$nulls":4},"","Zamurovanie otvoru - vybúrané sklobet. tvárnice omietka",{"$nulls":4},"",{"$nulls":34},"VV","2","1","True","0","ROZPOCET"]
[{"$nulls":4},"","0,90*2,50",{"$nulls":4},2.25,{"$nulls":34},"VV","2","2","True","0","ROZPOCET"]
[{"$nulls":4},"","Prístavba",{"$nulls":4},"",{"$nulls":34},"VV","2","1","True","0","ROZPOCET"]
[{"$nulls":4},"","(7,1*3,6)",{"$nulls":4},25.559999999999999,{"$nulls":34},"VV","2","2","True","0","ROZPOCET"]
[{"$nulls":4},"","(3,2*2)*(5,9+3,6)/2",{"$nulls":4},30.399999999999999,{"$nulls":34},"VV","2","2","True","0","ROZPOCET"]
[{"$nulls":4},"","Medzisúčet",{"$nulls":4},62.590000000000003,{"$nulls":34},"VV","2","3","True","0","ROZPOCET"]
[{"$nulls":4},"","Odpočet otvorov",{"$nulls":4},"",{"$nulls":34},"VV","2","1","True","0","ROZPOCET"]
[{"$nulls":4},"","-(1,2*0,6*2)",{"$nulls":4},-1.44,{"$nulls":34},"VV","2","2","True","0","ROZPOCET"]
[{"$nulls":4},"","-(2,6*2,7)",{"$nulls":4},-7.0199999999999996,{"$nulls":34},"VV","2","2","True","0","ROZPOCET"]
[{"$nulls":4},"","Medzisúčet",{"$nulls":4},-8.4600000000000009,{"$nulls":34},"VV","2","3","True","0","ROZPOCET"]
[{"$nulls":4},"","Súčet",{"$nulls":4},54.130000000000003,{"$nulls":34},"VV","2","4","True","1","ROZPOCET"]
[null,null,"18","K","612465136","Vnútorná omietka stien BAUMIT, vápennocementová, strojné miešanie, ručné nanášanie, Baumit MVR Uni (Baumit MVR Uni) hr. 10 mm",null,null,null,"m2",54.130000000000003,0,null,{"$f":"ROUND(L219*K219,3)","v":0},{"$nulls":5},"","znížená",null,{"$f":"V219*K219","v":0},0.01312,{"$f":"X219*K219","v":0.71018559999999997},0,{"$f":"Z219*K219","v":0},{"$nulls":16},"4",null,"K","2",null,null,null,"ROZPOCET",{"$nulls":5},{"$f":"IF(U219=\"základná\",N219,0)","v":0},{"$f":"IF(U219=\"znížená\",N219,0)","v":0},{"$f":"IF(U219=\"zákl. prenesená\",N219,0)","v":0},{"$f":"IF(U219=\"zníž. prenesená\",N219,0)","v":0},{"$f":"IF(U219=\"nulová\",N219,0)","v":0},"2",{"$f":"ROUND(L219*K219,3)","v":0},"4","1552286435"]
[null,null,"19","K","621462146","Vonkajšia omietka podhľadov tenkovrstvová BAUMIT, strojné nanášanie, Baumit Vápenná tenkovrstvová omietka (Baumit KalkDünnputz) hr. 8 mm",null,null,null,"m2",79.674999999999997,0,null,{"$f":"ROUND(L220*K220,3)","v":0},{"$nulls":5},"","znížená",null,{"$f":"V220*K220","v":0},0.0092399999999999999,{"$f":"X220*K220","v":0.73619699999999999},0,{"$f":"Z220*K220","v":0},{"$nulls":16},"4",null,"K","2",null,null,null,"ROZPOCET",{"$nulls":5},{"$f":"IF(U220=\"základná\",N220,0)","v":0},{"$f":"IF(U220=\"znížená\",N220,0)","v":0},{"$f":"IF(U220=\"zákl. prenesená\",N220,0)","v":0},{"$f":"IF(U220=\"zníž. prenesená\",N220,0)","v":0},{"$f":"IF(U220=\"nulová\",N220,0)","v":0},"2",{"$f":"ROUND(L220*K220,3)","v":0},"4","821571941"]
[{"$nulls":4},"","Omietka vonkajšia ostenia okien a dverí",{"$nulls":4},"",{"$nulls":34},"VV","2","1","True","0","ROZPOCET"]
[{"$nulls":4},"","((0,9+2,2*2+1,3*2+1,2*2+(1,2+0,)*2+8))*0,45",{"$nulls":4},9.3149999999999995,{"$nulls":34},"VV","2","2","True","0","ROZPOCET"]
[{"$nulls":4},"","3,3*3*0,8+3,3*3*0,8",{"$nulls":4},15.84,{"$nulls":34},"VV","2","2","True","0","ROZPOCET"]
[{"$nulls":4},"","Zamurovanie otvoru - vybúrané sklobet. tvárnice omietka",{"$nulls":4},"",{"$nulls":34},"VV","2","1","True","0","ROZPOCET"]
[{"$nulls":4},"","0,90*2,50",{"$nulls":4},2.25,{"$nulls":34},"VV","2","2","True","0","ROZPOCET"]
[{"$nulls":4},"","Prístavba okná",{"$nulls":4},"",{"$nulls":34},"VV","2","1","True","0","ROZPOCET"]
[{"$nulls":4},"","(1,2+0,6)*2*2*0,3",{"$nulls":4},2.1600000000000001,{"$nulls":34},"VV","2","2","True","0","ROZPOCET"]
[{"$nulls":4},"","(2,7+2,6*2)*0,3",{"$nulls":4},2.3700000000000001,{"$nulls":34},"VV","2","2","True","0","ROZPOCET"]
[{"$nulls":4},"","Medzisúčet",{"$nulls":4},31.934999999999999,{"$nulls":34},"VV","2","3","True","0","ROZPOCET"]
[{"$nulls":4},"","Prístavba obvodové steny",{"$nulls":4},"",{"$nulls":34},"VV","2","1","True","0","ROZPOCET"]
[{"$nulls":4},"","(7,1*3,5)",{"$nulls":4},24.850000000000001,{"$nulls":34},"VV","2","2","True","0","ROZPOCET"]
[{"$nulls":4},"","(3,3*2)*(5,9+3,6)/2",{"$nulls":4},31.350000000000001,{"$nulls":34},"VV","2","2","True","0","ROZPOCET"]
[{"$nulls":4},"","Medzisúčet",{"$nulls":4},56.200000000000003,{"$nulls":34},"VV","2","3","True","0","ROZPOCET"]
[{"$nulls":4},"","Odpočet otvorov",{"$nulls":4},"",{"$nulls":34},"VV","2","1","True","0","ROZPOCET"]
[{"$nulls":4},"","-(1,2*0,6*2)",{"$nulls":4},-1.44,{"$nulls":34},"VV","2","2","True","0","ROZPOCET"]
[{"$nulls":4},"","-(2,6*2,7)",{"$nulls":4},-7.0199999999999996,{"$nulls":34},"VV","2","2","True","0","ROZPOCET"]
[{"$nulls":4},"","Medzisúčet",{"$nulls":4},-8.4600000000000009,{"$nulls":34},"VV","2","3","True","0","ROZPOCET"]
[{"$nulls":4},"","Súčet",{"$nulls":4},79.674999999999997,{"$nulls":34},"VV","2","4","True","1","ROZPOCET"]
[null,null,"20","K","622401121","Príplatok k vonkajšej omietke stien za hydrofobnú prísadu do štukovej vrstvy",null,null,null,"m2",79.674999999999997,0,null,{"$f":"ROUND(L239*K239,3)","v":0},{"$nulls":5},"","znížená",null,{"$f":"V239*K239","v":0},4.0000000000000003E-05,{"$f":"X239*K239","v":0.0031870000000000002},0,{"$f":"Z239*K239","v":0},{"$nulls":16},"4",null,"K","2",null,null,null,"ROZPOCET",{"$nulls":5},{"$f":"IF(U239=\"základná\",N239,0)","v":0},{"$f":"IF(U239=\"znížená\",N239,0)","v":0},{"$f":"IF(U239=\"zákl. prenesená\",N239,0)","v":0},{"$f":"IF(U239=\"zníž. prenesená\",N239,0)","v":0},{"$f":"IF(U239=\"nulová\",N239,0)","v":0},"2",{"$f":"ROUND(L239*K239,3)","v":0},"4","-358620116"]
[null,null,"21","K","625251222","Kontaktný zatepľovací systém ostenia hr. 20 mm BAUMIT OPEN - HIGH TECH riešenie (grafitový EPS-F)",null,null,null,"m2",17.73,0,null,{"$f":"ROUND(L240*K240,3)","v":0},{"$nulls":5},"","znížená",null,{"$f":"V240*K240","v":0},0.01043,{"$f":"X240*K240","v":0.1849239},0,{"$f":"Z240*K240","v":0},{"$nulls":16},"4",null,"K","2",null,null,null,"ROZPOCET",{"$nulls":5},{"$f":"IF(U240=\"základná\",N240,0)","v":0},{"$f":"IF(U240=\"znížená\",N240,0)","v":0},{"$f":"IF(U240=\"zákl. prenesená\",N240,0)","v":0},{"$f":"IF(U240=\"zníž. prenesená\",N240,0)","v":0},{"$f":"IF(U240=\"nulová\",N240,0)","v":0},"2",{"$f":"ROUND(L240*K240,3)","v":0},"4","-1181742841"]
[{"$nulls":4},"","Omietka ostenia okien adverí",{"$nulls":4},"",{"$nulls":34},"VV","2","1","True","0","ROZPOCET"]
[{"$nulls":4},"","((0,9+2,2*2+1,3*2+1,2*2+(1,2+0,6)*2*8))*0,15",{"$nulls":4},5.8650000000000002,{"$nulls":34},"VV","2","2","True","0","ROZPOCET"]
[{"$nulls":4},"","3,3*3*0,4+3,3*3*0,45",{"$nulls":4},8.4149999999999991,{"$nulls":34},"VV","2","2","True","0","ROZPOCET"]
[{"$nulls":4},"","Prístavba",{"$nulls":4},"",{"$nulls":34},"VV","2","1","True","0","ROZPOCET"]
[{"$nulls":4},"","(1,2+0,6)*2*2*0,15",{"$nulls":4},1.0800000000000001,{"$nulls":34},"VV","2","2","True","0","ROZPOCET"]
[{"$nulls":4},"","(2,7+2,6*2)*0,3",{"$nulls":4},2.3700000000000001,{"$nulls":34},"VV","2","2","True","0","ROZPOCET"]
[{"$nulls":4},"","Súčet",{"$nulls":4},17.73,{"$nulls":34},"VV","2","4","True","1","ROZPOCET"]
[null,null,"22","K","631315661","Mazanina z betónu prostého (m3) tr. C 20/25 hr.nad 120 do 240 mm",null,null,null,"m3",3.7280000000000002,0,null,{"$f":"ROUND(L248*K248,3)","v":0},{"$nulls":5},"","znížená",null,{"$f":"V248*K248","v":0},2.2404799999999998,{"$f":"X248*K248","v":8.3525094400000004},0,{"$f":"Z248*K248","v":0},{"$nulls":16},"4",null,"K","2",null,null,null,"ROZPOCET",{"$nulls":5},{"$f":"IF(U248=\"základná\",N248,0)","v":0},{"$f":"IF(U248=\"znížená\",N248,0)","v":0},{"$f":"IF(U248=\"zákl. prenesená\",N248,0)","v":0},{"$f":"IF(U248=\"zníž. prenesená\",N248,0)","v":0},{"$f":"IF(U248=\"nulová\",N248,0)","v":0},"2",{"$f":"ROUND(L248*K248,3)","v":0},"4","-1161713192"]
[{"$nulls":4},"","Prístavba Podkladný betón- základy I.N.P.",{"$nulls":4},"",{"$nulls":34},"VV","2","1","True","0","ROZPOCET"]
[{"$nulls":4},"","(3,5*7,1)*0,15",{"$nulls":4},3.7280000000000002,{"$nulls":34},"VV","2","2","True","0","ROZPOCET"]
[{"$nulls":4},"","Súčet",{"$nulls":4},3.7280000000000002,{"$nulls":34},"VV","2","4","True","1","ROZPOCET"]
[null,null,"23","K","631319175","Príplatok za strhnutie povrchu mazaniny latou pre hr. obidvoch vrstiev mazaniny nad 120 do 240 mm",null,null,null,"m3",3.7280000000000002,0,null,{"$f":"ROUND(L252*K252,3)","v":0},{"$nulls":5},"","znížená",null,{"$f":"V252*K252","v":0},0,{"$f":"X252*K252","v":0},0,{"$f":"Z252*K252","v":0},{"$nulls":16},"4",null,"K","2",null,null,null,"ROZPOCET",{"$nulls":5},{"$f":"IF(U252=\"základná\",N252,0)","v":0},{"$f":"IF(U252=\"znížená\",N252,0)","v":0},{"$f":"IF(U252=\"zákl. prenesená\",N252,0)","v":0},{"$f":"IF(U252=\"zníž. prenesená\",N252,0)","v":0},{"$f":"IF(U252=\"nulová\",N252,0)","v":0},"2",{"$f":"ROUND(L252*K252,3)","v":0},"4","1497345095"]
[null,null,"24","K","631325745","Mazanina z betónu prostého (m2) vystužená oceľovými vláknami (Dramix), betón tr. C 25/30 hr. 100 mm",null,null,null,"m2",21.120000000000001,0,null,{"$f":"ROUND(L253*K253,3)","v":0},{"$nulls":5},"","znížená",null,{"$f":"V253*K253","v":0},0.24442,{"$f":"X253*K253","v":5.1621503999999998},0,{"$f":"Z253*K253","v":0},{"$nulls":16},"4",null,"K","2",null,null,null,"ROZPOCET",{"$nulls":5},{"$f":"IF(U253=\"základná\",N253,0)","v":0},{"$f":"IF(U253=\"znížená\",N253,0)","v":0},{"$f":"IF(U253=\"zákl. prenesená\",N253,0)","v":0},{"$f":"IF(U253=\"zníž. prenesená\",N253,0)","v":0},{"$f":"IF(U253=\"nulová\",N253,0)","v":0},"2",{"$f":"ROUND(L253*K253,3)","v":0},"4","667360210"]
[{"$nulls":4},"","Prístavba podlaha",{"$nulls":4},"",{"$nulls":34},"VV","2","1","True","0","ROZPOCET"]
[{"$nulls":4},"","6,6*3,2",{"$nulls":4},21.120000000000001,{"$nulls":34},"VV","2","2","True","0","ROZPOCET"]
[{"$nulls":4},"","Súčet",{"$nulls":4},21.120000000000001,{"$nulls":34},"VV","2","4","True","1","ROZPOCET"]
[null,null,"25","K","631362442","Výstuž mazanín z betónov (z kameniva) a z ľahkých betónov zo sietí KARI, priemer drôtu 8/8 mm, veľkosť oka 150x150 mm",null,null,null,"m2",33.310000000000002,0,null,{"$f":"ROUND(L257*K257,3)","v":0},{"$nulls":5},"","znížená",null,{"$f":"V257*K257","v":0},0.0062700000000000004,{"$f":"X257*K257","v":0.20885370000000003},0,{"$f":"Z257*K257","v":0},{"$nulls":16},"4",null,"K","2",null,null,null,"ROZPOCET",{"$nulls":5},{"$f":"IF(U257=\"základná\",N257,0)","v":0},{"$f":"IF(U257=\"znížená\",N257,0)","v":0},{"$f":"IF(U257=\"zákl. prenesená\",N257,0)","v":0},{"$f":"IF(U257=\"zníž. prenesená\",N257,0)","v":0},{"$f":"IF(U257=\"nulová\",N257,0)","v":0},"2",{"$f":"ROUND(L257*K257,3)","v":0},"4","654299732"]
[{"$nulls":4},"","Prístavba Podkladný betón- základy I.N.P.",{"$nulls":4},"",{"$nulls":34},"VV","2","1","True","0","ROZPOCET"]
[{"$nulls":4},"","(3,5*7,1)",{"$nulls":4},24.850000000000001,{"$nulls":34},"VV","2","2","True","0","ROZPOCET"]
[{"$nulls":4},"","(3,5*2+7,1)*0,6",{"$nulls":4},8.4600000000000009,{"$nulls":34},"VV","2","2","True","0","ROZPOCET"]
[{"$nulls":4},"","Súčet",{"$nulls":4},33.310000000000002,{"$nulls":34},"VV","2","4","True","1","ROZPOCET"]
[null,null,"26","K","631571003","Násyp zo štrkopiesku 0-32 (pre spevnenie podkladu)",null,null,null,"m3",1.7110000000000001,0,null,{"$f":"ROUND(L262*K262,3)","v":0},{"$nulls":5},"","znížená",null,{"$f":"V262*K262","v":0},1.837,{"$f":"X262*K262","v":3.1431070000000001},0,{"$f":"Z262*K262","v":0},{"$nulls":16},"4",null,"K","2",null,null,null,"ROZPOCET",{"$nulls":5},{"$f":"IF(U262=\"základná\",N262,0)","v":0},{"$f":"IF(U262=\"znížená\",N262,0)","v":0},{"$f":"IF(U262=\"zákl. prenesená\",N262,0)","v":0},{"$f":"IF(U262=\"zníž. prenesená\",N262,0)","v":0},{"$f":"IF(U262=\"nulová\",N262,0)","v":0},"2",{"$f":"ROUND(L262*K262,3)","v":0},"4","1129630360"]
[{"$nulls":4},"","Prístavba - Podkladný násyp so zhutnením základy",{"$nulls":4},"",{"$nulls":34},"VV","2","1","True","0","ROZPOCET"]
[{"$nulls":4},"","5,9*2,9*0,10",{"$nulls":4},1.7110000000000001,{"$nulls":34},"VV","2","2","True","0","ROZPOCET"]
[{"$nulls":4},"","Súčet",{"$nulls":4},1.7110000000000001,{"$nulls":34},"VV","2","4","True","1","ROZPOCET"]
[null,null,"27","K","632450281","Samonivelizačná podlahová stierka Baumit Nivello 10, triedy CT-C30-F7 , hr. 2 mm",null,null,null,"m2",20.800000000000001,0,null,{"$f":"ROUND(L266*K266,3)","v":0},{"$nulls":5},"","znížená",null,{"$f":"V266*K266","v":0},0.0030899999999999999,{"$f":"X266*K266","v":0.064271999999999996},0,{"$f":"Z266*K266","v":0},{"$nulls":16},"4",null,"K","2",null,null,null,"ROZPOCET",{"$nulls":5},{"$f":"IF(U266=\"základná\",N266,0)","v":0},{"$f":"IF(U266=\"znížená\",N266,0)","v":0},{"$f":"IF(U266=\"zákl. prenesená\",N266,0)","v":0},{"$f":"IF(U266=\"zníž. prenesená\",N266,0)","v":0},{"$f":"IF(U266=\"nulová\",N266,0)","v":0},"2",{"$f":"ROUND(L266*K266,3)","v":0},"4","-250468290"]
[{"$nulls":4},"","Prístavba -Podlaha",{"$nulls":4},"",{"$nulls":34},"VV","2","1","True","0","ROZPOCET"]
[{"$nulls":4},"","6,5*3,2",{"$nulls":4},20.800000000000001,{"$nulls":34},"VV","2","2","True","0","ROZPOCET"]
[{"$nulls":4},"","Súčet",{"$nulls":4},20.800000000000001,{"$nulls":34},"VV","2","4","True","1","ROZPOCET"]
[null,null,"28","K","642942111","Osadenie oceľovej dverovej zárubne alebo rámu, plochy otvoru do 2,5 m2",null,null,null,"ks",1,0,null,{"$f":"ROUND(L270*K270,3)","v":0},{"$nulls":5},"","znížená",null,{"$f":"V270*K270","v":0},0.017500000000000002,{"$f":"X270*K270","v":0.017500000000000002},0,{"$f":"Z270*K270","v":0},{"$nulls":16},"4",null,"K","2",null,null,null,"ROZPOCET",{"$nulls":5},{"$f":"IF(U270=\"základná\",N270,0)","v":0},{"$f":"IF(U270=\"znížená\",N270,0)","v":0},{"$f":"IF(U270=\"zákl. prenesená\",N270,0)","v":0},{"$f":"IF(U270=\"zníž. prenesená\",N270,0)","v":0},{"$f":"IF(U270=\"nulová\",N270,0)","v":0},"2",{"$f":"ROUND(L270*K270,3)","v":0},"4","1868184355"]
[null,null,"29","M","5533108680","Kovová zárubňa šírky 300-1195 mm, výšky 500-1970 a 2100 mm, jednodielne zamurovacie",null,null,null,"ks",1,0,null,{"$f":"ROUND(L271*K271,3)","v":0},{"$nulls":5},"","znížená",null,{"$f":"V271*K271","v":0},0.01,{"$f":"X271*K271","v":0.01},0,{"$f":"Z271*K271","v":0},{"$nulls":16},"8",null,"M","2",null,null,null,"ROZPOCET",{"$nulls":5},{"$f":"IF(U271=\"základná\",N271,0)","v":0},{"$f":"IF(U271=\"znížená\",N271,0)","v":0},{"$f":"IF(U271=\"zákl. prenesená\",N271,0)","v":0},{"$f":"IF(U271=\"zníž. prenesená\",N271,0)","v":0},{"$f":"IF(U271=\"nulová\",N271,0)","v":0},"2",{"$f":"ROUND(L271*K271,3)","v":0},"4","-1691024608"]
[null,null,null,"    9 - Ostatné konštrukcie a práce-búranie",{"$nulls":9},{"$f":"BK272","v":0},{"$nulls":8},{"$f":"SUM(W273:W339)","v":0},null,{"$f":"SUM(Y273:Y339)","v":1.5238413},null,{"$f":"SUM(AA273:AA339)","v":1.8395280000000001},{"$nulls":16},"1",null,"D","1",null,null,null,"ROZPOCET",{"$nulls":11},{"$f":"SUM(BK273:BK339)","v":0}]
[null,null,"30","K","941941041","Montáž lešenia ľahkého pracovného radového s podlahami šírky nad 1,00 do 1,20 m, výšky do 10 m",null,null,null,"m2",56.490000000000002,0,null,{"$f":"ROUND(L273*K273,3)","v":0},{"$nulls":5},"","znížená",null,{"$f":"V273*K273","v":0},0.02572,{"$f":"X273*K273","v":1.4529228000000001},0,{"$f":"Z273*K273","v":0},{"$nulls":16},"4",null,"K","2",null,null,null,"ROZPOCET",{"$nulls":5},{"$f":"IF(U273=\"základná\",N273,0)","v":0},{"$f":"IF(U273=\"znížená\",N273,0)","v":0},{"$f":"IF(U273=\"zákl. prenesená\",N273,0)","v":0},{"$f":"IF(U273=\"zníž. prenesená\",N273,0)","v":0},{"$f":"IF(U273=\"nulová\",N273,0)","v":0},"2",{"$f":"ROUND(L273*K273,3)","v":0},"4","1420850890"]
[{"$nulls":4},"","vonkajšie lešenie",{"$nulls":4},"",{"$nulls":34},"VV","2","1","True","0","ROZPOCET"]
[{"$nulls":4},"","Prístavba",{"$nulls":4},"",{"$nulls":34},"VV","2","1","True","0","ROZPOCET"]
[{"$nulls":4},"","7,1*3,5+3,5*4,52*2",{"$nulls":4},56.490000000000002,{"$nulls":34},"VV","2","2","True","0","ROZPOCET"]
[{"$nulls":4},"","Súčet",{"$nulls":4},56.490000000000002,{"$nulls":34},"VV","2","4","True","1","ROZPOCET"]
[null,null,"31","K","941941291","Príplatok za prvý a každý ďalší i začatý mesiac použitia lešenia ľahkého pracovného radového s podlahami šírky nad 1,00 do 1,20 m, výšky do 10 m",null,null,null,"m2",154.37000000000001,0,null,{"$f":"ROUND(L278*K278,3)","v":0},{"$nulls":5},"","znížená",null,{"$f":"V278*K278","v":0},0,{"$f":"X278*K278","v":0},0,{"$f":"Z278*K278","v":0},{"$nulls":16},"4",null,"K","2",null,null,null,"ROZPOCET",{"$nulls":5},{"$f":"IF(U278=\"základná\",N278,0)","v":0},{"$f":"IF(U278=\"znížená\",N278,0)","v":0},{"$f":"IF(U278=\"zákl. prenesená\",N278,0)","v":0},{"$f":"IF(U278=\"zníž. prenesená\",N278,0)","v":0},{"$f":"IF(U278=\"nulová\",N278,0)","v":0},"2",{"$f":"ROUND(L278*K278,3)","v":0},"4","-1360354518"]
[null,null,"32","K","941955001","Lešenie ľahké pracovné pomocné, s výškou lešeňovej podlahy do 1,20 m",null,null,null,"m2",20.25,0,null,{"$f":"ROUND(L279*K279,3)","v":0},{"$nulls":5},"","znížená",null,{"$f":"V279*K279","v":0},0.0015299999999999999,{"$f":"X279*K279","v":0.030982499999999996},0,{"$f":"Z279*K279","v":0},{"$nulls":16},"4",null,"K","2",null,null,null,"ROZPOCET",{"$nulls":5},{"$f":"IF(U279=\"základná\",N279,0)","v":0},{"$f":"IF(U279=\"znížená\",N279,0)","v":0},{"$f":"IF(U279=\"zákl. prenesená\",N279,0)","v":0},{"$f":"IF(U279=\"zníž. prenesená\",N279,0)","v":0},{"$f":"IF(U279=\"nulová\",N279,0)","v":0},"2",{"$f":"ROUND(L279*K279,3)","v":0},"4","301908221"]
[{"$nulls":4},"","2.N.P. ",{"$nulls":4},"",{"$nulls":34},"VV","2","1","True","0","ROZPOCET"]
[{"$nulls":4},"","(7,00+1,5+2,00+1,5+1,5)*1,5",{"$nulls":4},20.25,{"$nulls":34},"VV","2","2","True","0","ROZPOCET"]
[{"$nulls":4},"","Súčet",{"$nulls":4},20.25,{"$nulls":34},"VV","2","4","True","1","ROZPOCET"]
[null,null,"33","K","941955002","Lešenie ľahké pracovné pomocné s výškou lešeňovej podlahy nad 1,20 do 1,90 m",null,null,null,"m2",20.800000000000001,0,null,{"$f":"ROUND(L283*K283,3)","v":0},{"$nulls":5},"","znížená",null,{"$f":"V283*K283","v":0},0.0019200000000000001,{"$f":"X283*K283","v":0.039935999999999999},0,{"$f":"Z283*K283","v":0},{"$nulls":16},"4",null,"K","2",null,null,null,"ROZPOCET",{"$nulls":5},{"$f":"IF(U283=\"základná\",N283,0)","v":0},{"$f":"IF(U283=\"znížená\",N283,0)","v":0},{"$f":"IF(U283=\"zákl. prenesená\",N283,0)","v":0},{"$f":"IF(U283=\"zníž. prenesená\",N283,0)","v":0},{"$f":"IF(U283=\"nulová\",N283,0)","v":0},"2",{"$f":"ROUND(L283*K283,3)","v":0},"4","-1701709606"]
[{"$nulls":4},"","Prístavba",{"$nulls":4},"",{"$nulls":34},"VV","2","1","True","0","ROZPOCET"]
[{"$nulls":4},"","3,2*6,5",{"$nulls":4},20.800000000000001,{"$nulls":34},"VV","2","2","True","0","ROZPOCET"]
[{"$nulls":4},"","Súčet",{"$nulls":4},20.800000000000001,{"$nulls":34},"VV","2","4","True","1","ROZPOCET"]
[null,null,"34","K","962081141","Búranie muriva priečok zo sklenených tvárnic, hr. do 150 mm,  -0,08200t",null,null,null,"m2",1.1000000000000001,0,null,{"$f":"ROUND(L287*K287,3)","v":0},{"$nulls":5},"","znížená",null,{"$f":"V287*K287","v":0},0,{"$f":"X287*K287","v":0},0.082000000000000003,{"$f":"Z287*K287","v":0.090200000000000016},{"$nulls":16},"4",null,"K","2",null,null,null,"ROZPOCET",{"$nulls":5},{"$f":"IF(U287=\"základná\",N287,0)","v":0},{"$f":"IF(U287=\"znížená\",N287,0)","v":0},{"$f":"IF(U287=\"zákl. prenesená\",N287,0)","v":0},{"$f":"IF(U287=\"zníž. prenesená\",N287,0)","v":0},{"$f":"IF(U287=\"nulová\",N287,0)","v":0},"2",{"$f":"ROUND(L287*K287,3)","v":0},"4","-1766636593"]
[{"$nulls":4},"","Sklenené tvárnice - vybúranie 0,55x2,0m",{"$nulls":4},"",{"$nulls":34},"VV","2","1","True","0","ROZPOCET"]
[{"$nulls":4},"","0,55*2,00",{"$nulls":4},1.1000000000000001,{"$nulls":34},"VV","2","2","True","0","ROZPOCET"]
[{"$nulls":4},"","Súčet",{"$nulls":4},1.1000000000000001,{"$nulls":34},"VV","2","4","True","1","ROZPOCET"]
[null,null,"35","K","968061115","Demontáž okien drevených, 1 bm obvodu - 0,008t",null,null,null,"m",34.600000000000001,0,null,{"$f":"ROUND(L291*K291,3)","v":0},{"$nulls":5},"","znížená",null,{"$f":"V291*K291","v":0},0,{"$f":"X291*K291","v":0},0.0080000000000000002,{"$f":"Z291*K291","v":0.27679999999999999},{"$nulls":16},"4",null,"K","2",null,null,null,"ROZPOCET",{"$nulls":5},{"$f":"IF(U291=\"základná\",N291,0)","v":0},{"$f":"IF(U291=\"znížená\",N291,0)","v":0},{"$f":"IF(U291=\"zákl. prenesená\",N291,0)","v":0},{"$f":"IF(U291=\"zníž. prenesená\",N291,0)","v":0},{"$f":"IF(U291=\"nulová\",N291,0)","v":0},"2",{"$f":"ROUND(L291*K291,3)","v":0},"4","-550851811"]
[{"$nulls":4},"","Strešné okná 0,65x1,080  10 ks",{"$nulls":4},"",{"$nulls":34},"VV","2","1","True","0","ROZPOCET"]
[{"$nulls":4},"","(0,65+1,080)*2*10",{"$nulls":4},34.600000000000001,{"$nulls":34},"VV","2","2","True","0","ROZPOCET"]
[{"$nulls":4},"","Súčet",{"$nulls":4},34.600000000000001,{"$nulls":34},"VV","2","4","True","1","ROZPOCET"]
[null,null,"36","K","968071115","Vybúranie okien kovových, 1 bm obvodu - 0,005t",null,null,null,"m",17.579999999999998,0,null,{"$f":"ROUND(L295*K295,3)","v":0},{"$nulls":5},"","znížená",null,{"$f":"V295*K295","v":0},0,{"$f":"X295*K295","v":0},0.0050000000000000001,{"$f":"Z295*K295","v":0.087899999999999992},{"$nulls":16},"4",null,"K","2",null,null,null,"ROZPOCET",{"$nulls":5},{"$f":"IF(U295=\"základná\",N295,0)","v":0},{"$f":"IF(U295=\"znížená\",N295,0)","v":0},{"$f":"IF(U295=\"zákl. prenesená\",N295,0)","v":0},{"$f":"IF(U295=\"zníž. prenesená\",N295,0)","v":0},{"$f":"IF(U295=\"nulová\",N295,0)","v":0},"2",{"$f":"ROUND(L295*K295,3)","v":0},"4","192709072"]
[{"$nulls":4},"","Kompletne ",{"$nulls":4},"",{"$nulls":34},"VV","2","1","True","0","ROZPOCET"]
[{"$nulls":4},"","Okná oceľové  1200x600 mm -8 ks",{"$nulls":4},"",{"$nulls":34},"VV","2","1","True","0","ROZPOCET"]
[{"$nulls":4},"","(1,2+0,6)*8",{"$nulls":4},14.4,{"$nulls":34},"VV","2","2","True","0","ROZPOCET"]
[{"$nulls":4},"","Medzisúčet",{"$nulls":4},14.4,{"$nulls":34},"VV","2","3","True","0","ROZPOCET"]
[{"$nulls":4},"","Nadsvetlík",{"$nulls":4},"",{"$nulls":34},"VV","2","1","True","0","ROZPOCET"]
[{"$nulls":4},"","Okno 2,70*0,60    1ks",{"$nulls":4},"",{"$nulls":34},"VV","2","1","True","0","ROZPOCET"]
[{"$nulls":4},"","Okno 1,30*1,20    1ks",{"$nulls":4},"",{"$nulls":34},"VV","2","1","True","0","ROZPOCET"]
[{"$nulls":4},"","2,70*0,60",{"$nulls":4},1.6200000000000001,{"$nulls":34},"VV","2","2","True","0","ROZPOCET"]
[{"$nulls":4},"","1,30*1,20",{"$nulls":4},1.5600000000000001,{"$nulls":34},"VV","2","2","True","0","ROZPOCET"]
[{"$nulls":4},"","Medzisúčet",{"$nulls":4},3.1800000000000002,{"$nulls":34},"VV","2","3","True","0","ROZPOCET"]
[{"$nulls":4},"","Súčet",{"$nulls":4},17.579999999999998,{"$nulls":34},"VV","2","4","True","1","ROZPOCET"]
[null,null,"37","K","968071125","Vyvesenie kovového dverného krídla do suti plochy do 2 m2",null,null,null,"ks",1,0,null,{"$f":"ROUND(L307*K307,3)","v":0},{"$nulls":5},"","znížená",null,{"$f":"V307*K307","v":0},0,{"$f":"X307*K307","v":0},0.029999999999999999,{"$f":"Z307*K307","v":0.029999999999999999},{"$nulls":16},"4",null,"K","2",null,null,null,"ROZPOCET",{"$nulls":5},{"$f":"IF(U307=\"základná\",N307,0)","v":0},{"$f":"IF(U307=\"znížená\",N307,0)","v":0},{"$f":"IF(U307=\"zákl. prenesená\",N307,0)","v":0},{"$f":"IF(U307=\"zníž. prenesená\",N307,0)","v":0},{"$f":"IF(U307=\"nulová\",N307,0)","v":0},"2",{"$f":"ROUND(L307*K307,3)","v":0},"4","-527983303"]
[{"$nulls":4},"","OK dvere vonkajšie  0,8*1,970 - 1 ks",{"$nulls":4},"",{"$nulls":34},"VV","2","1","True","0","ROZPOCET"]
[{"$nulls":4},"","1",{"$nulls":4},1,{"$nulls":34},"VV","2","2","True","0","ROZPOCET"]
[{"$nulls":4},"","Súčet",{"$nulls":4},1,{"$nulls":34},"VV","2","4","True","1","ROZPOCET"]
[null,null,"38","K","968071136","Vyvesenie kovového krídla vrát do suti plochy do 4 m2",null,null,null,"ks",2,0,null,{"$f":"ROUND(L311*K311,3)","v":0},{"$nulls":5},"","znížená",null,{"$f":"V311*K311","v":0},0,{"$f":"X311*K311","v":0},0.0040000000000000001,{"$f":"Z311*K311","v":0.0080000000000000002},{"$nulls":16},"4",null,"K","2",null,null,null,"ROZPOCET",{"$nulls":5},{"$f":"IF(U311=\"základná\",N311,0)","v":0},{"$f":"IF(U311=\"znížená\",N311,0)","v":0},{"$f":"IF(U311=\"zákl. prenesená\",N311,0)","v":0},{"$f":"IF(U311=\"zníž. prenesená\",N311,0)","v":0},{"$f":"IF(U311=\"nulová\",N311,0)","v":0},"2",{"$f":"ROUND(L311*K311,3)","v":0},"4","1173013173"]
[{"$nulls":4},"","vráta dvojdielne 2,70x2,70 m  1ks",{"$nulls":4},"",{"$nulls":34},"VV","2","1","True","0","ROZPOCET"]
[{"$nulls":4},"","2",{"$nulls":4},2,{"$nulls":34},"VV","2","2","True","0","ROZPOCET"]
[{"$nulls":4},"","Súčet",{"$nulls":4},2,{"$nulls":34},"VV","2","4","True","1","ROZPOCET"]
[null,null,"39","K","968071137","Vyvesenie kovového krídla vrát do suti plochy nad 4 m2",null,null,null,"ks",2,0,null,{"$f":"ROUND(L315*K315,3)","v":0},{"$nulls":5},"","znížená",null,{"$f":"V315*K315","v":0},0,{"$f":"X315*K315","v":0},0.0060000000000000001,{"$f":"Z315*K315","v":0.012},{"$nulls":16},"4",null,"K","2",null,null,null,"ROZPOCET",{"$nulls":5},{"$f":"IF(U315=\"základná\",N315,0)","v":0},{"$f":"IF(U315=\"znížená\",N315,0)","v":0},{"$f":"IF(U315=\"zákl. prenesená\",N315,0)","v":0},{"$f":"IF(U315=\"zníž. prenesená\",N315,0)","v":0},{"$f":"IF(U315=\"nulová\",N315,0)","v":0},"2",{"$f":"ROUND(L315*K315,3)","v":0},"4","-692251036"]
[{"$nulls":4},"","vráta dvojdielne 3,30x3,30 m   1ks",{"$nulls":4},"",{"$nulls":34},"VV","2","1","True","0","ROZPOCET"]
[{"$nulls":4},"","2",{"$nulls":4},2,{"$nulls":34},"VV","2","2","True","0","ROZPOCET"]
[{"$nulls":4},"","Súčet",{"$nulls":4},2,{"$nulls":34},"VV","2","4","True","1","ROZPOCET"]
[null,null,"40","K","968072455","Vybúranie kovových dverových zárubní plochy do 2 m2,  -0,07600t",null,null,null,"m2",1.7729999999999999,0,null,{"$f":"ROUND(L319*K319,3)","v":0},{"$nulls":5},"","znížená",null,{"$f":"V319*K319","v":0},0,{"$f":"X319*K319","v":0},0.075999999999999998,{"$f":"Z319*K319","v":0.13474799999999998},{"$nulls":16},"4",null,"K","2",null,null,null,"ROZPOCET",{"$nulls":5},{"$f":"IF(U319=\"základná\",N319,0)","v":0},{"$f":"IF(U319=\"znížená\",N319,0)","v":0},{"$f":"IF(U319=\"zákl. prenesená\",N319,0)","v":0},{"$f":"IF(U319=\"zníž. prenesená\",N319,0)","v":0},{"$f":"IF(U319=\"nulová\",N319,0)","v":0},"2",{"$f":"ROUND(L319*K319,3)","v":0},"4","-1769771202"]
[{"$nulls":4},"","OK zárubeň 0,9*1,970",{"$nulls":4},"",{"$nulls":34},"VV","2","1","True","0","ROZPOCET"]
[{"$nulls":4},"","0,9*1,970",{"$nulls":4},1.7729999999999999,{"$nulls":34},"VV","2","2","True","0","ROZPOCET"]
[{"$nulls":4},"","Súčet",{"$nulls":4},1.7729999999999999,{"$nulls":34},"VV","2","4","True","1","ROZPOCET"]
[null,null,"41","K","968072559","Vybúranie kovových vrát plochy nad 5 m2,  -0,06600t",null,null,null,"m2",18.18,0,null,{"$f":"ROUND(L323*K323,3)","v":0},{"$nulls":5},"","znížená",null,{"$f":"V323*K323","v":0},0,{"$f":"X323*K323","v":0},0.066000000000000003,{"$f":"Z323*K323","v":1.1998800000000001},{"$nulls":16},"4",null,"K","2",null,null,null,"ROZPOCET",{"$nulls":5},{"$f":"IF(U323=\"základná\",N323,0)","v":0},{"$f":"IF(U323=\"znížená\",N323,0)","v":0},{"$f":"IF(U323=\"zákl. prenesená\",N323,0)","v":0},{"$f":"IF(U323=\"zníž. prenesená\",N323,0)","v":0},{"$f":"IF(U323=\"nulová\",N323,0)","v":0},"2",{"$f":"ROUND(L323*K323,3)","v":0},"4","-572242172"]
[{"$nulls":4},"","vráta dvojdielne 2,70x2,70 m  1ks",{"$nulls":4},"",{"$nulls":34},"VV","2","1","True","0","ROZPOCET"]
[{"$nulls":4},"","2,70*2,70",{"$nulls":4},7.29,{"$nulls":34},"VV","2","2","True","0","ROZPOCET"]
[{"$nulls":4},"","Medzisúčet",{"$nulls":4},7.29,{"$nulls":34},"VV","2","3","True","0","ROZPOCET"]
[{"$nulls":4},"","vráta dvojdielne 3,30x3,30 m   1ks",{"$nulls":4},"",{"$nulls":34},"VV","2","1","True","0","ROZPOCET"]
[{"$nulls":4},"","3,30*3,30",{"$nulls":4},10.890000000000001,{"$nulls":34},"VV","2","2","True","0","ROZPOCET"]
[{"$nulls":4},"","Medzisúčet",{"$nulls":4},10.890000000000001,{"$nulls":34},"VV","2","3","True","0","ROZPOCET"]
[{"$nulls":4},"","Súčet",{"$nulls":4},18.18,{"$nulls":34},"VV","2","4","True","1","ROZPOCET"]
[null,null,"42","K","974031122","Vysekanie rýh v akomkoľvek murive tehlovom na akúkoľvek maltu do hĺbky 30 mm a š. do 70 mm,  -0,00400 t",null,null,null,"m",15,0,null,{"$f":"ROUND(L331*K331,3)","v":0},{"$nulls":5},"","znížená",null,{"$f":"V331*K331","v":0},0,{"$f":"X331*K331","v":0},0,{"$f":"Z331*K331","v":0},{"$nulls":16},"4",null,"K","2",null,null,null,"ROZPOCET",{"$nulls":5},{"$f":"IF(U331=\"základná\",N331,0)","v":0},{"$f":"IF(U331=\"znížená\",N331,0)","v":0},{"$f":"IF(U331=\"zákl. prenesená\",N331,0)","v":0},{"$f":"IF(U331=\"zníž. prenesená\",N331,0)","v":0},{"$f":"IF(U331=\"nulová\",N331,0)","v":0},"2",{"$f":"ROUND(L331*K331,3)","v":0},"4","-907466987"]
[null,null,"43","M","2450600012","Sadra na elektroinštalačné práce ELEKTROFIX,  balenie: 2 kg (kc.A25000001)",null,null,null,"kg",3,0,null,{"$f":"ROUND(L332*K332,3)","v":0},{"$nulls":5},"","znížená",null,{"$f":"V332*K332","v":0},0,{"$f":"X332*K332","v":0},0,{"$f":"Z332*K332","v":0},{"$nulls":16},"8",null,"M","2",null,null,null,"ROZPOCET",{"$nulls":5},{"$f":"IF(U332=\"základná\",N332,0)","v":0},{"$f":"IF(U332=\"znížená\",N332,0)","v":0},{"$f":"IF(U332=\"zákl. prenesená\",N332,0)","v":0},{"$f":"IF(U332=\"zníž. prenesená\",N332,0)","v":0},{"$f":"IF(U332=\"nulová\",N332,0)","v":0},"2",{"$f":"ROUND(L332*K332,3)","v":0},"4","518718890"]
[null,null,"44","K","979081111"," Odvoz sutiny a vybúraných hmôt na skládku do 1 km",null,null,null,"t",13.720000000000001,0,null,{"$f":"ROUND(L333*K333,3)","v":0},{"$nulls":5},"","znížená",null,{"$f":"V333*K333","v":0},0,{"$f":"X333*K333","v":0},0,{"$f":"Z333*K333","v":0},{"$nulls":16},"4",null,"K","2",null,null,null,"ROZPOCET",{"$nulls":5},{"$f":"IF(U333=\"základná\",N333,0)","v":0},{"$f":"IF(U333=\"znížená\",N333,0)","v":0},{"$f":"IF(U333=\"zákl. prenesená\",N333,0)","v":0},{"$f":"IF(U333=\"zníž. prenesená\",N333,0)","v":0},{"$f":"IF(U333=\"nulová\",N333,0)","v":0},"2",{"$f":"ROUND(L333*K333,3)","v":0},"4","-430626557"]
[null,null,"45","K","979081121","Odvoz sutiny a vybúraných hmôt na skládku za každý ďalší 1 km",null,null,null,"t",64,0,null,{"$f":"ROUND(L334*K334,3)","v":0},{"$nulls":5},"","znížená",null,{"$f":"V334*K334","v":0},0,{"$f":"X334*K334","v":0},0,{"$f":"Z334*K334","v":0},{"$nulls":16},"4",null,"K","2",null,null,null,"ROZPOCET",{"$nulls":5},{"$f":"IF(U334=\"základná\",N334,0)","v":0},{"$f":"IF(U334=\"znížená\",N334,0)","v":0},{"$f":"IF(U334=\"zákl. prenesená\",N334,0)","v":0},{"$f":"IF(U334=\"zníž. prenesená\",N334,0)","v":0},{"$f":"IF(U334=\"nulová\",N334,0)","v":0},"2",{"$f":"ROUND(L334*K334,3)","v":0},"4","1406435204"]
[{"$nulls":4},"","Odvoz sutiny a vybúraných hmôt na riadenú skládku odpadov",{"$nulls":4},"",{"$nulls":34},"VV","2","1","True","0","ROZPOCET"]
[{"$nulls":4},"","Vzdialenosť riadenej skládky +8km",{"$nulls":4},"",{"$nulls":34},"VV","2","1","True","0","ROZPOCET"]
[{"$nulls":4},"","8",{"$nulls":4},8,{"$nulls":34},"VV","2","2","True","0","ROZPOCET"]
[{"$nulls":4},"","Súčet",{"$nulls":4},8,{"$nulls":34},"VV","2","4","True","1","ROZPOCET"]
[null,null,"46","K","979089012","Poplatok za skladovanie - betón, tehly, dlaždice (17 01 ), ostatné",null,null,null,"t",13.720000000000001,0,null,{"$f":"ROUND(L339*K339,3)","v":0},{"$nulls":5},"","znížená",null,{"$f":"V339*K339","v":0},0,{"$f":"X339*K339","v":0},0,{"$f":"Z339*K339","v":0},{"$nulls":16},"4",null,"K","2",null,null,null,"ROZPOCET",{"$nulls":5},{"$f":"IF(U339=\"základná\",N339,0)","v":0},{"$f":"IF(U339=\"znížená\",N339,0)","v":0},{"$f":"IF(U339=\"zákl. prenesená\",N339,0)","v":0},{"$f":"IF(U339=\"zníž. prenesená\",N339,0)","v":0},{"$f":"IF(U339=\"nulová\",N339,0)","v":0},"2",{"$f":"ROUND(L339*K339,3)","v":0},"4","-555017172"]
[null,null,null,"    99 - Presun hmôt HSV",{"$nulls":9},{"$f":"BK340","v":0},{"$nulls":8},{"$f":"W341","v":0},null,{"$f":"Y341","v":0},null,{"$f":"AA341","v":0},{"$nulls":16},"1",null,"D","1",null,null,null,"ROZPOCET",{"$nulls":11},{"$f":"BK341","v":0}]
[null,null,"47","K","998011001","Presun hmôt pre budovy  (801, 803, 812), zvislá konštr. z tehál, tvárnic, z kovu výšky do 6 m",null,null,null,"t",48.993000000000002,0,null,{"$f":"ROUND(L341*K341,3)","v":0},{"$nulls":5},"","znížená",null,{"$f":"V341*K341","v":0},0,{"$f":"X341*K341","v":0},0,{"$f":"Z341*K341","v":0},{"$nulls":16},"4",null,"K","2",null,null,null,"ROZPOCET",{"$nulls":5},{"$f":"IF(U341=\"základná\",N341,0)","v":0},{"$f":"IF(U341=\"znížená\",N341,0)","v":0},{"$f":"IF(U341=\"zákl. prenesená\",N341,0)","v":0},{"$f":"IF(U341=\"zníž. prenesená\",N341,0)","v":0},{"$f":"IF(U341=\"nulová\",N341,0)","v":0},"2",{"$f":"ROUND(L341*K341,3)","v":0},"4","448137196"]
[null,null,null,"PSV - Práce a dodávky PSV",{"$nulls":9},{"$f":"BK342","v":0},{"$nulls":8},{"$f":"W343+W353+W365+W396+W402+W431+W437+W461+W469","v":0},null,{"$f":"Y343+Y353+Y365+Y396+Y402+Y431+Y437+Y461+Y469","v":4.0492418899999993},null,{"$f":"AA343+AA353+AA365+AA396+AA402+AA431+AA437+AA461+AA469","v":0.33031880000000002},{"$nulls":16},"2",null,"D","0",null,null,null,"ROZPOCET",{"$nulls":11},{"$f":"BK343+BK353+BK365+BK396+BK402+BK431+BK437+BK461+BK469","v":0}]
[null,null,null,"    711 - Izolácie proti vode a vlhkosti",{"$nulls":9},{"$f":"BK343","v":0},{"$nulls":8},{"$f":"SUM(W344:W352)","v":0},null,{"$f":"SUM(Y344:Y352)","v":0.0088085999999999998},null,{"$f":"SUM(AA344:AA352)","v":0},{"$nulls":16},"2",null,"D","1",null,null,null,"ROZPOCET",{"$nulls":11},{"$f":"SUM(BK344:BK352)","v":0}]
[null,null,"48","K","711114050","Izolácia proti zemnej vlhkosti Sika Igasol na ploche vodorovnej",null,null,null,"m2",24.850000000000001,0,null,{"$f":"ROUND(L344*K344,3)","v":0},{"$nulls":5},"","znížená",null,{"$f":"V344*K344","v":0},0.00029999999999999997,{"$f":"X344*K344","v":0.0074549999999999998},0,{"$f":"Z344*K344","v":0},{"$nulls":16},"16",null,"K","2",null,null,null,"ROZPOCET",{"$nulls":5},{"$f":"IF(U344=\"základná\",N344,0)","v":0},{"$f":"IF(U344=\"znížená\",N344,0)","v":0},{"$f":"IF(U344=\"zákl. prenesená\",N344,0)","v":0},{"$f":"IF(U344=\"zníž. prenesená\",N344,0)","v":0},{"$f":"IF(U344=\"nulová\",N344,0)","v":0},"2",{"$f":"ROUND(L344*K344,3)","v":0},"16","-1392334994"]
[{"$nulls":4},"","Prístavba  základy I.N.P.",{"$nulls":4},"",{"$nulls":34},"VV","2","1","True","0","ROZPOCET"]
[{"$nulls":4},"","(3,5*7,1)",{"$nulls":4},24.850000000000001,{"$nulls":34},"VV","2","2","True","0","ROZPOCET"]
[{"$nulls":4},"","Súčet",{"$nulls":4},24.850000000000001,{"$nulls":34},"VV","2","4","True","1","ROZPOCET"]
[null,null,"49","K","711114060","Izolácia proti zemnej vlhkosti Sika Igasol na ploche zvislej",null,null,null,"m2",4.2300000000000004,0,null,{"$f":"ROUND(L348*K348,3)","v":0},{"$nulls":5},"","znížená",null,{"$f":"V348*K348","v":0},0.00032000000000000003,{"$f":"X348*K348","v":0.0013536000000000002},0,{"$f":"Z348*K348","v":0},{"$nulls":16},"16",null,"K","2",null,null,null,"ROZPOCET",{"$nulls":5},{"$f":"IF(U348=\"základná\",N348,0)","v":0},{"$f":"IF(U348=\"znížená\",N348,0)","v":0},{"$f":"IF(U348=\"zákl. prenesená\",N348,0)","v":0},{"$f":"IF(U348=\"zníž. prenesená\",N348,0)","v":0},{"$f":"IF(U348=\"nulová\",N348,0)","v":0},"2",{"$f":"ROUND(L348*K348,3)","v":0},"16","417772308"]
[{"$nulls":4},"","Prístavba  základy I.N.P.",{"$nulls":4},"",{"$nulls":34},"VV","2","1","True","0","ROZPOCET"]
[{"$nulls":4},"","(3,5*2+7,1)*0,3",{"$nulls":4},4.2300000000000004,{"$nulls":34},"VV","2","2","True","0","ROZPOCET"]
[{"$nulls":4},"","Súčet",{"$nulls":4},4.2300000000000004,{"$nulls":34},"VV","2","4","True","1","ROZPOCET"]
[null,null,"50","K","998711101","Presun hmôt pre izoláciu proti vode v objektoch výšky do 6 m",null,null,null,"t",0.0089999999999999993,0,null,{"$f":"ROUND(L352*K352,3)","v":0},{"$nulls":5},"","znížená",null,{"$f":"V352*K352","v":0},0,{"$f":"X352*K352","v":0},0,{"$f":"Z352*K352","v":0},{"$nulls":16},"16",null,"K","2",null,null,null,"ROZPOCET",{"$nulls":5},{"$f":"IF(U352=\"základná\",N352,0)","v":0},{"$f":"IF(U352=\"znížená\",N352,0)","v":0},{"$f":"IF(U352=\"zákl. prenesená\",N352,0)","v":0},{"$f":"IF(U352=\"zníž. prenesená\",N352,0)","v":0},{"$f":"IF(U352=\"nulová\",N352,0)","v":0},"2",{"$f":"ROUND(L352*K352,3)","v":0},"16","1449067733"]
[null,null,null,"    713 - Izolácie tepelné",{"$nulls":9},{"$f":"BK353","v":0},{"$nulls":8},{"$f":"SUM(W354:W364)","v":0},null,{"$f":"SUM(Y354:Y364)","v":0.79998192000000001},null,{"$f":"SUM(AA354:AA364)","v":0},{"$nulls":16},"2",null,"D","1",null,null,null,"ROZPOCET",{"$nulls":11},{"$f":"SUM(BK354:BK364)","v":0}]
[null,null,"51","K","713132133","Montáž tepelnej izolácie stien polystyrénom, bodovým prilepením",null,null,null,"m2",14.460000000000001,0,null,{"$f":"ROUND(L354*K354,3)","v":0},{"$nulls":5},"","znížená",null,{"$f":"V354*K354","v":0},0.0025000000000000001,{"$f":"X354*K354","v":0.036150000000000002},0,{"$f":"Z354*K354","v":0},{"$nulls":16},"16",null,"K","2",null,null,null,"ROZPOCET",{"$nulls":5},{"$f":"IF(U354=\"základná\",N354,0)","v":0},{"$f":"IF(U354=\"znížená\",N354,0)","v":0},{"$f":"IF(U354=\"zákl. prenesená\",N354,0)","v":0},{"$f":"IF(U354=\"zníž. prenesená\",N354,0)","v":0},{"$f":"IF(U354=\"nulová\",N354,0)","v":0},"2",{"$f":"ROUND(L354*K354,3)","v":0},"16","1047761871"]
[{"$nulls":4},"","Základy zateplenie",{"$nulls":4},"",{"$nulls":34},"VV","2","1","True","0","ROZPOCET"]
[{"$nulls":4},"","1,1*7,1+1,1*3,5+0,8*3,5",{"$nulls":4},14.460000000000001,{"$nulls":34},"VV","2","2","True","0","ROZPOCET"]
[{"$nulls":4},"","Súčet",{"$nulls":4},14.460000000000001,{"$nulls":34},"VV","2","4","True","1","ROZPOCET"]
[null,null,"52","M","2837657250","SD 50mm soklová doska z polystyrénu SD 200",null,null,null,"m2",14.749000000000001,0,null,{"$f":"ROUND(L358*K358,3)","v":0},{"$nulls":5},"","znížená",null,{"$f":"V358*K358","v":0},0.001,{"$f":"X358*K358","v":0.014749000000000002},0,{"$f":"Z358*K358","v":0},{"$nulls":16},"32",null,"M","2",null,null,null,"ROZPOCET",{"$nulls":5},{"$f":"IF(U358=\"základná\",N358,0)","v":0},{"$f":"IF(U358=\"znížená\",N358,0)","v":0},{"$f":"IF(U358=\"zákl. prenesená\",N358,0)","v":0},{"$f":"IF(U358=\"zníž. prenesená\",N358,0)","v":0},{"$f":"IF(U358=\"nulová\",N358,0)","v":0},"2",{"$f":"ROUND(L358*K358,3)","v":0},"16","128853049"]
[null,null,"53","K","713161560","Montáž tepelnej izolácie hr. do 10 cm striech šikmých medzi a pod krokvy, s OSB záklopom na podkladné laty, s parozábranou",null,null,null,"m2",45.82,0,null,{"$f":"ROUND(L359*K359,3)","v":0},{"$nulls":5},"","znížená",null,{"$f":"V359*K359","v":0},0.01439,{"$f":"X359*K359","v":0.65934979999999999},0,{"$f":"Z359*K359","v":0},{"$nulls":16},"16",null,"K","2",null,null,null,"ROZPOCET",{"$nulls":5},{"$f":"IF(U359=\"základná\",N359,0)","v":0},{"$f":"IF(U359=\"znížená\",N359,0)","v":0},{"$f":"IF(U359=\"zákl. prenesená\",N359,0)","v":0},{"$f":"IF(U359=\"zníž. prenesená\",N359,0)","v":0},{"$f":"IF(U359=\"nulová\",N359,0)","v":0},"2",{"$f":"ROUND(L359*K359,3)","v":0},"16","-2005608215"]
[{"$nulls":4},"","Prístavba debnenie",{"$nulls":4},"",{"$nulls":34},"VV","2","1","True","0","ROZPOCET"]
[{"$nulls":4},"","7,9*5,8",{"$nulls":4},45.82,{"$nulls":34},"VV","2","2","True","0","ROZPOCET"]
[{"$nulls":4},"","Súčet",{"$nulls":4},45.82,{"$nulls":34},"VV","2","4","True","1","ROZPOCET"]
[null,null,"54","M","6313670028","Domo sklená vlna hrúbka 160 mm",null,null,null,"m2",46.735999999999997,0,null,{"$f":"ROUND(L363*K363,3)","v":0},{"$nulls":5},"","znížená",null,{"$f":"V363*K363","v":0},0.0019200000000000001,{"$f":"X363*K363","v":0.08973312},0,{"$f":"Z363*K363","v":0},{"$nulls":16},"32",null,"M","2",null,null,null,"ROZPOCET",{"$nulls":5},{"$f":"IF(U363=\"základná\",N363,0)","v":0},{"$f":"IF(U363=\"znížená\",N363,0)","v":0},{"$f":"IF(U363=\"zákl. prenesená\",N363,0)","v":0},{"$f":"IF(U363=\"zníž. prenesená\",N363,0)","v":0},{"$f":"IF(U363=\"nulová\",N363,0)","v":0},"2",{"$f":"ROUND(L363*K363,3)","v":0},"16","-973485884"]
[null,null,"55","K","998713101","Presun hmôt pre izolácie tepelné v objektoch výšky do 6 m",null,null,null,"t",0.80000000000000004,0,null,{"$f":"ROUND(L364*K364,3)","v":0},{"$nulls":5},"","znížená",null,{"$f":"V364*K364","v":0},0,{"$f":"X364*K364","v":0},0,{"$f":"Z364*K364","v":0},{"$nulls":16},"16",null,"K","2",null,null,null,"ROZPOCET",{"$nulls":5},{"$f":"IF(U364=\"základná\",N364,0)","v":0},{"$f":"IF(U364=\"znížená\",N364,0)","v":0},{"$f":"IF(U364=\"zákl. prenesená\",N364,0)","v":0},{"$f":"IF(U364=\"zníž. prenesená\",N364,0)","v":0},{"$f":"IF(U364=\"nulová\",N364,0)","v":0},"2",{"$f":"ROUND(L364*K364,3)","v":0},"16","-681549264"]
[null,null,null,"    762 - Konštrukcie tesárske",{"$nulls":9},{"$f":"BK365","v":0},{"$nulls":8},{"$f":"SUM(W366:W395)","v":0},null,{"$f":"SUM(Y366:Y395)","v":1.2874733699999998},null,{"$f":"SUM(AA366:AA395)","v":0.20888000000000001},{"$nulls":16},"2",null,"D","1",null,null,null,"ROZPOCET",{"$nulls":11},{"$f":"SUM(BK366:BK395)","v":0}]
[null,null,"56","K","762331912","Vyrezanie časti strešnej väzby prierezovej plochy reziva do 120 cm2, dĺžky krovového prvku do 5 m -0,00700t",null,null,null,"m",7.7999999999999998,0,null,{"$f":"ROUND(L366*K366,3)","v":0},{"$nulls":5},"","znížená",null,{"$f":"V366*K366","v":0},0,{"$f":"X366*K366","v":0},0.0070000000000000001,{"$f":"Z366*K366","v":0.054600000000000003},{"$nulls":16},"16",null,"K","2",null,null,null,"ROZPOCET",{"$nulls":5},{"$f":"IF(U366=\"základná\",N366,0)","v":0},{"$f":"IF(U366=\"znížená\",N366,0)","v":0},{"$f":"IF(U366=\"zákl. prenesená\",N366,0)","v":0},{"$f":"IF(U366=\"zníž. prenesená\",N366,0)","v":0},{"$f":"IF(U366=\"nulová\",N366,0)","v":0},"2",{"$f":"ROUND(L366*K366,3)","v":0},"16","-763452005"]
[{"$nulls":4},"","Prístavba krov",{"$nulls":4},"",{"$nulls":34},"VV","2","1","True","0","ROZPOCET"]
[{"$nulls":4},"","7,8",{"$nulls":4},7.7999999999999998,{"$nulls":34},"VV","2","2","True","0","ROZPOCET"]
[{"$nulls":4},"","Súčet",{"$nulls":4},7.7999999999999998,{"$nulls":34},"VV","2","4","True","1","ROZPOCET"]
[null,null,"57","K","762332120","Montáž viazaných konštrukcií krovov striech z reziva priemernej plochy do 224 cm2",null,null,null,"M",46.399999999999999,0,null,{"$f":"ROUND(L370*K370,3)","v":0},{"$nulls":5},"","znížená",null,{"$f":"V370*K370","v":0},0.00098999999999999999,{"$f":"X370*K370","v":0.045935999999999998},0,{"$f":"Z370*K370","v":0},{"$nulls":16},"16",null,"K","2",null,null,null,"ROZPOCET",{"$nulls":5},{"$f":"IF(U370=\"základná\",N370,0)","v":0},{"$f":"IF(U370=\"znížená\",N370,0)","v":0},{"$f":"IF(U370=\"zákl. prenesená\",N370,0)","v":0},{"$f":"IF(U370=\"zníž. prenesená\",N370,0)","v":0},{"$f":"IF(U370=\"nulová\",N370,0)","v":0},"2",{"$f":"ROUND(L370*K370,3)","v":0},"16","1221895788"]
[{"$nulls":4},"","Prístavba krokva",{"$nulls":4},"",{"$nulls":34},"VV","2","1","True","0","ROZPOCET"]
[{"$nulls":4},"","5,8*8",{"$nulls":4},46.399999999999999,{"$nulls":34},"VV","2","2","True","0","ROZPOCET"]
[{"$nulls":4},"","Súčet",{"$nulls":4},46.399999999999999,{"$nulls":34},"VV","2","4","True","1","ROZPOCET"]
[null,null,"58","M","6051530200","Hranol mäkké rezivo - omietané smrek akosť II 100x120,140mm",null,null,null,"m3",0.71499999999999997,0,null,{"$f":"ROUND(L374*K374,3)","v":0},{"$nulls":5},"","znížená",null,{"$f":"V374*K374","v":0},0.55000000000000004,{"$f":"X374*K374","v":0.39324999999999999},0,{"$f":"Z374*K374","v":0},{"$nulls":16},"32",null,"M","2",null,null,null,"ROZPOCET",{"$nulls":5},{"$f":"IF(U374=\"základná\",N374,0)","v":0},{"$f":"IF(U374=\"znížená\",N374,0)","v":0},{"$f":"IF(U374=\"zákl. prenesená\",N374,0)","v":0},{"$f":"IF(U374=\"zníž. prenesená\",N374,0)","v":0},{"$f":"IF(U374=\"nulová\",N374,0)","v":0},"2",{"$f":"ROUND(L374*K374,3)","v":0},"16","-535478121"]
[{"$nulls":4},"","Prístavba krokva",{"$nulls":4},"",{"$nulls":34},"VV","2","1","True","0","ROZPOCET"]
[{"$nulls":4},"","5,8*8*0,1*0,14",{"$nulls":4},0.65000000000000002,{"$nulls":34},"VV","2","2","True","0","ROZPOCET"]
[{"$nulls":4},"","Súčet",{"$nulls":4},0.65000000000000002,{"$nulls":34},"VV","2","4","True","1","ROZPOCET"]
[null,null,"59","K","762332130","Montáž viazaných konštrukcií krovov striech z reziva priemernej plochy do 288 cm2",null,null,null,"m",7.9000000000000004,0,null,{"$f":"ROUND(L378*K378,3)","v":0},{"$nulls":5},"","znížená",null,{"$f":"V378*K378","v":0},0.00098999999999999999,{"$f":"X378*K378","v":0.0078209999999999998},0,{"$f":"Z378*K378","v":0},{"$nulls":16},"16",null,"K","2",null,null,null,"ROZPOCET",{"$nulls":5},{"$f":"IF(U378=\"základná\",N378,0)","v":0},{"$f":"IF(U378=\"znížená\",N378,0)","v":0},{"$f":"IF(U378=\"zákl. prenesená\",N378,0)","v":0},{"$f":"IF(U378=\"zníž. prenesená\",N378,0)","v":0},{"$f":"IF(U378=\"nulová\",N378,0)","v":0},"2",{"$f":"ROUND(L378*K378,3)","v":0},"16","-1308383398"]
[{"$nulls":4},"","Prístavba -pomúrniva ",{"$nulls":4},"",{"$nulls":34},"VV","2","1","True","0","ROZPOCET"]
[{"$nulls":4},"","7,9",{"$nulls":4},7.9000000000000004,{"$nulls":34},"VV","2","2","True","0","ROZPOCET"]
[{"$nulls":4},"","Súčet",{"$nulls":4},7.9000000000000004,{"$nulls":34},"VV","2","4","True","1","ROZPOCET"]
[null,null,"60","M","6051531800","Hranol mäkké rezivo - omietané smrek akosť II 120x120,140,180mm",null,null,null,"m3",0.19500000000000001,0,null,{"$f":"ROUND(L382*K382,3)","v":0},{"$nulls":5},"","znížená",null,{"$f":"V382*K382","v":0},0.55000000000000004,{"$f":"X382*K382","v":0.10725000000000001},0,{"$f":"Z382*K382","v":0},{"$nulls":16},"32",null,"M","2",null,null,null,"ROZPOCET",{"$nulls":5},{"$f":"IF(U382=\"základná\",N382,0)","v":0},{"$f":"IF(U382=\"znížená\",N382,0)","v":0},{"$f":"IF(U382=\"zákl. prenesená\",N382,0)","v":0},{"$f":"IF(U382=\"zníž. prenesená\",N382,0)","v":0},{"$f":"IF(U382=\"nulová\",N382,0)","v":0},"2",{"$f":"ROUND(L382*K382,3)","v":0},"16","809117905"]
[{"$nulls":4},"","Prístavba -pomúrniva ",{"$nulls":4},"",{"$nulls":34},"VV","2","1","True","0","ROZPOCET"]
[{"$nulls":4},"","7,9*0,14*0,16",{"$nulls":4},0.17699999999999999,{"$nulls":34},"VV","2","2","True","0","ROZPOCET"]
[{"$nulls":4},"","Súčet",{"$nulls":4},0.17699999999999999,{"$nulls":34},"VV","2","4","True","1","ROZPOCET"]
[null,null,"61","K","762341001","Montáž debnenia jednoduchých striech, na kontralaty drevotrieskovými OSB doskami na zráz",null,null,null,"m2",37.920000000000002,0,null,{"$f":"ROUND(L386*K386,3)","v":0},{"$nulls":5},"","znížená",null,{"$f":"V386*K386","v":0},0,{"$f":"X386*K386","v":0},0,{"$f":"Z386*K386","v":0},{"$nulls":16},"16",null,"K","2",null,null,null,"ROZPOCET",{"$nulls":5},{"$f":"IF(U386=\"základná\",N386,0)","v":0},{"$f":"IF(U386=\"znížená\",N386,0)","v":0},{"$f":"IF(U386=\"zákl. prenesená\",N386,0)","v":0},{"$f":"IF(U386=\"zníž. prenesená\",N386,0)","v":0},{"$f":"IF(U386=\"nulová\",N386,0)","v":0},"2",{"$f":"ROUND(L386*K386,3)","v":0},"16","-1379870634"]
[{"$nulls":4},"","Prístavba debnenie",{"$nulls":4},"",{"$nulls":34},"VV","2","1","True","0","ROZPOCET"]
[{"$nulls":4},"","7,9*4,8",{"$nulls":4},37.920000000000002,{"$nulls":34},"VV","2","2","True","0","ROZPOCET"]
[{"$nulls":4},"","Súčet",{"$nulls":4},37.920000000000002,{"$nulls":34},"VV","2","4","True","1","ROZPOCET"]
[null,null,"62","M","6072628101","Doska drevoštiepková OSB 3 do vlhkého prostredia hr. 10 mm (2500x1250mm)",null,null,null,"m2",37.920000000000002,0,null,{"$f":"ROUND(L390*K390,3)","v":0},{"$nulls":5},"","znížená",null,{"$f":"V390*K390","v":0},0.014999999999999999,{"$f":"X390*K390","v":0.56879999999999997},0,{"$f":"Z390*K390","v":0},{"$nulls":16},"32",null,"M","2",null,null,null,"ROZPOCET",{"$nulls":5},{"$f":"IF(U390=\"základná\",N390,0)","v":0},{"$f":"IF(U390=\"znížená\",N390,0)","v":0},{"$f":"IF(U390=\"zákl. prenesená\",N390,0)","v":0},{"$f":"IF(U390=\"zníž. prenesená\",N390,0)","v":0},{"$f":"IF(U390=\"nulová\",N390,0)","v":0},"2",{"$f":"ROUND(L390*K390,3)","v":0},"16","-1522924419"]
[null,null,"63","K","762341914","Latovanie striech  plochy lát do 25 cm2",null,null,null,"m2",22.039999999999999,0,null,{"$f":"ROUND(L391*K391,3)","v":0},{"$nulls":5},"","znížená",null,{"$f":"V391*K391","v":0},0,{"$f":"X391*K391","v":0},0.0070000000000000001,{"$f":"Z391*K391","v":0.15428},{"$nulls":16},"16",null,"K","2",null,null,null,"ROZPOCET",{"$nulls":5},{"$f":"IF(U391=\"základná\",N391,0)","v":0},{"$f":"IF(U391=\"znížená\",N391,0)","v":0},{"$f":"IF(U391=\"zákl. prenesená\",N391,0)","v":0},{"$f":"IF(U391=\"zníž. prenesená\",N391,0)","v":0},{"$f":"IF(U391=\"nulová\",N391,0)","v":0},"2",{"$f":"ROUND(L391*K391,3)","v":0},"16","-1995552280"]
[{"$nulls":4},"","7,6*2,9",{"$nulls":4},22.039999999999999,{"$nulls":34},"VV","2","2","True","0","ROZPOCET"]
[{"$nulls":4},"","Súčet",{"$nulls":4},22.039999999999999,{"$nulls":34},"VV","2","4","True","1","ROZPOCET"]
[null,null,"64","K","762895000","Spojovacie a ochranné prostriedky klince, svorky, impregnácie",null,null,null,"kg",52.866999999999997,0,null,{"$f":"ROUND(L394*K394,3)","v":0},{"$nulls":5},"","znížená",null,{"$f":"V394*K394","v":0},0.0031099999999999999,{"$f":"X394*K394","v":0.16441636999999998},0,{"$f":"Z394*K394","v":0},{"$nulls":16},"16",null,"K","2",null,null,null,"ROZPOCET",{"$nulls":5},{"$f":"IF(U394=\"základná\",N394,0)","v":0},{"$f":"IF(U394=\"znížená\",N394,0)","v":0},{"$f":"IF(U394=\"zákl. prenesená\",N394,0)","v":0},{"$f":"IF(U394=\"zníž. prenesená\",N394,0)","v":0},{"$f":"IF(U394=\"nulová\",N394,0)","v":0},"2",{"$f":"ROUND(L394*K394,3)","v":0},"16","1104027281"]
[null,null,"65","K","998762102","Presun hmôt pre konštrukcie tesárske v objektoch výšky do 12 m",null,null,null,"t",1.123,0,null,{"$f":"ROUND(L395*K395,3)","v":0},{"$nulls":5},"","znížená",null,{"$f":"V395*K395","v":0},0,{"$f":"X395*K395","v":0},0,{"$f":"Z395*K395","v":0},{"$nulls":16},"16",null,"K","2",null,null,null,"ROZPOCET",{"$nulls":5},{"$f":"IF(U395=\"základná\",N395,0)","v":0},{"$f":"IF(U395=\"znížená\",N395,0)","v":0},{"$f":"IF(U395=\"zákl. prenesená\",N395,0)","v":0},{"$f":"IF(U395=\"zníž. prenesená\",N395,0)","v":0},{"$f":"IF(U395=\"nulová\",N395,0)","v":0},"2",{"$f":"ROUND(L395*K395,3)","v":0},"16","-428507892"]
[null,null,null,"    763 - Konštrukcie - drevostavby",{"$nulls":9},{"$f":"BK396","v":0},{"$nulls":8},{"$f":"SUM(W397:W401)","v":0},null,{"$f":"SUM(Y397:Y401)","v":0.31915650000000001},null,{"$f":"SUM(AA397:AA401)","v":0},{"$nulls":16},"2",null,"D","1",null,null,null,"ROZPOCET",{"$nulls":11},{"$f":"SUM(BK397:BK401)","v":0}]
[null,null,"66","K","763131211","SDK podhľad KNAUF D111, drevená spodná kca s priamym uchytením, dosky GKB hr. 12,5 mm",null,null,null,"m2",25.350000000000001,0,null,{"$f":"ROUND(L397*K397,3)","v":0},{"$nulls":5},"","znížená",null,{"$f":"V397*K397","v":0},0.012590000000000001,{"$f":"X397*K397","v":0.31915650000000001},0,{"$f":"Z397*K397","v":0},{"$nulls":16},"16",null,"K","2",null,null,null,"ROZPOCET",{"$nulls":5},{"$f":"IF(U397=\"základná\",N397,0)","v":0},{"$f":"IF(U397=\"znížená\",N397,0)","v":0},{"$f":"IF(U397=\"zákl. prenesená\",N397,0)","v":0},{"$f":"IF(U397=\"zníž. prenesená\",N397,0)","v":0},{"$f":"IF(U397=\"nulová\",N397,0)","v":0},"2",{"$f":"ROUND(L397*K397,3)","v":0},"16","-1722727143"]
[{"$nulls":4},"","Podhľad-prístavba",{"$nulls":4},"",{"$nulls":34},"VV","2","1","True","0","ROZPOCET"]
[{"$nulls":4},"","3,9*6,5",{"$nulls":4},25.350000000000001,{"$nulls":34},"VV","2","2","True","0","ROZPOCET"]
[{"$nulls":4},"","Súčet",{"$nulls":4},25.350000000000001,{"$nulls":34},"VV","2","4","True","1","ROZPOCET"]
[null,null,"67","K","998763101","Presun hmôt pre drevostavby v objektoch výšky do 12 m",null,null,null,"t",0.31900000000000001,0,null,{"$f":"ROUND(L401*K401,3)","v":0},{"$nulls":5},"","znížená",null,{"$f":"V401*K401","v":0},0,{"$f":"X401*K401","v":0},0,{"$f":"Z401*K401","v":0},{"$nulls":16},"16",null,"K","2",null,null,null,"ROZPOCET",{"$nulls":5},{"$f":"IF(U401=\"základná\",N401,0)","v":0},{"$f":"IF(U401=\"znížená\",N401,0)","v":0},{"$f":"IF(U401=\"zákl. prenesená\",N401,0)","v":0},{"$f":"IF(U401=\"zníž. prenesená\",N401,0)","v":0},{"$f":"IF(U401=\"nulová\",N401,0)","v":0},"2",{"$f":"ROUND(L401*K401,3)","v":0},"16","-280590987"]
[null,null,null,"    764 - Konštrukcie klampiarske",{"$nulls":9},{"$f":"BK402","v":0},{"$nulls":8},{"$f":"SUM(W403:W430)","v":0},null,{"$f":"SUM(Y403:Y430)","v":0.036719999999999996},null,{"$f":"SUM(AA403:AA430)","v":0.1214388},{"$nulls":16},"2",null,"D","1",null,null,null,"ROZPOCET",{"$nulls":11},{"$f":"SUM(BK403:BK430)","v":0}]
[null,null,"68","K","764311202","Krytiny hladké z pozinkovaného PZ plechu, z tabúľ 2000x1000 mm, sklon nad 30° do 45°",null,null,null,"m2",45.82,0,null,{"$f":"ROUND(L403*K403,3)","v":0},{"$nulls":5},"","znížená",null,{"$f":"V403*K403","v":0},0.00035,{"$f":"X403*K403","v":0.016036999999999999},0,{"$f":"Z403*K403","v":0},{"$nulls":16},"16",null,"K","2",null,null,null,"ROZPOCET",{"$nulls":5},{"$f":"IF(U403=\"základná\",N403,0)","v":0},{"$f":"IF(U403=\"znížená\",N403,0)","v":0},{"$f":"IF(U403=\"zákl. prenesená\",N403,0)","v":0},{"$f":"IF(U403=\"zníž. prenesená\",N403,0)","v":0},{"$f":"IF(U403=\"nulová\",N403,0)","v":0},"2",{"$f":"ROUND(L403*K403,3)","v":0},"16","-506069957"]
[{"$nulls":4},"","Prístavba ",{"$nulls":4},"",{"$nulls":34},"VV","2","1","True","0","ROZPOCET"]
[{"$nulls":4},"","7,9*5,8",{"$nulls":4},45.82,{"$nulls":34},"VV","2","2","True","0","ROZPOCET"]
[{"$nulls":4},"","Súčet",{"$nulls":4},45.82,{"$nulls":34},"VV","2","4","True","1","ROZPOCET"]
[null,null,"69","K","764311822","Demontáž krytiny hladkej strešnej z tabúľ 2000 x 1000 mm, so sklonom do 30st.,  -0,00732t",null,null,null,"m2",16.59,0,null,{"$f":"ROUND(L407*K407,3)","v":0},{"$nulls":5},"","znížená",null,{"$f":"V407*K407","v":0},0,{"$f":"X407*K407","v":0},0.0073200000000000001,{"$f":"Z407*K407","v":0.1214388},{"$nulls":16},"16",null,"K","2",null,null,null,"ROZPOCET",{"$nulls":5},{"$f":"IF(U407=\"základná\",N407,0)","v":0},{"$f":"IF(U407=\"znížená\",N407,0)","v":0},{"$f":"IF(U407=\"zákl. prenesená\",N407,0)","v":0},{"$f":"IF(U407=\"zníž. prenesená\",N407,0)","v":0},{"$f":"IF(U407=\"nulová\",N407,0)","v":0},"2",{"$f":"ROUND(L407*K407,3)","v":0},"16","-1578747545"]
[{"$nulls":4},"","Prístavba",{"$nulls":4},"",{"$nulls":34},"VV","2","1","True","0","ROZPOCET"]
[{"$nulls":4},"","2,1*7,9",{"$nulls":4},16.59,{"$nulls":34},"VV","2","2","True","0","ROZPOCET"]
[{"$nulls":4},"","Súčet",{"$nulls":4},16.59,{"$nulls":34},"VV","2","4","True","1","ROZPOCET"]
[null,null,"70","K","764311891","Demontáž krytiny hladkej strešnej, príplatok za sklon nad 30° do 45°",null,null,null,"m2",16.59,0,null,{"$f":"ROUND(L411*K411,3)","v":0},{"$nulls":5},"","znížená",null,{"$f":"V411*K411","v":0},0,{"$f":"X411*K411","v":0},0,{"$f":"Z411*K411","v":0},{"$nulls":16},"16",null,"K","2",null,null,null,"ROZPOCET",{"$nulls":5},{"$f":"IF(U411=\"základná\",N411,0)","v":0},{"$f":"IF(U411=\"znížená\",N411,0)","v":0},{"$f":"IF(U411=\"zákl. prenesená\",N411,0)","v":0},{"$f":"IF(U411=\"zníž. prenesená\",N411,0)","v":0},{"$f":"IF(U411=\"nulová\",N411,0)","v":0},"2",{"$f":"ROUND(L411*K411,3)","v":0},"16","2009624469"]
[{"$nulls":4},"","Prístavba",{"$nulls":4},"",{"$nulls":34},"VV","2","1","True","0","ROZPOCET"]
[{"$nulls":4},"","2,1*7,9",{"$nulls":4},16.59,{"$nulls":34},"VV","2","2","True","0","ROZPOCET"]
[{"$nulls":4},"","Súčet",{"$nulls":4},16.59,{"$nulls":34},"VV","2","4","True","1","ROZPOCET"]
[null,null,"71","K","764361891","Demontáž strešných otvorov, v krytine vlnitej a korýtkovej, príplatok za sklon nad 30st. do 45st. ",null,null,null,"ks",10,0,null,{"$f":"ROUND(L415*K415,3)","v":0},{"$nulls":5},"","znížená",null,{"$f":"V415*K415","v":0},0,{"$f":"X415*K415","v":0},0,{"$f":"Z415*K415","v":0},{"$nulls":16},"16",null,"K","2",null,null,null,"ROZPOCET",{"$nulls":5},{"$f":"IF(U415=\"základná\",N415,0)","v":0},{"$f":"IF(U415=\"znížená\",N415,0)","v":0},{"$f":"IF(U415=\"zákl. prenesená\",N415,0)","v":0},{"$f":"IF(U415=\"zníž. prenesená\",N415,0)","v":0},{"$f":"IF(U415=\"nulová\",N415,0)","v":0},"2",{"$f":"ROUND(L415*K415,3)","v":0},"16","1668876498"]
[null,null,"72","K","764367891","Demontáž strešných otvorov, oplechovanie strešného okienka, príplatok za sklon nad 30° do 45°",null,null,null,"m2",10.380000000000001,0,null,{"$f":"ROUND(L416*K416,3)","v":0},{"$nulls":5},"","znížená",null,{"$f":"V416*K416","v":0},0,{"$f":"X416*K416","v":0},0,{"$f":"Z416*K416","v":0},{"$nulls":16},"16",null,"K","2",null,null,null,"ROZPOCET",{"$nulls":5},{"$f":"IF(U416=\"základná\",N416,0)","v":0},{"$f":"IF(U416=\"znížená\",N416,0)","v":0},{"$f":"IF(U416=\"zákl. prenesená\",N416,0)","v":0},{"$f":"IF(U416=\"zníž. prenesená\",N416,0)","v":0},{"$f":"IF(U416=\"nulová\",N416,0)","v":0},"2",{"$f":"ROUND(L416*K416,3)","v":0},"16","-960803067"]
[{"$nulls":4},"","Strešné okná 0,65x1,080 - 10 ks",{"$nulls":4},"",{"$nulls":34},"VV","2","1","True","0","ROZPOCET"]
[{"$nulls":4},"","(0,65+1,080)*2*0,30*10",{"$nulls":4},10.380000000000001,{"$nulls":34},"VV","2","2","True","0","ROZPOCET"]
[{"$nulls":4},"","Súčet",{"$nulls":4},10.380000000000001,{"$nulls":34},"VV","2","4","True","1","ROZPOCET"]
[null,null,"73","K","764751112","Odpadová rúra kruhová D 100 mm Lindab Rainline Elite",null,null,null,"m",3.2000000000000002,0,null,{"$f":"ROUND(L420*K420,3)","v":0},{"$nulls":5},"","znížená",null,{"$f":"V420*K420","v":0},0.0020500000000000002,{"$f":"X420*K420","v":0.0065600000000000007},0,{"$f":"Z420*K420","v":0},{"$nulls":16},"16",null,"K","2",null,null,null,"ROZPOCET",{"$nulls":5},{"$f":"IF(U420=\"základná\",N420,0)","v":0},{"$f":"IF(U420=\"znížená\",N420,0)","v":0},{"$f":"IF(U420=\"zákl. prenesená\",N420,0)","v":0},{"$f":"IF(U420=\"zníž. prenesená\",N420,0)","v":0},{"$f":"IF(U420=\"nulová\",N420,0)","v":0},"2",{"$f":"ROUND(L420*K420,3)","v":0},"16","427772972"]
[null,null,"74","K","764751122","Spodný diel odpadovej rúry D 100 mm Lindab Rainline Elite",null,null,null,"ks",1,0,null,{"$f":"ROUND(L421*K421,3)","v":0},{"$nulls":5},"","znížená",null,{"$f":"V421*K421","v":0},0.00076999999999999996,{"$f":"X421*K421","v":0.00076999999999999996},0,{"$f":"Z421*K421","v":0},{"$nulls":16},"16",null,"K","2",null,null,null,"ROZPOCET",{"$nulls":5},{"$f":"IF(U421=\"základná\",N421,0)","v":0},{"$f":"IF(U421=\"znížená\",N421,0)","v":0},{"$f":"IF(U421=\"zákl. prenesená\",N421,0)","v":0},{"$f":"IF(U421=\"zníž. prenesená\",N421,0)","v":0},{"$f":"IF(U421=\"nulová\",N421,0)","v":0},"2",{"$f":"ROUND(L421*K421,3)","v":0},"16","1158631509"]
[null,null,"75","K","764751152","Odskok odtokového potrubia D 100 mm Lindab Rainline Elite",null,null,null,"ks",1,0,null,{"$f":"ROUND(L422*K422,3)","v":0},{"$nulls":5},"","znížená",null,{"$f":"V422*K422","v":0},0.00038999999999999999,{"$f":"X422*K422","v":0.00038999999999999999},0,{"$f":"Z422*K422","v":0},{"$nulls":16},"16",null,"K","2",null,null,null,"ROZPOCET",{"$nulls":5},{"$f":"IF(U422=\"základná\",N422,0)","v":0},{"$f":"IF(U422=\"znížená\",N422,0)","v":0},{"$f":"IF(U422=\"zákl. prenesená\",N422,0)","v":0},{"$f":"IF(U422=\"zníž. prenesená\",N422,0)","v":0},{"$f":"IF(U422=\"nulová\",N422,0)","v":0},"2",{"$f":"ROUND(L422*K422,3)","v":0},"16","-1669260000"]
[null,null,"76","K","764762111","Montáž žľabu pododkvapový",null,null,null,"m",7.9000000000000004,0,null,{"$f":"ROUND(L423*K423,3)","v":0},{"$nulls":5},"","znížená",null,{"$f":"V423*K423","v":0},0.00020000000000000001,{"$f":"X423*K423","v":0.0015800000000000002},0,{"$f":"Z423*K423","v":0},{"$nulls":16},"16",null,"K","2",null,null,null,"ROZPOCET",{"$nulls":5},{"$f":"IF(U423=\"základná\",N423,0)","v":0},{"$f":"IF(U423=\"znížená\",N423,0)","v":0},{"$f":"IF(U423=\"zákl. prenesená\",N423,0)","v":0},{"$f":"IF(U423=\"zníž. prenesená\",N423,0)","v":0},{"$f":"IF(U423=\"nulová\",N423,0)","v":0},"2",{"$f":"ROUND(L423*K423,3)","v":0},"16","1913794435"]
[null,null,"77","K","764761121","Žľab pododkvapový polkruhový R 125 mm, vrátane čela, hákov, rohov, kútov Lindab",null,null,null,"m",7.9000000000000004,0,null,{"$f":"ROUND(L424*K424,3)","v":0},{"$nulls":5},"","znížená",null,{"$f":"V424*K424","v":0},0.0013699999999999999,{"$f":"X424*K424","v":0.010822999999999999},0,{"$f":"Z424*K424","v":0},{"$nulls":16},"4",null,"K","2",null,null,null,"ROZPOCET",{"$nulls":5},{"$f":"IF(U424=\"základná\",N424,0)","v":0},{"$f":"IF(U424=\"znížená\",N424,0)","v":0},{"$f":"IF(U424=\"zákl. prenesená\",N424,0)","v":0},{"$f":"IF(U424=\"zníž. prenesená\",N424,0)","v":0},{"$f":"IF(U424=\"nulová\",N424,0)","v":0},"2",{"$f":"ROUND(L424*K424,3)","v":0},"4","-471884288"]
[{"$nulls":4},"","Prístavba ",{"$nulls":4},"",{"$nulls":34},"VV","2","1","True","0","ROZPOCET"]
[{"$nulls":4},"","7,9",{"$nulls":4},7.9000000000000004,{"$nulls":34},"VV","2","2","True","0","ROZPOCET"]
[{"$nulls":4},"","Súčet",{"$nulls":4},7.9000000000000004,{"$nulls":34},"VV","2","4","True","1","ROZPOCET"]
[null,null,"78","K","764761231","Žľabový kotlík k polkruhovým žľabom D 125 mm Lindab Rainline Elite",null,null,null,"ks",1,0,null,{"$f":"ROUND(L428*K428,3)","v":0},{"$nulls":5},"","znížená",null,{"$f":"V428*K428","v":0},0.00031,{"$f":"X428*K428","v":0.00031},0,{"$f":"Z428*K428","v":0},{"$nulls":16},"16",null,"K","2",null,null,null,"ROZPOCET",{"$nulls":5},{"$f":"IF(U428=\"základná\",N428,0)","v":0},{"$f":"IF(U428=\"znížená\",N428,0)","v":0},{"$f":"IF(U428=\"zákl. prenesená\",N428,0)","v":0},{"$f":"IF(U428=\"zníž. prenesená\",N428,0)","v":0},{"$f":"IF(U428=\"nulová\",N428,0)","v":0},"2",{"$f":"ROUND(L428*K428,3)","v":0},"16","-814517665"]
[null,null,"79","K","764761241","Filtračná vložka proti zaneseniu lístia do kotlíka Lindab Rainline Elite",null,null,null,"ks",1,0,null,{"$f":"ROUND(L429*K429,3)","v":0},{"$nulls":5},"","znížená",null,{"$f":"V429*K429","v":0},0.00025000000000000001,{"$f":"X429*K429","v":0.00025000000000000001},0,{"$f":"Z429*K429","v":0},{"$nulls":16},"16",null,"K","2",null,null,null,"ROZPOCET",{"$nulls":5},{"$f":"IF(U429=\"základná\",N429,0)","v":0},{"$f":"IF(U429=\"znížená\",N429,0)","v":0},{"$f":"IF(U429=\"zákl. prenesená\",N429,0)","v":0},{"$f":"IF(U429=\"zníž. prenesená\",N429,0)","v":0},{"$f":"IF(U429=\"nulová\",N429,0)","v":0},"2",{"$f":"ROUND(L429*K429,3)","v":0},"16","-1164246495"]
[null,null,"80","K","998764101","Presun hmôt pre konštrukcie klampiarske v objektoch výšky do 6 m",null,null,null,"t",0.025999999999999999,0,null,{"$f":"ROUND(L430*K430,3)","v":0},{"$nulls":5},"","znížená",null,{"$f":"V430*K430","v":0},0,{"$f":"X430*K430","v":0},0,{"$f":"Z430*K430","v":0},{"$nulls":16},"16",null,"K","2",null,null,null,"ROZPOCET",{"$nulls":5},{"$f":"IF(U430=\"základná\",N430,0)","v":0},{"$f":"IF(U430=\"znížená\",N430,0)","v":0},{"$f":"IF(U430=\"zákl. prenesená\",N430,0)","v":0},{"$f":"IF(U430=\"zníž. prenesená\",N430,0)","v":0},{"$f":"IF(U430=\"nulová\",N430,0)","v":0},"2",{"$f":"ROUND(L430*K430,3)","v":0},"16","2079749006"]
[null,null,null,"    765 - Konštrukcie - krytiny tvrdé",{"$nulls":9},{"$f":"BK431","v":0},{"$nulls":8},{"$f":"SUM(W432:W436)","v":0},null,{"$f":"SUM(Y432:Y436)","v":0.093931000000000014},null,{"$f":"SUM(AA432:AA436)","v":0},{"$nulls":16},"2",null,"D","1",null,null,null,"ROZPOCET",{"$nulls":11},{"$f":"SUM(BK432:BK436)","v":0}]
[null,null,"81","K","765901122","Strešná fólia JUTA Jutadach 150, na plné debnenie",null,null,null,"m2",45.82,0,null,{"$f":"ROUND(L432*K432,3)","v":0},{"$nulls":5},"","znížená",null,{"$f":"V432*K432","v":0},0.0020500000000000002,{"$f":"X432*K432","v":0.093931000000000014},0,{"$f":"Z432*K432","v":0},{"$nulls":16},"16",null,"K","2",null,null,null,"ROZPOCET",{"$nulls":5},{"$f":"IF(U432=\"základná\",N432,0)","v":0},{"$f":"IF(U432=\"znížená\",N432,0)","v":0},{"$f":"IF(U432=\"zákl. prenesená\",N432,0)","v":0},{"$f":"IF(U432=\"zníž. prenesená\",N432,0)","v":0},{"$f":"IF(U432=\"nulová\",N432,0)","v":0},"2",{"$f":"ROUND(L432*K432,3)","v":0},"16","-615650487"]
[{"$nulls":4},"","Prístavba debnenie",{"$nulls":4},"",{"$nulls":34},"VV","2","1","True","0","ROZPOCET"]
[{"$nulls":4},"","7,9*5,8",{"$nulls":4},45.82,{"$nulls":34},"VV","2","2","True","0","ROZPOCET"]
[{"$nulls":4},"","Súčet",{"$nulls":4},45.82,{"$nulls":34},"VV","2","4","True","1","ROZPOCET"]
[null,null,"82","K","998765101","Presun hmôt pre tvrdé krytiny v objektoch výšky do 6 m",null,null,null,"t",0.094,0,null,{"$f":"ROUND(L436*K436,3)","v":0},{"$nulls":5},"","znížená",null,{"$f":"V436*K436","v":0},0,{"$f":"X436*K436","v":0},0,{"$f":"Z436*K436","v":0},{"$nulls":16},"16",null,"K","2",null,null,null,"ROZPOCET",{"$nulls":5},{"$f":"IF(U436=\"základná\",N436,0)","v":0},{"$f":"IF(U436=\"znížená\",N436,0)","v":0},{"$f":"IF(U436=\"zákl. prenesená\",N436,0)","v":0},{"$f":"IF(U436=\"zníž. prenesená\",N436,0)","v":0},{"$f":"IF(U436=\"nulová\",N436,0)","v":0},"2",{"$f":"ROUND(L436*K436,3)","v":0},"16","-748135769"]
[null,null,null,"    766 - Konštrukcie stolárske",{"$nulls":9},{"$f":"BK437","v":0},{"$nulls":8},{"$f":"SUM(W438:W460)","v":0},null,{"$f":"SUM(Y438:Y460)","v":0.96909200000000006},null,{"$f":"SUM(AA438:AA460)","v":0},{"$nulls":16},"2",null,"D","1",null,null,null,"ROZPOCET",{"$nulls":11},{"$f":"SUM(BK438:BK460)","v":0}]
[null,null,"83","K","766621401","Montáž okien plastových s hydroizolačnými expanznými ISO páskami (expanzná)",null,null,null,"m",43.200000000000003,0,null,{"$f":"ROUND(L438*K438,3)","v":0},{"$nulls":5},"","znížená",null,{"$f":"V438*K438","v":0},0.00021000000000000001,{"$f":"X438*K438","v":0.0090720000000000002},0,{"$f":"Z438*K438","v":0},{"$nulls":16},"16",null,"K","2",null,null,null,"ROZPOCET",{"$nulls":5},{"$f":"IF(U438=\"základná\",N438,0)","v":0},{"$f":"IF(U438=\"znížená\",N438,0)","v":0},{"$f":"IF(U438=\"zákl. prenesená\",N438,0)","v":0},{"$f":"IF(U438=\"zníž. prenesená\",N438,0)","v":0},{"$f":"IF(U438=\"nulová\",N438,0)","v":0},"2",{"$f":"ROUND(L438*K438,3)","v":0},"16","43154421"]
[{"$nulls":4},"","I.N.P.",{"$nulls":4},"",{"$nulls":34},"VV","2","1","True","0","ROZPOCET"]
[{"$nulls":4},"","(1,2+0,6)*2*10",{"$nulls":4},36,{"$nulls":34},"VV","2","2","True","0","ROZPOCET"]
[{"$nulls":4},"","Prístavba",{"$nulls":4},"",{"$nulls":34},"VV","2","1","True","0","ROZPOCET"]
[{"$nulls":4},"","(1,2+0,6)*2*2",{"$nulls":4},7.2000000000000002,{"$nulls":34},"VV","2","2","True","0","ROZPOCET"]
[{"$nulls":4},"","Súčet",{"$nulls":4},43.200000000000003,{"$nulls":34},"VV","2","4","True","1","ROZPOCET"]
[null,null,"84","M","2832301000","Expanzná páska Bloco 600 1-2x15 mm/20 m, pre okenné a fasádne konštrukcie",null,null,null,"m",43.200000000000003,0,null,{"$f":"ROUND(L444*K444,3)","v":0},{"$nulls":5},"","znížená",null,{"$f":"V444*K444","v":0},0.00010000000000000001,{"$f":"X444*K444","v":0.0043200000000000009},0,{"$f":"Z444*K444","v":0},{"$nulls":16},"32",null,"M","2",null,null,null,"ROZPOCET",{"$nulls":5},{"$f":"IF(U444=\"základná\",N444,0)","v":0},{"$f":"IF(U444=\"znížená\",N444,0)","v":0},{"$f":"IF(U444=\"zákl. prenesená\",N444,0)","v":0},{"$f":"IF(U444=\"zníž. prenesená\",N444,0)","v":0},{"$f":"IF(U444=\"nulová\",N444,0)","v":0},"2",{"$f":"ROUND(L444*K444,3)","v":0},"16","-2119853379"]
[null,null,"85","M","6114123860","Plastové okno jednokrídlové OS, rozmer 600x1200 mm (vxš), izolačné trojsklo, systém GEALAN 9000 - 6 komorový profil",null,null,null,"ks",12,0,null,{"$f":"ROUND(L445*K445,3)","v":0},{"$nulls":5},"","znížená",null,{"$f":"V445*K445","v":0},0.042000000000000003,{"$f":"X445*K445","v":0.504},0,{"$f":"Z445*K445","v":0},{"$nulls":16},"32",null,"M","2",null,null,null,"ROZPOCET",{"$nulls":5},{"$f":"IF(U445=\"základná\",N445,0)","v":0},{"$f":"IF(U445=\"znížená\",N445,0)","v":0},{"$f":"IF(U445=\"zákl. prenesená\",N445,0)","v":0},{"$f":"IF(U445=\"zníž. prenesená\",N445,0)","v":0},{"$f":"IF(U445=\"nulová\",N445,0)","v":0},"2",{"$f":"ROUND(L445*K445,3)","v":0},"16","-472882740"]
[{"$nulls":4},"","I.N.P.",{"$nulls":4},"",{"$nulls":34},"VV","2","1","True","0","ROZPOCET"]
[{"$nulls":4},"","8+2",{"$nulls":4},10,{"$nulls":34},"VV","2","2","True","0","ROZPOCET"]
[{"$nulls":4},"","Medzisúčet",{"$nulls":4},10,{"$nulls":34},"VV","2","3","True","0","ROZPOCET"]
[{"$nulls":4},"","Prístavba",{"$nulls":4},"",{"$nulls":34},"VV","2","1","True","0","ROZPOCET"]
[{"$nulls":4},"","2",{"$nulls":4},2,{"$nulls":34},"VV","2","2","True","0","ROZPOCET"]
[{"$nulls":4},"","Medzisúčet",{"$nulls":4},2,{"$nulls":34},"VV","2","3","True","0","ROZPOCET"]
[{"$nulls":4},"","Súčet",{"$nulls":4},12,{"$nulls":34},"VV","2","4","True","1","ROZPOCET"]
[null,null,"86","K","766662112","Montáž dverového krídla otočného jednokrídlového poldrážkového, do existujúcej zárubne, vrátane kovania",null,null,null,"ks",1,0,null,{"$f":"ROUND(L453*K453,3)","v":0},{"$nulls":5},"","znížená",null,{"$f":"V453*K453","v":0},0,{"$f":"X453*K453","v":0},0,{"$f":"Z453*K453","v":0},{"$nulls":16},"16",null,"K","2",null,null,null,"ROZPOCET",{"$nulls":5},{"$f":"IF(U453=\"základná\",N453,0)","v":0},{"$f":"IF(U453=\"znížená\",N453,0)","v":0},{"$f":"IF(U453=\"zákl. prenesená\",N453,0)","v":0},{"$f":"IF(U453=\"zníž. prenesená\",N453,0)","v":0},{"$f":"IF(U453=\"nulová\",N453,0)","v":0},"2",{"$f":"ROUND(L453*K453,3)","v":0},"16","-2042468303"]
[null,null,"87","M","5491502040","Kovanie - 2x kľučka, povrch nerez brúsený, 2x rozeta BB, FAB",null,null,null,"ks",1,0,null,{"$f":"ROUND(L454*K454,3)","v":0},{"$nulls":5},"","znížená",null,{"$f":"V454*K454","v":0},0.001,{"$f":"X454*K454","v":0.001},0,{"$f":"Z454*K454","v":0},{"$nulls":16},"32",null,"M","2",null,null,null,"ROZPOCET",{"$nulls":5},{"$f":"IF(U454=\"základná\",N454,0)","v":0},{"$f":"IF(U454=\"znížená\",N454,0)","v":0},{"$f":"IF(U454=\"zákl. prenesená\",N454,0)","v":0},{"$f":"IF(U454=\"zníž. prenesená\",N454,0)","v":0},{"$f":"IF(U454=\"nulová\",N454,0)","v":0},"2",{"$f":"ROUND(L454*K454,3)","v":0},"16","1219197764"]
[null,null,"88","M","61172010000","Dvere  vstupné bezpečnostné M10 plné, štandard I. (El/EW30+K3), šírky 900 mm",null,null,null,"ks",1,0,null,{"$f":"ROUND(L455*K455,3)","v":0},{"$nulls":5},"","znížená",null,{"$f":"V455*K455","v":0},0.029999999999999999,{"$f":"X455*K455","v":0.029999999999999999},0,{"$f":"Z455*K455","v":0},{"$nulls":16},"32",null,"M","2",null,null,null,"ROZPOCET",{"$nulls":5},{"$f":"IF(U455=\"základná\",N455,0)","v":0},{"$f":"IF(U455=\"znížená\",N455,0)","v":0},{"$f":"IF(U455=\"zákl. prenesená\",N455,0)","v":0},{"$f":"IF(U455=\"zníž. prenesená\",N455,0)","v":0},{"$f":"IF(U455=\"nulová\",N455,0)","v":0},"2",{"$f":"ROUND(L455*K455,3)","v":0},"16","134203751"]
[null,null,"89","K","766671000","Montáž okna strešného VELUX, veľkosť okna 66x118 cm F 06 so zatepľovacou sadou, parozábranou a lemovaním",null,null,null,"ks",10,0,null,{"$f":"ROUND(L456*K456,3)","v":0},{"$nulls":5},"","znížená",null,{"$f":"V456*K456","v":0},6.0000000000000002E-05,{"$f":"X456*K456","v":0.00060000000000000006},0,{"$f":"Z456*K456","v":0},{"$nulls":16},"16",null,"K","2",null,null,null,"ROZPOCET",{"$nulls":5},{"$f":"IF(U456=\"základná\",N456,0)","v":0},{"$f":"IF(U456=\"znížená\",N456,0)","v":0},{"$f":"IF(U456=\"zákl. prenesená\",N456,0)","v":0},{"$f":"IF(U456=\"zníž. prenesená\",N456,0)","v":0},{"$f":"IF(U456=\"nulová\",N456,0)","v":0},"2",{"$f":"ROUND(L456*K456,3)","v":0},"16","289913647"]
[null,null,"90","M","6113901000","Strešné okno VELUX GZL 1050B F06, 660x1180 mm, drevené, kyvné",null,null,null,"ks",10,0,null,{"$f":"ROUND(L457*K457,3)","v":0},{"$nulls":5},"","znížená",null,{"$f":"V457*K457","v":0},0.035159999999999997,{"$f":"X457*K457","v":0.35159999999999997},0,{"$f":"Z457*K457","v":0},{"$nulls":16},"32",null,"M","2",null,null,null,"ROZPOCET",{"$nulls":5},{"$f":"IF(U457=\"základná\",N457,0)","v":0},{"$f":"IF(U457=\"znížená\",N457,0)","v":0},{"$f":"IF(U457=\"zákl. prenesená\",N457,0)","v":0},{"$f":"IF(U457=\"zníž. prenesená\",N457,0)","v":0},{"$f":"IF(U457=\"nulová\",N457,0)","v":0},"2",{"$f":"ROUND(L457*K457,3)","v":0},"16","1785861409"]
[null,null,"91","M","6113903400","Lemovanie VELUX EDW 120 mm F06",null,null,null,"ks",10,0,null,{"$f":"ROUND(L458*K458,3)","v":0},{"$nulls":5},"","znížená",null,{"$f":"V458*K458","v":0},0.0051000000000000004,{"$f":"X458*K458","v":0.051000000000000004},0,{"$f":"Z458*K458","v":0},{"$nulls":16},"32",null,"M","2",null,null,null,"ROZPOCET",{"$nulls":5},{"$f":"IF(U458=\"základná\",N458,0)","v":0},{"$f":"IF(U458=\"znížená\",N458,0)","v":0},{"$f":"IF(U458=\"zákl. prenesená\",N458,0)","v":0},{"$f":"IF(U458=\"zníž. prenesená\",N458,0)","v":0},{"$f":"IF(U458=\"nulová\",N458,0)","v":0},"2",{"$f":"ROUND(L458*K458,3)","v":0},"16","-1258430504"]
[null,null,"92","M","6113904845","Zatepľovacia sada VELUX BDX 2000 F06 660x1180 mm",null,null,null,"ks",10,0,null,{"$f":"ROUND(L459*K459,3)","v":0},{"$nulls":5},"","znížená",null,{"$f":"V459*K459","v":0},0.00175,{"$f":"X459*K459","v":0.017500000000000002},0,{"$f":"Z459*K459","v":0},{"$nulls":16},"32",null,"M","2",null,null,null,"ROZPOCET",{"$nulls":5},{"$f":"IF(U459=\"základná\",N459,0)","v":0},{"$f":"IF(U459=\"znížená\",N459,0)","v":0},{"$f":"IF(U459=\"zákl. prenesená\",N459,0)","v":0},{"$f":"IF(U459=\"zníž. prenesená\",N459,0)","v":0},{"$f":"IF(U459=\"nulová\",N459,0)","v":0},"2",{"$f":"ROUND(L459*K459,3)","v":0},"16","188413877"]
[null,null,"93","K","998766102","Presun hmot pre konštrukcie stolárske v objektoch výšky nad 6 do 12 m",null,null,null,"t",0.96899999999999997,0,null,{"$f":"ROUND(L460*K460,3)","v":0},{"$nulls":5},"","znížená",null,{"$f":"V460*K460","v":0},0,{"$f":"X460*K460","v":0},0,{"$f":"Z460*K460","v":0},{"$nulls":16},"16",null,"K","2",null,null,null,"ROZPOCET",{"$nulls":5},{"$f":"IF(U460=\"základná\",N460,0)","v":0},{"$f":"IF(U460=\"znížená\",N460,0)","v":0},{"$f":"IF(U460=\"zákl. prenesená\",N460,0)","v":0},{"$f":"IF(U460=\"zníž. prenesená\",N460,0)","v":0},{"$f":"IF(U460=\"nulová\",N460,0)","v":0},"2",{"$f":"ROUND(L460*K460,3)","v":0},"16","2045525813"]
[null,null,null,"    767 - Konštrukcie doplnkové kovové",{"$nulls":9},{"$f":"BK461","v":0},{"$nulls":8},{"$f":"SUM(W462:W468)","v":0},null,{"$f":"SUM(Y462:Y468)","v":0.45016999999999996},null,{"$f":"SUM(AA462:AA468)","v":0},{"$nulls":16},"2",null,"D","1",null,null,null,"ROZPOCET",{"$nulls":11},{"$f":"SUM(BK462:BK468)","v":0}]
[null,null,"94","K","767658112","Montáž vrát sekčných sklopných pod strop plochy nad 6 do 9 m2",null,null,null,"ks",2,0,null,{"$f":"ROUND(L462*K462,3)","v":0},{"$nulls":5},"","znížená",null,{"$f":"V462*K462","v":0},0,{"$f":"X462*K462","v":0},0,{"$f":"Z462*K462","v":0},{"$nulls":16},"16",null,"K","2",null,null,null,"ROZPOCET",{"$nulls":5},{"$f":"IF(U462=\"základná\",N462,0)","v":0},{"$f":"IF(U462=\"znížená\",N462,0)","v":0},{"$f":"IF(U462=\"zákl. prenesená\",N462,0)","v":0},{"$f":"IF(U462=\"zníž. prenesená\",N462,0)","v":0},{"$f":"IF(U462=\"nulová\",N462,0)","v":0},"2",{"$f":"ROUND(L462*K462,3)","v":0},"16","1766083374"]
[null,null,"95","M","55343715230","Garážové vráta HxB 2700x3300 vodorovne rebrovaná, resp. kazetová - RES X",null,null,null,"ks",1,0,null,{"$f":"ROUND(L463*K463,3)","v":0},{"$nulls":5},"","znížená",null,{"$f":"V463*K463","v":0},0.077030000000000001,{"$f":"X463*K463","v":0.077030000000000001},0,{"$f":"Z463*K463","v":0},{"$nulls":16},"32",null,"M","2",null,null,null,"ROZPOCET",{"$nulls":5},{"$f":"IF(U463=\"základná\",N463,0)","v":0},{"$f":"IF(U463=\"znížená\",N463,0)","v":0},{"$f":"IF(U463=\"zákl. prenesená\",N463,0)","v":0},{"$f":"IF(U463=\"zníž. prenesená\",N463,0)","v":0},{"$f":"IF(U463=\"nulová\",N463,0)","v":0},"2",{"$f":"ROUND(L463*K463,3)","v":0},"16","1200528089"]
[null,null,"96","M","55343715060","Garážové vráta HxB 2700x2600 vodorovne rebrovaná, resp. kazetová - RES X",null,null,null,"ks",1,0,null,{"$f":"ROUND(L464*K464,3)","v":0},{"$nulls":5},"","znížená",null,{"$f":"V464*K464","v":0},0.060639999999999999,{"$f":"X464*K464","v":0.060639999999999999},0,{"$f":"Z464*K464","v":0},{"$nulls":16},"32",null,"M","2",null,null,null,"ROZPOCET",{"$nulls":5},{"$f":"IF(U464=\"základná\",N464,0)","v":0},{"$f":"IF(U464=\"znížená\",N464,0)","v":0},{"$f":"IF(U464=\"zákl. prenesená\",N464,0)","v":0},{"$f":"IF(U464=\"zníž. prenesená\",N464,0)","v":0},{"$f":"IF(U464=\"nulová\",N464,0)","v":0},"2",{"$f":"ROUND(L464*K464,3)","v":0},"16","2023121079"]
[null,null,"97","K","767658113","Montáž vrát sekčných sklopných pod strop plochy nad 9 do 13 m2",null,null,null,"ks",1,0,null,{"$f":"ROUND(L465*K465,3)","v":0},{"$nulls":5},"","znížená",null,{"$f":"V465*K465","v":0},0,{"$f":"X465*K465","v":0},0,{"$f":"Z465*K465","v":0},{"$nulls":16},"16",null,"K","2",null,null,null,"ROZPOCET",{"$nulls":5},{"$f":"IF(U465=\"základná\",N465,0)","v":0},{"$f":"IF(U465=\"znížená\",N465,0)","v":0},{"$f":"IF(U465=\"zákl. prenesená\",N465,0)","v":0},{"$f":"IF(U465=\"zníž. prenesená\",N465,0)","v":0},{"$f":"IF(U465=\"nulová\",N465,0)","v":0},"2",{"$f":"ROUND(L465*K465,3)","v":0},"16","-2078829462"]
[null,null,"98","M","55343715380","Garážové vráta HxB 3300x3300 vodorovne rebrovaná, resp. kazetová - RES X",null,null,null,"ks",1,0,null,{"$f":"ROUND(L466*K466,3)","v":0},{"$nulls":5},"","znížená",null,{"$f":"V466*K466","v":0},0.087499999999999994,{"$f":"X466*K466","v":0.087499999999999994},0,{"$f":"Z466*K466","v":0},{"$nulls":16},"32",null,"M","2",null,null,null,"ROZPOCET",{"$nulls":5},{"$f":"IF(U466=\"základná\",N466,0)","v":0},{"$f":"IF(U466=\"znížená\",N466,0)","v":0},{"$f":"IF(U466=\"zákl. prenesená\",N466,0)","v":0},{"$f":"IF(U466=\"zníž. prenesená\",N466,0)","v":0},{"$f":"IF(U466=\"nulová\",N466,0)","v":0},"2",{"$f":"ROUND(L466*K466,3)","v":0},"16","1221329415"]
[null,null,"99","M","5534371550","Motor RES 70 + diaľkové ovládanie do 3000x2525 mm",null,null,null,"ks",3,0,null,{"$f":"ROUND(L467*K467,3)","v":0},{"$nulls":5},"","znížená",null,{"$f":"V467*K467","v":0},0.074999999999999997,{"$f":"X467*K467","v":0.22499999999999998},0,{"$f":"Z467*K467","v":0},{"$nulls":16},"32",null,"M","2",null,null,null,"ROZPOCET",{"$nulls":5},{"$f":"IF(U467=\"základná\",N467,0)","v":0},{"$f":"IF(U467=\"znížená\",N467,0)","v":0},{"$f":"IF(U467=\"zákl. prenesená\",N467,0)","v":0},{"$f":"IF(U467=\"zníž. prenesená\",N467,0)","v":0},{"$f":"IF(U467=\"nulová\",N467,0)","v":0},"2",{"$f":"ROUND(L467*K467,3)","v":0},"16","1442748407"]
[null,null,"100","K","998767101","Presun hmôt pre kovové stavebné doplnkové konštrukcie v objektoch výšky do 6 m",null,null,null,"t",0.45000000000000001,0,null,{"$f":"ROUND(L468*K468,3)","v":0},{"$nulls":5},"","znížená",null,{"$f":"V468*K468","v":0},0,{"$f":"X468*K468","v":0},0,{"$f":"Z468*K468","v":0},{"$nulls":16},"16",null,"K","2",null,null,null,"ROZPOCET",{"$nulls":5},{"$f":"IF(U468=\"základná\",N468,0)","v":0},{"$f":"IF(U468=\"znížená\",N468,0)","v":0},{"$f":"IF(U468=\"zákl. prenesená\",N468,0)","v":0},{"$f":"IF(U468=\"zníž. prenesená\",N468,0)","v":0},{"$f":"IF(U468=\"nulová\",N468,0)","v":0},"2",{"$f":"ROUND(L468*K468,3)","v":0},"16","1607264674"]
[null,null,null,"    784 - Dokončovacie práce - maľby",{"$nulls":9},{"$f":"BK469","v":0},{"$nulls":8},{"$f":"SUM(W470:W473)","v":0},null,{"$f":"SUM(Y470:Y473)","v":0.083908500000000011},null,{"$f":"SUM(AA470:AA473)","v":0},{"$nulls":16},"2",null,"D","1",null,null,null,"ROZPOCET",{"$nulls":11},{"$f":"SUM(BK470:BK473)","v":0}]
[null,null,"101","K","784481120","Stierka stropov na podklad jemnozrnný výšky nad 3,80 m   ",null,null,null,"m2",25.350000000000001,0,null,{"$f":"ROUND(L470*K470,3)","v":0},{"$nulls":5},"","znížená",null,{"$f":"V470*K470","v":0},0.00331,{"$f":"X470*K470","v":0.083908500000000011},0,{"$f":"Z470*K470","v":0},{"$nulls":16},"16",null,"K","2",null,null,null,"ROZPOCET",{"$nulls":5},{"$f":"IF(U470=\"základná\",N470,0)","v":0},{"$f":"IF(U470=\"znížená\",N470,0)","v":0},{"$f":"IF(U470=\"zákl. prenesená\",N470,0)","v":0},{"$f":"IF(U470=\"zníž. prenesená\",N470,0)","v":0},{"$f":"IF(U470=\"nulová\",N470,0)","v":0},"2",{"$f":"ROUND(L470*K470,3)","v":0},"16","-60590209"]
[{"$nulls":4},"","Podhľad-prístavba",{"$nulls":4},"",{"$nulls":34},"VV","2","1","True","0","ROZPOCET"]
[{"$nulls":4},"","3,9*6,5",{"$nulls":4},25.350000000000001,{"$nulls":34},"VV","2","2","True","0","ROZPOCET"]
[{"$nulls":4},"","Súčet",{"$nulls":4},25.350000000000001,{"$nulls":34},"VV","2","4","True","1","ROZPOCET"]
[null,null,null,"M - Práce a dodávky M",{"$nulls":9},{"$f":"BK474","v":0},{"$nulls":8},{"$f":"W475+W581","v":0},null,{"$f":"Y475+Y581","v":0},null,{"$f":"AA475+AA581","v":0},{"$nulls":16},"3",null,"D","0",null,null,null,"ROZPOCET",{"$nulls":11},{"$f":"BK475+BK581","v":0}]
[null,null,null,"    21-M - Elektromontáže",{"$nulls":9},{"$f":"BK475","v":0},{"$nulls":8},{"$f":"SUM(W476:W580)","v":0},null,{"$f":"SUM(Y476:Y580)","v":0},null,{"$f":"SUM(AA476:AA580)","v":0},{"$nulls":16},"3",null,"D","1",null,null,null,"ROZPOCET",{"$nulls":11},{"$f":"SUM(BK476:BK580)","v":0}]
[null,null,"102","K","210010108","Lišta elektroinštalačná z PVC 24x22, uložená pevne, vkladacia",null,null,null,"m",20,0,null,{"$f":"ROUND(L476*K476,3)","v":0},{"$nulls":5},"","znížená",null,{"$f":"V476*K476","v":0},0,{"$f":"X476*K476","v":0},0,{"$f":"Z476*K476","v":0},{"$nulls":16},"64",null,"K","2",null,null,null,"ROZPOCET",{"$nulls":5},{"$f":"IF(U476=\"základná\",N476,0)","v":0},{"$f":"IF(U476=\"znížená\",N476,0)","v":0},{"$f":"IF(U476=\"zákl. prenesená\",N476,0)","v":0},{"$f":"IF(U476=\"zníž. prenesená\",N476,0)","v":0},{"$f":"IF(U476=\"nulová\",N476,0)","v":0},"2",{"$f":"ROUND(L476*K476,3)","v":0},"64","652204681"]
[null,null,"103","M","3410300877","Lišta hranatá HD - biela RAL 9003 LHD 25X20 HD",null,null,null,"m",20,0,null,{"$f":"ROUND(L477*K477,3)","v":0},{"$nulls":5},"","znížená",null,{"$f":"V477*K477","v":0},0,{"$f":"X477*K477","v":0},0,{"$f":"Z477*K477","v":0},{"$nulls":16},"256",null,"M","2",null,null,null,"ROZPOCET",{"$nulls":5},{"$f":"IF(U477=\"základná\",N477,0)","v":0},{"$f":"IF(U477=\"znížená\",N477,0)","v":0},{"$f":"IF(U477=\"zákl. prenesená\",N477,0)","v":0},{"$f":"IF(U477=\"zníž. prenesená\",N477,0)","v":0},{"$f":"IF(U477=\"nulová\",N477,0)","v":0},"2",{"$f":"ROUND(L477*K477,3)","v":0},"64","685162206"]
[null,null,"104","M","0008912 HB","8912 HB - KRYT SPOJOVACI LHD 25X20 - HB-biela RAL 9003",null,null,null,"kus",4,0,null,{"$f":"ROUND(L478*K478,3)","v":0},{"$nulls":5},"","znížená",null,{"$f":"V478*K478","v":0},0,{"$f":"X478*K478","v":0},0,{"$f":"Z478*K478","v":0},{"$nulls":16},"256",null,"M","2",null,null,null,"ROZPOCET",{"$nulls":5},{"$f":"IF(U478=\"základná\",N478,0)","v":0},{"$f":"IF(U478=\"znížená\",N478,0)","v":0},{"$f":"IF(U478=\"zákl. prenesená\",N478,0)","v":0},{"$f":"IF(U478=\"zníž. prenesená\",N478,0)","v":0},{"$f":"IF(U478=\"nulová\",N478,0)","v":0},"2",{"$f":"ROUND(L478*K478,3)","v":0},"64","-2107609904"]
[null,null,"105","M","0008913 HB","8913 HB - KRYT OHYBOVY LHD 25X20 - HB-biela RAL 9003",null,null,null,"kus",1,0,null,{"$f":"ROUND(L479*K479,3)","v":0},{"$nulls":5},"","znížená",null,{"$f":"V479*K479","v":0},0,{"$f":"X479*K479","v":0},0,{"$f":"Z479*K479","v":0},{"$nulls":16},"256",null,"M","2",null,null,null,"ROZPOCET",{"$nulls":5},{"$f":"IF(U479=\"základná\",N479,0)","v":0},{"$f":"IF(U479=\"znížená\",N479,0)","v":0},{"$f":"IF(U479=\"zákl. prenesená\",N479,0)","v":0},{"$f":"IF(U479=\"zníž. prenesená\",N479,0)","v":0},{"$f":"IF(U479=\"nulová\",N479,0)","v":0},"2",{"$f":"ROUND(L479*K479,3)","v":0},"64","1822711237"]
[null,null,"106","M","0008915 HB","8915 HB - KRYT ROH VNUTORNY LHD25X20 - HB-biela RAL 9003",null,null,null,"kus",1,0,null,{"$f":"ROUND(L480*K480,3)","v":0},{"$nulls":5},"","znížená",null,{"$f":"V480*K480","v":0},0,{"$f":"X480*K480","v":0},0,{"$f":"Z480*K480","v":0},{"$nulls":16},"256",null,"M","2",null,null,null,"ROZPOCET",{"$nulls":5},{"$f":"IF(U480=\"základná\",N480,0)","v":0},{"$f":"IF(U480=\"znížená\",N480,0)","v":0},{"$f":"IF(U480=\"zákl. prenesená\",N480,0)","v":0},{"$f":"IF(U480=\"zníž. prenesená\",N480,0)","v":0},{"$f":"IF(U480=\"nulová\",N480,0)","v":0},"2",{"$f":"ROUND(L480*K480,3)","v":0},"64","1677010569"]
[null,null,"107","K","210010110","Lišta elektroinštalačná z PVC 40x40, uložená pevne, vkladacia",null,null,null,"m",22,0,null,{"$f":"ROUND(L481*K481,3)","v":0},{"$nulls":5},"","znížená",null,{"$f":"V481*K481","v":0},0,{"$f":"X481*K481","v":0},0,{"$f":"Z481*K481","v":0},{"$nulls":16},"64",null,"K","2",null,null,null,"ROZPOCET",{"$nulls":5},{"$f":"IF(U481=\"základná\",N481,0)","v":0},{"$f":"IF(U481=\"znížená\",N481,0)","v":0},{"$f":"IF(U481=\"zákl. prenesená\",N481,0)","v":0},{"$f":"IF(U481=\"zníž. prenesená\",N481,0)","v":0},{"$f":"IF(U481=\"nulová\",N481,0)","v":0},"2",{"$f":"ROUND(L481*K481,3)","v":0},"64","576880555"]
[null,null,"108","M","3410300902","Lišta hranatá HF HD - biela RAL 9003 LHD 40X40HF HD",null,null,null,"m",22,0,null,{"$f":"ROUND(L482*K482,3)","v":0},{"$nulls":5},"","znížená",null,{"$f":"V482*K482","v":0},0,{"$f":"X482*K482","v":0},0,{"$f":"Z482*K482","v":0},{"$nulls":16},"256",null,"M","2",null,null,null,"ROZPOCET",{"$nulls":5},{"$f":"IF(U482=\"základná\",N482,0)","v":0},{"$f":"IF(U482=\"znížená\",N482,0)","v":0},{"$f":"IF(U482=\"zákl. prenesená\",N482,0)","v":0},{"$f":"IF(U482=\"zníž. prenesená\",N482,0)","v":0},{"$f":"IF(U482=\"nulová\",N482,0)","v":0},"2",{"$f":"ROUND(L482*K482,3)","v":0},"64","-161090053"]
[null,null,"109","M","0008642 HB","8642 HB - KRYT SPOJOVACI LHD 40X40 - HB-biela RAL 9003",null,null,null,"kus",6,0,null,{"$f":"ROUND(L483*K483,3)","v":0},{"$nulls":5},"","znížená",null,{"$f":"V483*K483","v":0},0,{"$f":"X483*K483","v":0},0,{"$f":"Z483*K483","v":0},{"$nulls":16},"256",null,"M","2",null,null,null,"ROZPOCET",{"$nulls":5},{"$f":"IF(U483=\"základná\",N483,0)","v":0},{"$f":"IF(U483=\"znížená\",N483,0)","v":0},{"$f":"IF(U483=\"zákl. prenesená\",N483,0)","v":0},{"$f":"IF(U483=\"zníž. prenesená\",N483,0)","v":0},{"$f":"IF(U483=\"nulová\",N483,0)","v":0},"2",{"$f":"ROUND(L483*K483,3)","v":0},"64","802792682"]
[null,null,"110","M","0008641 HB","8641 HB - KRYT KONCOVY LHD 40X40 - HB-biela RAL 9003",null,null,null,"kus",1,0,null,{"$f":"ROUND(L484*K484,3)","v":0},{"$nulls":5},"","znížená",null,{"$f":"V484*K484","v":0},0,{"$f":"X484*K484","v":0},0,{"$f":"Z484*K484","v":0},{"$nulls":16},"256",null,"M","2",null,null,null,"ROZPOCET",{"$nulls":5},{"$f":"IF(U484=\"základná\",N484,0)","v":0},{"$f":"IF(U484=\"znížená\",N484,0)","v":0},{"$f":"IF(U484=\"zákl. prenesená\",N484,0)","v":0},{"$f":"IF(U484=\"zníž. prenesená\",N484,0)","v":0},{"$f":"IF(U484=\"nulová\",N484,0)","v":0},"2",{"$f":"ROUND(L484*K484,3)","v":0},"64","2131304334"]
[null,null,"111","M","0008643 HB","8643 HB - KRYT OHYBOVY LHD 40X40 - HB-biela RAL 9003",null,null,null,"kus",1,0,null,{"$f":"ROUND(L485*K485,3)","v":0},{"$nulls":5},"","znížená",null,{"$f":"V485*K485","v":0},0,{"$f":"X485*K485","v":0},0,{"$f":"Z485*K485","v":0},{"$nulls":16},"256",null,"M","2",null,null,null,"ROZPOCET",{"$nulls":5},{"$f":"IF(U485=\"základná\",N485,0)","v":0},{"$f":"IF(U485=\"znížená\",N485,0)","v":0},{"$f":"IF(U485=\"zákl. prenesená\",N485,0)","v":0},{"$f":"IF(U485=\"zníž. prenesená\",N485,0)","v":0},{"$f":"IF(U485=\"nulová\",N485,0)","v":0},"2",{"$f":"ROUND(L485*K485,3)","v":0},"64","1815223415"]
[null,null,"112","K","210010301","Škatuľa prístrojová bez zapojenia (1901, KP 68, KZ 3)",null,null,null,"ks",5,0,null,{"$f":"ROUND(L486*K486,3)","v":0},{"$nulls":5},"","znížená",null,{"$f":"V486*K486","v":0},0,{"$f":"X486*K486","v":0},0,{"$f":"Z486*K486","v":0},{"$nulls":16},"64",null,"K","2",null,null,null,"ROZPOCET",{"$nulls":5},{"$f":"IF(U486=\"základná\",N486,0)","v":0},{"$f":"IF(U486=\"znížená\",N486,0)","v":0},{"$f":"IF(U486=\"zákl. prenesená\",N486,0)","v":0},{"$f":"IF(U486=\"zníž. prenesená\",N486,0)","v":0},{"$f":"IF(U486=\"nulová\",N486,0)","v":0},"2",{"$f":"ROUND(L486*K486,3)","v":0},"64","1008811714"]
[null,null,"113","M","000KP 68 KA","KP 68 KA - KRABICA PRISTROJOVA - KA-šedá",null,null,null,"kus",5,0,null,{"$f":"ROUND(L487*K487,3)","v":0},{"$nulls":5},"","znížená",null,{"$f":"V487*K487","v":0},0,{"$f":"X487*K487","v":0},0,{"$f":"Z487*K487","v":0},{"$nulls":16},"256",null,"M","2",null,null,null,"ROZPOCET",{"$nulls":5},{"$f":"IF(U487=\"základná\",N487,0)","v":0},{"$f":"IF(U487=\"znížená\",N487,0)","v":0},{"$f":"IF(U487=\"zákl. prenesená\",N487,0)","v":0},{"$f":"IF(U487=\"zníž. prenesená\",N487,0)","v":0},{"$f":"IF(U487=\"nulová\",N487,0)","v":0},"2",{"$f":"ROUND(L487*K487,3)","v":0},"64","-653273004"]
[null,null,"114","M","3450645000","Bezskrutková svorka",null,null,null,"ks",6,0,null,{"$f":"ROUND(L488*K488,3)","v":0},{"$nulls":5},"","znížená",null,{"$f":"V488*K488","v":0},0,{"$f":"X488*K488","v":0},0,{"$f":"Z488*K488","v":0},{"$nulls":16},"256",null,"M","2",null,null,null,"ROZPOCET",{"$nulls":5},{"$f":"IF(U488=\"základná\",N488,0)","v":0},{"$f":"IF(U488=\"znížená\",N488,0)","v":0},{"$f":"IF(U488=\"zákl. prenesená\",N488,0)","v":0},{"$f":"IF(U488=\"zníž. prenesená\",N488,0)","v":0},{"$f":"IF(U488=\"nulová\",N488,0)","v":0},"2",{"$f":"ROUND(L488*K488,3)","v":0},"64","-417238665"]
[null,null,"115","K","210010312","Krabica (KO 97) odbočná s viečkom, bez zapojenia, kruhová",null,null,null,"ks",1,0,null,{"$f":"ROUND(L489*K489,3)","v":0},{"$nulls":5},"","znížená",null,{"$f":"V489*K489","v":0},0,{"$f":"X489*K489","v":0},0,{"$f":"Z489*K489","v":0},{"$nulls":16},"64",null,"K","2",null,null,null,"ROZPOCET",{"$nulls":5},{"$f":"IF(U489=\"základná\",N489,0)","v":0},{"$f":"IF(U489=\"znížená\",N489,0)","v":0},{"$f":"IF(U489=\"zákl. prenesená\",N489,0)","v":0},{"$f":"IF(U489=\"zníž. prenesená\",N489,0)","v":0},{"$f":"IF(U489=\"nulová\",N489,0)","v":0},"2",{"$f":"ROUND(L489*K489,3)","v":0},"64","816270293"]
[null,null,"116","M","3450910500","Krabica  KO-97/5",null,null,null,"ks",1,0,null,{"$f":"ROUND(L490*K490,3)","v":0},{"$nulls":5},"","znížená",null,{"$f":"V490*K490","v":0},0,{"$f":"X490*K490","v":0},0,{"$f":"Z490*K490","v":0},{"$nulls":16},"256",null,"M","2",null,null,null,"ROZPOCET",{"$nulls":5},{"$f":"IF(U490=\"základná\",N490,0)","v":0},{"$f":"IF(U490=\"znížená\",N490,0)","v":0},{"$f":"IF(U490=\"zákl. prenesená\",N490,0)","v":0},{"$f":"IF(U490=\"zníž. prenesená\",N490,0)","v":0},{"$f":"IF(U490=\"nulová\",N490,0)","v":0},"2",{"$f":"ROUND(L490*K490,3)","v":0},"64","271873073"]
[null,null,"117","K","210010313","Krabica (KO 125) odbočná s viečkom, bez zapojenia, štvorcová",null,null,null,"ks",1,0,null,{"$f":"ROUND(L491*K491,3)","v":0},{"$nulls":5},"","znížená",null,{"$f":"V491*K491","v":0},0,{"$f":"X491*K491","v":0},0,{"$f":"Z491*K491","v":0},{"$nulls":16},"64",null,"K","2",null,null,null,"ROZPOCET",{"$nulls":5},{"$f":"IF(U491=\"základná\",N491,0)","v":0},{"$f":"IF(U491=\"znížená\",N491,0)","v":0},{"$f":"IF(U491=\"zákl. prenesená\",N491,0)","v":0},{"$f":"IF(U491=\"zníž. prenesená\",N491,0)","v":0},{"$f":"IF(U491=\"nulová\",N491,0)","v":0},"2",{"$f":"ROUND(L491*K491,3)","v":0},"64","-1169880417"]
[null,null,"118","M","3450913001","Krabica KO-125 E s viečkom",null,null,null,"ks",1,0,null,{"$f":"ROUND(L492*K492,3)","v":0},{"$nulls":5},"","znížená",null,{"$f":"V492*K492","v":0},0,{"$f":"X492*K492","v":0},0,{"$f":"Z492*K492","v":0},{"$nulls":16},"256",null,"M","2",null,null,null,"ROZPOCET",{"$nulls":5},{"$f":"IF(U492=\"základná\",N492,0)","v":0},{"$f":"IF(U492=\"znížená\",N492,0)","v":0},{"$f":"IF(U492=\"zákl. prenesená\",N492,0)","v":0},{"$f":"IF(U492=\"zníž. prenesená\",N492,0)","v":0},{"$f":"IF(U492=\"nulová\",N492,0)","v":0},"2",{"$f":"ROUND(L492*K492,3)","v":0},"64","1588672039"]
[null,null,"119","K","210011303","Osadenie polyamidovej príchytky HM 10, do tehlového muriva",null,null,null,"ks",30,0,null,{"$f":"ROUND(L493*K493,3)","v":0},{"$nulls":5},"","znížená",null,{"$f":"V493*K493","v":0},0,{"$f":"X493*K493","v":0},0,{"$f":"Z493*K493","v":0},{"$nulls":16},"64",null,"K","2",null,null,null,"ROZPOCET",{"$nulls":5},{"$f":"IF(U493=\"základná\",N493,0)","v":0},{"$f":"IF(U493=\"znížená\",N493,0)","v":0},{"$f":"IF(U493=\"zákl. prenesená\",N493,0)","v":0},{"$f":"IF(U493=\"zníž. prenesená\",N493,0)","v":0},{"$f":"IF(U493=\"nulová\",N493,0)","v":0},"2",{"$f":"ROUND(L493*K493,3)","v":0},"64","-1410718797"]
[null,null,"120","M","2830404000","Hmoždinka klasická 10 mm T10 typ: T10-PA",null,null,null,"ks",30,0,null,{"$f":"ROUND(L494*K494,3)","v":0},{"$nulls":5},"","znížená",null,{"$f":"V494*K494","v":0},0,{"$f":"X494*K494","v":0},0,{"$f":"Z494*K494","v":0},{"$nulls":16},"256",null,"M","2",null,null,null,"ROZPOCET",{"$nulls":5},{"$f":"IF(U494=\"základná\",N494,0)","v":0},{"$f":"IF(U494=\"znížená\",N494,0)","v":0},{"$f":"IF(U494=\"zákl. prenesená\",N494,0)","v":0},{"$f":"IF(U494=\"zníž. prenesená\",N494,0)","v":0},{"$f":"IF(U494=\"nulová\",N494,0)","v":0},"2",{"$f":"ROUND(L494*K494,3)","v":0},"64","-993766307"]
[null,null,"121","K","210100001","Ukončenie vodičov v rozvádzač. vč. zapojenia a vodičovej koncovky do 2.5 mm2",null,null,null,"ks",26,0,null,{"$f":"ROUND(L495*K495,3)","v":0},{"$nulls":5},"","znížená",null,{"$f":"V495*K495","v":0},0,{"$f":"X495*K495","v":0},0,{"$f":"Z495*K495","v":0},{"$nulls":16},"64",null,"K","2",null,null,null,"ROZPOCET",{"$nulls":5},{"$f":"IF(U495=\"základná\",N495,0)","v":0},{"$f":"IF(U495=\"znížená\",N495,0)","v":0},{"$f":"IF(U495=\"zákl. prenesená\",N495,0)","v":0},{"$f":"IF(U495=\"zníž. prenesená\",N495,0)","v":0},{"$f":"IF(U495=\"nulová\",N495,0)","v":0},"2",{"$f":"ROUND(L495*K495,3)","v":0},"64","-1448576187"]
[null,null,"122","K","210100003","Ukončenie vodičov v rozvádzač. vrátane zapojenia a vodičovej koncovky do 16 mm2",null,null,null,"ks",5,0,null,{"$f":"ROUND(L496*K496,3)","v":0},{"$nulls":5},"","znížená",null,{"$f":"V496*K496","v":0},0,{"$f":"X496*K496","v":0},0,{"$f":"Z496*K496","v":0},{"$nulls":16},"64",null,"K","2",null,null,null,"ROZPOCET",{"$nulls":5},{"$f":"IF(U496=\"základná\",N496,0)","v":0},{"$f":"IF(U496=\"znížená\",N496,0)","v":0},{"$f":"IF(U496=\"zákl. prenesená\",N496,0)","v":0},{"$f":"IF(U496=\"zníž. prenesená\",N496,0)","v":0},{"$f":"IF(U496=\"nulová\",N496,0)","v":0},"2",{"$f":"ROUND(L496*K496,3)","v":0},"64","1234091559"]
[null,null,"123","K","210110043","Spínač polozapustený a zapustený vč.zapojenia sériový prep.stried. - radenie 5",null,null,null,"ks",1,0,null,{"$f":"ROUND(L497*K497,3)","v":0},{"$nulls":5},"","znížená",null,{"$f":"V497*K497","v":0},0,{"$f":"X497*K497","v":0},0,{"$f":"Z497*K497","v":0},{"$nulls":16},"64",null,"K","2",null,null,null,"ROZPOCET",{"$nulls":5},{"$f":"IF(U497=\"základná\",N497,0)","v":0},{"$f":"IF(U497=\"znížená\",N497,0)","v":0},{"$f":"IF(U497=\"zákl. prenesená\",N497,0)","v":0},{"$f":"IF(U497=\"zníž. prenesená\",N497,0)","v":0},{"$f":"IF(U497=\"nulová\",N497,0)","v":0},"2",{"$f":"ROUND(L497*K497,3)","v":0},"64","645713201"]
[null,null,"124","M","000770098","VAL-2STR.PREP.IP44 BIELY Č. 6+6, (Valena)",null,null,null,"ks",1,0,null,{"$f":"ROUND(L498*K498,3)","v":0},{"$nulls":5},"","znížená",null,{"$f":"V498*K498","v":0},0,{"$f":"X498*K498","v":0},0,{"$f":"Z498*K498","v":0},{"$nulls":16},"256",null,"M","2",null,null,null,"ROZPOCET",{"$nulls":5},{"$f":"IF(U498=\"základná\",N498,0)","v":0},{"$f":"IF(U498=\"znížená\",N498,0)","v":0},{"$f":"IF(U498=\"zákl. prenesená\",N498,0)","v":0},{"$f":"IF(U498=\"zníž. prenesená\",N498,0)","v":0},{"$f":"IF(U498=\"nulová\",N498,0)","v":0},"2",{"$f":"ROUND(L498*K498,3)","v":0},"64","-1691504167"]
[null,null,"125","M","000774452","RÁMIK 2P VODOROVNÝ (Valena)",null,null,null,"ks",1,0,null,{"$f":"ROUND(L499*K499,3)","v":0},{"$nulls":5},"","znížená",null,{"$f":"V499*K499","v":0},0,{"$f":"X499*K499","v":0},0,{"$f":"Z499*K499","v":0},{"$nulls":16},"256",null,"M","2",null,null,null,"ROZPOCET",{"$nulls":5},{"$f":"IF(U499=\"základná\",N499,0)","v":0},{"$f":"IF(U499=\"znížená\",N499,0)","v":0},{"$f":"IF(U499=\"zákl. prenesená\",N499,0)","v":0},{"$f":"IF(U499=\"zníž. prenesená\",N499,0)","v":0},{"$f":"IF(U499=\"nulová\",N499,0)","v":0},"2",{"$f":"ROUND(L499*K499,3)","v":0},"64","-1928043162"]
[null,null,"126","M","000774453","RÁMIK 3P VODOROVNÝ (Valena)",null,null,null,"ks",1,0,null,{"$f":"ROUND(L500*K500,3)","v":0},{"$nulls":5},"","znížená",null,{"$f":"V500*K500","v":0},0,{"$f":"X500*K500","v":0},0,{"$f":"Z500*K500","v":0},{"$nulls":16},"256",null,"M","2",null,null,null,"ROZPOCET",{"$nulls":5},{"$f":"IF(U500=\"základná\",N500,0)","v":0},{"$f":"IF(U500=\"znížená\",N500,0)","v":0},{"$f":"IF(U500=\"zákl. prenesená\",N500,0)","v":0},{"$f":"IF(U500=\"zníž. prenesená\",N500,0)","v":0},{"$f":"IF(U500=\"nulová\",N500,0)","v":0},"2",{"$f":"ROUND(L500*K500,3)","v":0},"64","997231119"]
[null,null,"127","K","210111011","Domová zásuvka polozapustená alebo zapustená vč. zapojenia 10/16 A 250 V 2P + Z",null,null,null,"ks",4,0,null,{"$f":"ROUND(L501*K501,3)","v":0},{"$nulls":5},"","znížená",null,{"$f":"V501*K501","v":0},0,{"$f":"X501*K501","v":0},0,{"$f":"Z501*K501","v":0},{"$nulls":16},"64",null,"K","2",null,null,null,"ROZPOCET",{"$nulls":5},{"$f":"IF(U501=\"základná\",N501,0)","v":0},{"$f":"IF(U501=\"znížená\",N501,0)","v":0},{"$f":"IF(U501=\"zákl. prenesená\",N501,0)","v":0},{"$f":"IF(U501=\"zníž. prenesená\",N501,0)","v":0},{"$f":"IF(U501=\"nulová\",N501,0)","v":0},"2",{"$f":"ROUND(L501*K501,3)","v":0},"64","-2094624647"]
[null,null,"128","M","000774221","VAL-ZÁSUVKA 2P+T IP 44 VALENA BIELA",null,null,null,"ks",4,0,null,{"$f":"ROUND(L502*K502,3)","v":0},{"$nulls":5},"","znížená",null,{"$f":"V502*K502","v":0},0,{"$f":"X502*K502","v":0},0,{"$f":"Z502*K502","v":0},{"$nulls":16},"256",null,"M","2",null,null,null,"ROZPOCET",{"$nulls":5},{"$f":"IF(U502=\"základná\",N502,0)","v":0},{"$f":"IF(U502=\"znížená\",N502,0)","v":0},{"$f":"IF(U502=\"zákl. prenesená\",N502,0)","v":0},{"$f":"IF(U502=\"zníž. prenesená\",N502,0)","v":0},{"$f":"IF(U502=\"nulová\",N502,0)","v":0},"2",{"$f":"ROUND(L502*K502,3)","v":0},"64","-1279508001"]
[null,null,"129","K","210111062","Zásuvka domová nástenná vrátane zapojenia 16 A 380 V 3P + N + Z",null,null,null,"ks",4,0,null,{"$f":"ROUND(L503*K503,3)","v":0},{"$nulls":5},"","znížená",null,{"$f":"V503*K503","v":0},0,{"$f":"X503*K503","v":0},0,{"$f":"Z503*K503","v":0},{"$nulls":16},"64",null,"K","2",null,null,null,"ROZPOCET",{"$nulls":5},{"$f":"IF(U503=\"základná\",N503,0)","v":0},{"$f":"IF(U503=\"znížená\",N503,0)","v":0},{"$f":"IF(U503=\"zákl. prenesená\",N503,0)","v":0},{"$f":"IF(U503=\"zníž. prenesená\",N503,0)","v":0},{"$f":"IF(U503=\"nulová\",N503,0)","v":0},"2",{"$f":"ROUND(L503*K503,3)","v":0},"64","-1443710583"]
[null,null,"130","M","3450346300","Zásuvka IZN 1653",null,null,null,"ks",4,0,null,{"$f":"ROUND(L504*K504,3)","v":0},{"$nulls":5},"","znížená",null,{"$f":"V504*K504","v":0},0,{"$f":"X504*K504","v":0},0,{"$f":"Z504*K504","v":0},{"$nulls":16},"256",null,"M","2",null,null,null,"ROZPOCET",{"$nulls":5},{"$f":"IF(U504=\"základná\",N504,0)","v":0},{"$f":"IF(U504=\"znížená\",N504,0)","v":0},{"$f":"IF(U504=\"zákl. prenesená\",N504,0)","v":0},{"$f":"IF(U504=\"zníž. prenesená\",N504,0)","v":0},{"$f":"IF(U504=\"nulová\",N504,0)","v":0},"2",{"$f":"ROUND(L504*K504,3)","v":0},"64","-598615170"]
[null,null,"131","K","210120401","Istič vzduchový jednopólový do 63 A (úprava HR)",null,null,null,"ks",3,0,null,{"$f":"ROUND(L505*K505,3)","v":0},{"$nulls":5},"","znížená",null,{"$f":"V505*K505","v":0},0,{"$f":"X505*K505","v":0},0,{"$f":"Z505*K505","v":0},{"$nulls":16},"64",null,"K","2",null,null,null,"ROZPOCET",{"$nulls":5},{"$f":"IF(U505=\"základná\",N505,0)","v":0},{"$f":"IF(U505=\"znížená\",N505,0)","v":0},{"$f":"IF(U505=\"zákl. prenesená\",N505,0)","v":0},{"$f":"IF(U505=\"zníž. prenesená\",N505,0)","v":0},{"$f":"IF(U505=\"nulová\",N505,0)","v":0},"2",{"$f":"ROUND(L505*K505,3)","v":0},"64","-1566977892"]
[null,null,"132","M","OEZ:41638","Istič LTN-10B-1",null,null,null,"ks",1,0,null,{"$f":"ROUND(L506*K506,3)","v":0},{"$nulls":5},"","znížená",null,{"$f":"V506*K506","v":0},0,{"$f":"X506*K506","v":0},0,{"$f":"Z506*K506","v":0},{"$nulls":16},"256",null,"M","2",null,null,null,"ROZPOCET",{"$nulls":5},{"$f":"IF(U506=\"základná\",N506,0)","v":0},{"$f":"IF(U506=\"znížená\",N506,0)","v":0},{"$f":"IF(U506=\"zákl. prenesená\",N506,0)","v":0},{"$f":"IF(U506=\"zníž. prenesená\",N506,0)","v":0},{"$f":"IF(U506=\"nulová\",N506,0)","v":0},"2",{"$f":"ROUND(L506*K506,3)","v":0},"64","2079584263"]
[null,null,"133","M","OEZ:41640","Istič LTN-16B-1",null,null,null,"ks",1,0,null,{"$f":"ROUND(L507*K507,3)","v":0},{"$nulls":5},"","znížená",null,{"$f":"V507*K507","v":0},0,{"$f":"X507*K507","v":0},0,{"$f":"Z507*K507","v":0},{"$nulls":16},"256",null,"M","2",null,null,null,"ROZPOCET",{"$nulls":5},{"$f":"IF(U507=\"základná\",N507,0)","v":0},{"$f":"IF(U507=\"znížená\",N507,0)","v":0},{"$f":"IF(U507=\"zákl. prenesená\",N507,0)","v":0},{"$f":"IF(U507=\"zníž. prenesená\",N507,0)","v":0},{"$f":"IF(U507=\"nulová\",N507,0)","v":0},"2",{"$f":"ROUND(L507*K507,3)","v":0},"64","-1857404409"]
[null,null,"134","M","OEZ:41657","Istič LTN-16C-1",null,null,null,"ks",1,0,null,{"$f":"ROUND(L508*K508,3)","v":0},{"$nulls":5},"","znížená",null,{"$f":"V508*K508","v":0},0,{"$f":"X508*K508","v":0},0,{"$f":"Z508*K508","v":0},{"$nulls":16},"256",null,"M","2",null,null,null,"ROZPOCET",{"$nulls":5},{"$f":"IF(U508=\"základná\",N508,0)","v":0},{"$f":"IF(U508=\"znížená\",N508,0)","v":0},{"$f":"IF(U508=\"zákl. prenesená\",N508,0)","v":0},{"$f":"IF(U508=\"zníž. prenesená\",N508,0)","v":0},{"$f":"IF(U508=\"nulová\",N508,0)","v":0},"2",{"$f":"ROUND(L508*K508,3)","v":0},"64","1736745618"]
[null,null,"135","K","210120404","Istič vzduchový trojpólový do 63 A (úprava HR)",null,null,null,"ks",4,0,null,{"$f":"ROUND(L509*K509,3)","v":0},{"$nulls":5},"","znížená",null,{"$f":"V509*K509","v":0},0,{"$f":"X509*K509","v":0},0,{"$f":"Z509*K509","v":0},{"$nulls":16},"64",null,"K","2",null,null,null,"ROZPOCET",{"$nulls":5},{"$f":"IF(U509=\"základná\",N509,0)","v":0},{"$f":"IF(U509=\"znížená\",N509,0)","v":0},{"$f":"IF(U509=\"zákl. prenesená\",N509,0)","v":0},{"$f":"IF(U509=\"zníž. prenesená\",N509,0)","v":0},{"$f":"IF(U509=\"nulová\",N509,0)","v":0},"2",{"$f":"ROUND(L509*K509,3)","v":0},"64","-243152970"]
[null,null,"136","M","OEZ:41787","Istič LTN-10C-3",null,null,null,"ks",3,0,null,{"$f":"ROUND(L510*K510,3)","v":0},{"$nulls":5},"","znížená",null,{"$f":"V510*K510","v":0},0,{"$f":"X510*K510","v":0},0,{"$f":"Z510*K510","v":0},{"$nulls":16},"256",null,"M","2",null,null,null,"ROZPOCET",{"$nulls":5},{"$f":"IF(U510=\"základná\",N510,0)","v":0},{"$f":"IF(U510=\"znížená\",N510,0)","v":0},{"$f":"IF(U510=\"zákl. prenesená\",N510,0)","v":0},{"$f":"IF(U510=\"zníž. prenesená\",N510,0)","v":0},{"$f":"IF(U510=\"nulová\",N510,0)","v":0},"2",{"$f":"ROUND(L510*K510,3)","v":0},"64","-1752452436"]
[null,null,"137","M","OEZ:41789","Istič LTN-16C-3",null,null,null,"ks",1,0,null,{"$f":"ROUND(L511*K511,3)","v":0},{"$nulls":5},"","znížená",null,{"$f":"V511*K511","v":0},0,{"$f":"X511*K511","v":0},0,{"$f":"Z511*K511","v":0},{"$nulls":16},"256",null,"M","2",null,null,null,"ROZPOCET",{"$nulls":5},{"$f":"IF(U511=\"základná\",N511,0)","v":0},{"$f":"IF(U511=\"znížená\",N511,0)","v":0},{"$f":"IF(U511=\"zákl. prenesená\",N511,0)","v":0},{"$f":"IF(U511=\"zníž. prenesená\",N511,0)","v":0},{"$f":"IF(U511=\"nulová\",N511,0)","v":0},"2",{"$f":"ROUND(L511*K511,3)","v":0},"64","-776221328"]
[null,null,"138","K","210120411","Prúdové chrániče štvorpólové 25 - 80 A",null,null,null,"ks",1,0,null,{"$f":"ROUND(L512*K512,3)","v":0},{"$nulls":5},"","znížená",null,{"$f":"V512*K512","v":0},0,{"$f":"X512*K512","v":0},0,{"$f":"Z512*K512","v":0},{"$nulls":16},"64",null,"K","2",null,null,null,"ROZPOCET",{"$nulls":5},{"$f":"IF(U512=\"základná\",N512,0)","v":0},{"$f":"IF(U512=\"znížená\",N512,0)","v":0},{"$f":"IF(U512=\"zákl. prenesená\",N512,0)","v":0},{"$f":"IF(U512=\"zníž. prenesená\",N512,0)","v":0},{"$f":"IF(U512=\"nulová\",N512,0)","v":0},"2",{"$f":"ROUND(L512*K512,3)","v":0},"64","-1548396646"]
[null,null,"139","M","OEZ:42451","Prúdový chránič, LFN-25-4-030A, In 25 A, Ue AC 230/400 V, Idn 30 mA, 4-pól, Inc 10 kA, typ A",null,null,null,"ks",1,0,null,{"$f":"ROUND(L513*K513,3)","v":0},{"$nulls":5},"","znížená",null,{"$f":"V513*K513","v":0},0,{"$f":"X513*K513","v":0},0,{"$f":"Z513*K513","v":0},{"$nulls":16},"256",null,"M","2",null,null,null,"ROZPOCET",{"$nulls":5},{"$f":"IF(U513=\"základná\",N513,0)","v":0},{"$f":"IF(U513=\"znížená\",N513,0)","v":0},{"$f":"IF(U513=\"zákl. prenesená\",N513,0)","v":0},{"$f":"IF(U513=\"zníž. prenesená\",N513,0)","v":0},{"$f":"IF(U513=\"nulová\",N513,0)","v":0},"2",{"$f":"ROUND(L513*K513,3)","v":0},"64","1800894497"]
[null,null,"140","K","210120420","Zvodiče prepätia triedy B (úprava HR)",null,null,null,"ks",1,0,null,{"$f":"ROUND(L514*K514,3)","v":0},{"$nulls":5},"","znížená",null,{"$f":"V514*K514","v":0},0,{"$f":"X514*K514","v":0},0,{"$f":"Z514*K514","v":0},{"$nulls":16},"64",null,"K","2",null,null,null,"ROZPOCET",{"$nulls":5},{"$f":"IF(U514=\"základná\",N514,0)","v":0},{"$f":"IF(U514=\"znížená\",N514,0)","v":0},{"$f":"IF(U514=\"zákl. prenesená\",N514,0)","v":0},{"$f":"IF(U514=\"zníž. prenesená\",N514,0)","v":0},{"$f":"IF(U514=\"nulová\",N514,0)","v":0},"2",{"$f":"ROUND(L514*K514,3)","v":0},"64","1419893456"]
[null,null,"141","M","8595090550938","Zvodič bleskových prúdov SPD T1 (T2) - SALTEK FLP-B+C V/3",null,null,null,"ks",1,0,null,{"$f":"ROUND(L515*K515,3)","v":0},{"$nulls":5},"","znížená",null,{"$f":"V515*K515","v":0},0,{"$f":"X515*K515","v":0},0,{"$f":"Z515*K515","v":0},{"$nulls":16},"256",null,"M","2",null,null,null,"ROZPOCET",{"$nulls":5},{"$f":"IF(U515=\"základná\",N515,0)","v":0},{"$f":"IF(U515=\"znížená\",N515,0)","v":0},{"$f":"IF(U515=\"zákl. prenesená\",N515,0)","v":0},{"$f":"IF(U515=\"zníž. prenesená\",N515,0)","v":0},{"$f":"IF(U515=\"nulová\",N515,0)","v":0},"2",{"$f":"ROUND(L515*K515,3)","v":0},"64","675085483"]
[null,null,"142","K","210201311","Zapojenie svietidla IP66, 2x svetelný zdroj, priemyselné s lineárnou žiarovkou",null,null,null,"ks",2,0,null,{"$f":"ROUND(L516*K516,3)","v":0},{"$nulls":5},"","znížená",null,{"$f":"V516*K516","v":0},0,{"$f":"X516*K516","v":0},0,{"$f":"Z516*K516","v":0},{"$nulls":16},"64",null,"K","2",null,null,null,"ROZPOCET",{"$nulls":5},{"$f":"IF(U516=\"základná\",N516,0)","v":0},{"$f":"IF(U516=\"znížená\",N516,0)","v":0},{"$f":"IF(U516=\"zákl. prenesená\",N516,0)","v":0},{"$f":"IF(U516=\"zníž. prenesená\",N516,0)","v":0},{"$f":"IF(U516=\"nulová\",N516,0)","v":0},"2",{"$f":"ROUND(L516*K516,3)","v":0},"64","1324928444"]
[null,null,"143","K","210201345","Zapojenie svietidla IP66, LED , priemyselné stropného - nástenného",null,null,null,"ks",2,0,null,{"$f":"ROUND(L517*K517,3)","v":0},{"$nulls":5},"","znížená",null,{"$f":"V517*K517","v":0},0,{"$f":"X517*K517","v":0},0,{"$f":"Z517*K517","v":0},{"$nulls":16},"64",null,"K","2",null,null,null,"ROZPOCET",{"$nulls":5},{"$f":"IF(U517=\"základná\",N517,0)","v":0},{"$f":"IF(U517=\"znížená\",N517,0)","v":0},{"$f":"IF(U517=\"zákl. prenesená\",N517,0)","v":0},{"$f":"IF(U517=\"zníž. prenesená\",N517,0)","v":0},{"$f":"IF(U517=\"nulová\",N517,0)","v":0},"2",{"$f":"ROUND(L517*K517,3)","v":0},"64","1315219802"]
[null,null,"144","K","210201903","Montáž svietidla interiérového na stenu do 5 kg",null,null,null,"ks",2,0,null,{"$f":"ROUND(L518*K518,3)","v":0},{"$nulls":5},"","znížená",null,{"$f":"V518*K518","v":0},0,{"$f":"X518*K518","v":0},0,{"$f":"Z518*K518","v":0},{"$nulls":16},"64",null,"K","2",null,null,null,"ROZPOCET",{"$nulls":5},{"$f":"IF(U518=\"základná\",N518,0)","v":0},{"$f":"IF(U518=\"znížená\",N518,0)","v":0},{"$f":"IF(U518=\"zákl. prenesená\",N518,0)","v":0},{"$f":"IF(U518=\"zníž. prenesená\",N518,0)","v":0},{"$f":"IF(U518=\"nulová\",N518,0)","v":0},"2",{"$f":"ROUND(L518*K518,3)","v":0},"64","-602899772"]
[null,null,"145","M","ORH004AB0067","FIX - uTDO E S/S TRD FDH 235 ECG G35",null,null,null,"ks",2,0,null,{"$f":"ROUND(L519*K519,3)","v":0},{"$nulls":5},"","znížená",null,{"$f":"V519*K519","v":0},0,{"$f":"X519*K519","v":0},0,{"$f":"Z519*K519","v":0},{"$nulls":16},"256",null,"M","2",null,null,null,"ROZPOCET",{"$nulls":5},{"$f":"IF(U519=\"základná\",N519,0)","v":0},{"$f":"IF(U519=\"znížená\",N519,0)","v":0},{"$f":"IF(U519=\"zákl. prenesená\",N519,0)","v":0},{"$f":"IF(U519=\"zníž. prenesená\",N519,0)","v":0},{"$f":"IF(U519=\"nulová\",N519,0)","v":0},"2",{"$f":"ROUND(L519*K519,3)","v":0},"64","-950801137"]
[null,null,"146","M","3470163960","Svetelné zdroje OSRAM lineárna žiarivka FH35/840 35W;;V",null,null,null,"ks",4,0,null,{"$f":"ROUND(L520*K520,3)","v":0},{"$nulls":5},"","znížená",null,{"$f":"V520*K520","v":0},0,{"$f":"X520*K520","v":0},0,{"$f":"Z520*K520","v":0},{"$nulls":16},"256",null,"M","2",null,null,null,"ROZPOCET",{"$nulls":5},{"$f":"IF(U520=\"základná\",N520,0)","v":0},{"$f":"IF(U520=\"znížená\",N520,0)","v":0},{"$f":"IF(U520=\"zákl. prenesená\",N520,0)","v":0},{"$f":"IF(U520=\"zníž. prenesená\",N520,0)","v":0},{"$f":"IF(U520=\"nulová\",N520,0)","v":0},"2",{"$f":"ROUND(L520*K520,3)","v":0},"64","-1718602795"]
[null,null,"147","K","210201922","Montáž svietidla exterierového na stenu do 2 kg",null,null,null,"ks",2,0,null,{"$f":"ROUND(L521*K521,3)","v":0},{"$nulls":5},"","znížená",null,{"$f":"V521*K521","v":0},0,{"$f":"X521*K521","v":0},0,{"$f":"Z521*K521","v":0},{"$nulls":16},"64",null,"K","2",null,null,null,"ROZPOCET",{"$nulls":5},{"$f":"IF(U521=\"základná\",N521,0)","v":0},{"$f":"IF(U521=\"znížená\",N521,0)","v":0},{"$f":"IF(U521=\"zákl. prenesená\",N521,0)","v":0},{"$f":"IF(U521=\"zníž. prenesená\",N521,0)","v":0},{"$f":"IF(U521=\"nulová\",N521,0)","v":0},"2",{"$f":"ROUND(L521*K521,3)","v":0},"64","115087924"]
[null,null,"148","M","1","LED REFLEKTOR 20W + SENZOR, IP65",null,null,null,"ks",1,0,null,{"$f":"ROUND(L522*K522,3)","v":0},{"$nulls":5},"","znížená",null,{"$f":"V522*K522","v":0},0,{"$f":"X522*K522","v":0},0,{"$f":"Z522*K522","v":0},{"$nulls":16},"256",null,"M","2",null,null,null,"ROZPOCET",{"$nulls":5},{"$f":"IF(U522=\"základná\",N522,0)","v":0},{"$f":"IF(U522=\"znížená\",N522,0)","v":0},{"$f":"IF(U522=\"zákl. prenesená\",N522,0)","v":0},{"$f":"IF(U522=\"zníž. prenesená\",N522,0)","v":0},{"$f":"IF(U522=\"nulová\",N522,0)","v":0},"2",{"$f":"ROUND(L522*K522,3)","v":0},"64","-331178632"]
[null,null,"149","M","2","LED REFLEKTOR 20W, IP65",null,null,null,"ks",1,0,null,{"$f":"ROUND(L523*K523,3)","v":0},{"$nulls":5},"","znížená",null,{"$f":"V523*K523","v":0},0,{"$f":"X523*K523","v":0},0,{"$f":"Z523*K523","v":0},{"$nulls":16},"256",null,"M","2",null,null,null,"ROZPOCET",{"$nulls":5},{"$f":"IF(U523=\"základná\",N523,0)","v":0},{"$f":"IF(U523=\"znížená\",N523,0)","v":0},{"$f":"IF(U523=\"zákl. prenesená\",N523,0)","v":0},{"$f":"IF(U523=\"zníž. prenesená\",N523,0)","v":0},{"$f":"IF(U523=\"nulová\",N523,0)","v":0},"2",{"$f":"ROUND(L523*K523,3)","v":0},"64","2073530677"]
[null,null,"150","K","210220020","Uzemňovacie vedenie v zemi FeZn vrátane izolácie spojov",null,null,null,"m",92,0,null,{"$f":"ROUND(L524*K524,3)","v":0},{"$nulls":5},"","znížená",null,{"$f":"V524*K524","v":0},0,{"$f":"X524*K524","v":0},0,{"$f":"Z524*K524","v":0},{"$nulls":16},"64",null,"K","2",null,null,null,"ROZPOCET",{"$nulls":5},{"$f":"IF(U524=\"základná\",N524,0)","v":0},{"$f":"IF(U524=\"znížená\",N524,0)","v":0},{"$f":"IF(U524=\"zákl. prenesená\",N524,0)","v":0},{"$f":"IF(U524=\"zníž. prenesená\",N524,0)","v":0},{"$f":"IF(U524=\"nulová\",N524,0)","v":0},"2",{"$f":"ROUND(L524*K524,3)","v":0},"64","-1149745565"]
[null,null,"151","M","3544224150","Územňovací vodič    ocelový žiarovo zinkovaný  označenie     O 10",null,null,null,"kg",25,0,null,{"$f":"ROUND(L525*K525,3)","v":0},{"$nulls":5},"","znížená",null,{"$f":"V525*K525","v":0},0,{"$f":"X525*K525","v":0},0,{"$f":"Z525*K525","v":0},{"$nulls":16},"256",null,"M","2",null,null,null,"ROZPOCET",{"$nulls":5},{"$f":"IF(U525=\"základná\",N525,0)","v":0},{"$f":"IF(U525=\"znížená\",N525,0)","v":0},{"$f":"IF(U525=\"zákl. prenesená\",N525,0)","v":0},{"$f":"IF(U525=\"zníž. prenesená\",N525,0)","v":0},{"$f":"IF(U525=\"nulová\",N525,0)","v":0},"2",{"$f":"ROUND(L525*K525,3)","v":0},"64","783471850"]
[null,null,"152","M","3544223850","Územňovacia pásovina   ocelová žiarovo zinkovaná  označenie   30 x 4 mm",null,null,null,"kg",49,0,null,{"$f":"ROUND(L526*K526,3)","v":0},{"$nulls":5},"","znížená",null,{"$f":"V526*K526","v":0},0,{"$f":"X526*K526","v":0},0,{"$f":"Z526*K526","v":0},{"$nulls":16},"256",null,"M","2",null,null,null,"ROZPOCET",{"$nulls":5},{"$f":"IF(U526=\"základná\",N526,0)","v":0},{"$f":"IF(U526=\"znížená\",N526,0)","v":0},{"$f":"IF(U526=\"zákl. prenesená\",N526,0)","v":0},{"$f":"IF(U526=\"zníž. prenesená\",N526,0)","v":0},{"$f":"IF(U526=\"nulová\",N526,0)","v":0},"2",{"$f":"ROUND(L526*K526,3)","v":0},"64","1129207191"]
[null,null,"153","K","210220031","Ekvipotenciálna svorkovnica HUS",null,null,null,"ks",1,0,null,{"$f":"ROUND(L527*K527,3)","v":0},{"$nulls":5},"","znížená",null,{"$f":"V527*K527","v":0},0,{"$f":"X527*K527","v":0},0,{"$f":"Z527*K527","v":0},{"$nulls":16},"64",null,"K","2",null,null,null,"ROZPOCET",{"$nulls":5},{"$f":"IF(U527=\"základná\",N527,0)","v":0},{"$f":"IF(U527=\"znížená\",N527,0)","v":0},{"$f":"IF(U527=\"zákl. prenesená\",N527,0)","v":0},{"$f":"IF(U527=\"zníž. prenesená\",N527,0)","v":0},{"$f":"IF(U527=\"nulová\",N527,0)","v":0},"2",{"$f":"ROUND(L527*K527,3)","v":0},"64","-995480115"]
[null,null,"154","M","3410301603","Svorkovnica ekvipotencionálna  HUS",null,null,null,"ks",1,0,null,{"$f":"ROUND(L528*K528,3)","v":0},{"$nulls":5},"","znížená",null,{"$f":"V528*K528","v":0},0,{"$f":"X528*K528","v":0},0,{"$f":"Z528*K528","v":0},{"$nulls":16},"256",null,"M","2",null,null,null,"ROZPOCET",{"$nulls":5},{"$f":"IF(U528=\"základná\",N528,0)","v":0},{"$f":"IF(U528=\"znížená\",N528,0)","v":0},{"$f":"IF(U528=\"zákl. prenesená\",N528,0)","v":0},{"$f":"IF(U528=\"zníž. prenesená\",N528,0)","v":0},{"$f":"IF(U528=\"nulová\",N528,0)","v":0},"2",{"$f":"ROUND(L528*K528,3)","v":0},"64","421128077"]
[null,null,"155","K","210220040","Svorka na potrubie \"BERNARD\" vrátane pásika Cu",null,null,null,"ks",3,0,null,{"$f":"ROUND(L529*K529,3)","v":0},{"$nulls":5},"","znížená",null,{"$f":"V529*K529","v":0},0,{"$f":"X529*K529","v":0},0,{"$f":"Z529*K529","v":0},{"$nulls":16},"64",null,"K","2",null,null,null,"ROZPOCET",{"$nulls":5},{"$f":"IF(U529=\"základná\",N529,0)","v":0},{"$f":"IF(U529=\"znížená\",N529,0)","v":0},{"$f":"IF(U529=\"zákl. prenesená\",N529,0)","v":0},{"$f":"IF(U529=\"zníž. prenesená\",N529,0)","v":0},{"$f":"IF(U529=\"nulová\",N529,0)","v":0},"2",{"$f":"ROUND(L529*K529,3)","v":0},"64","1625221323"]
[null,null,"156","M","3544247905","Bernard svorka zemniaca ZSA 16, obj. č. 72;bleskozvodný a uzemňovací materiál",null,null,null,"ks",3,0,null,{"$f":"ROUND(L530*K530,3)","v":0},{"$nulls":5},"","znížená",null,{"$f":"V530*K530","v":0},0,{"$f":"X530*K530","v":0},0,{"$f":"Z530*K530","v":0},{"$nulls":16},"256",null,"M","2",null,null,null,"ROZPOCET",{"$nulls":5},{"$f":"IF(U530=\"základná\",N530,0)","v":0},{"$f":"IF(U530=\"znížená\",N530,0)","v":0},{"$f":"IF(U530=\"zákl. prenesená\",N530,0)","v":0},{"$f":"IF(U530=\"zníž. prenesená\",N530,0)","v":0},{"$f":"IF(U530=\"nulová\",N530,0)","v":0},"2",{"$f":"ROUND(L530*K530,3)","v":0},"64","-633500423"]
[null,null,"157","M","3544247910","Páska CU, obj. č. ESV000000038; bleskozvodný a uzemňovací materiál, dĺžka 0,5m",null,null,null,"ks",3,0,null,{"$f":"ROUND(L531*K531,3)","v":0},{"$nulls":5},"","znížená",null,{"$f":"V531*K531","v":0},0,{"$f":"X531*K531","v":0},0,{"$f":"Z531*K531","v":0},{"$nulls":16},"256",null,"M","2",null,null,null,"ROZPOCET",{"$nulls":5},{"$f":"IF(U531=\"základná\",N531,0)","v":0},{"$f":"IF(U531=\"znížená\",N531,0)","v":0},{"$f":"IF(U531=\"zákl. prenesená\",N531,0)","v":0},{"$f":"IF(U531=\"zníž. prenesená\",N531,0)","v":0},{"$f":"IF(U531=\"nulová\",N531,0)","v":0},"2",{"$f":"ROUND(L531*K531,3)","v":0},"64","-79748211"]
[null,null,"158","K","210220105","Podpery vedenia FeZn do muriva PV 01h a PV01-03",null,null,null,"ks",24,0,null,{"$f":"ROUND(L532*K532,3)","v":0},{"$nulls":5},"","znížená",null,{"$f":"V532*K532","v":0},0,{"$f":"X532*K532","v":0},0,{"$f":"Z532*K532","v":0},{"$nulls":16},"64",null,"K","2",null,null,null,"ROZPOCET",{"$nulls":5},{"$f":"IF(U532=\"základná\",N532,0)","v":0},{"$f":"IF(U532=\"znížená\",N532,0)","v":0},{"$f":"IF(U532=\"zákl. prenesená\",N532,0)","v":0},{"$f":"IF(U532=\"zníž. prenesená\",N532,0)","v":0},{"$f":"IF(U532=\"nulová\",N532,0)","v":0},"2",{"$f":"ROUND(L532*K532,3)","v":0},"64","-1513448873"]
[null,null,"159","M","3544216400","Podpera vedenia do muriva na hmoždinku ocelová žiarovo zinkovaná označenie PV 01 h",null,null,null,"ks",24,0,null,{"$f":"ROUND(L533*K533,3)","v":0},{"$nulls":5},"","znížená",null,{"$f":"V533*K533","v":0},0,{"$f":"X533*K533","v":0},0,{"$f":"Z533*K533","v":0},{"$nulls":16},"256",null,"M","2",null,null,null,"ROZPOCET",{"$nulls":5},{"$f":"IF(U533=\"základná\",N533,0)","v":0},{"$f":"IF(U533=\"znížená\",N533,0)","v":0},{"$f":"IF(U533=\"zákl. prenesená\",N533,0)","v":0},{"$f":"IF(U533=\"zníž. prenesená\",N533,0)","v":0},{"$f":"IF(U533=\"nulová\",N533,0)","v":0},"2",{"$f":"ROUND(L533*K533,3)","v":0},"64","-469860303"]
[null,null,"160","K","210220204","Zachytávacia tyč FeZn bez osadenia a s osadením JP10-30",null,null,null,"ks",1,0,null,{"$f":"ROUND(L534*K534,3)","v":0},{"$nulls":5},"","znížená",null,{"$f":"V534*K534","v":0},0,{"$f":"X534*K534","v":0},0,{"$f":"Z534*K534","v":0},{"$nulls":16},"64",null,"K","2",null,null,null,"ROZPOCET",{"$nulls":5},{"$f":"IF(U534=\"základná\",N534,0)","v":0},{"$f":"IF(U534=\"znížená\",N534,0)","v":0},{"$f":"IF(U534=\"zákl. prenesená\",N534,0)","v":0},{"$f":"IF(U534=\"zníž. prenesená\",N534,0)","v":0},{"$f":"IF(U534=\"nulová\",N534,0)","v":0},"2",{"$f":"ROUND(L534*K534,3)","v":0},"64","735141886"]
[null,null,"161","M","3544215500","Zachytávacia tyč ocelová žiarovo zinkovaná označenie JP 15",null,null,null,"ks",1,0,null,{"$f":"ROUND(L535*K535,3)","v":0},{"$nulls":5},"","znížená",null,{"$f":"V535*K535","v":0},0,{"$f":"X535*K535","v":0},0,{"$f":"Z535*K535","v":0},{"$nulls":16},"256",null,"M","2",null,null,null,"ROZPOCET",{"$nulls":5},{"$f":"IF(U535=\"základná\",N535,0)","v":0},{"$f":"IF(U535=\"znížená\",N535,0)","v":0},{"$f":"IF(U535=\"zákl. prenesená\",N535,0)","v":0},{"$f":"IF(U535=\"zníž. prenesená\",N535,0)","v":0},{"$f":"IF(U535=\"nulová\",N535,0)","v":0},"2",{"$f":"ROUND(L535*K535,3)","v":0},"64","1312997054"]
[null,null,"162","K","210220220","Držiak zachytávacej tyče FeZn DJ1-8",null,null,null,"ks",2,0,null,{"$f":"ROUND(L536*K536,3)","v":0},{"$nulls":5},"","znížená",null,{"$f":"V536*K536","v":0},0,{"$f":"X536*K536","v":0},0,{"$f":"Z536*K536","v":0},{"$nulls":16},"64",null,"K","2",null,null,null,"ROZPOCET",{"$nulls":5},{"$f":"IF(U536=\"základná\",N536,0)","v":0},{"$f":"IF(U536=\"znížená\",N536,0)","v":0},{"$f":"IF(U536=\"zákl. prenesená\",N536,0)","v":0},{"$f":"IF(U536=\"zníž. prenesená\",N536,0)","v":0},{"$f":"IF(U536=\"nulová\",N536,0)","v":0},"2",{"$f":"ROUND(L536*K536,3)","v":0},"64","-93360025"]
[null,null,"163","M","3544215700","Držiak zachytávacej tyče na upevnenie do muriva ocelový žiarovo zinkovaný označenie DJ 1",null,null,null,"ks",2,0,null,{"$f":"ROUND(L537*K537,3)","v":0},{"$nulls":5},"","znížená",null,{"$f":"V537*K537","v":0},0,{"$f":"X537*K537","v":0},0,{"$f":"Z537*K537","v":0},{"$nulls":16},"256",null,"M","2",null,null,null,"ROZPOCET",{"$nulls":5},{"$f":"IF(U537=\"základná\",N537,0)","v":0},{"$f":"IF(U537=\"znížená\",N537,0)","v":0},{"$f":"IF(U537=\"zákl. prenesená\",N537,0)","v":0},{"$f":"IF(U537=\"zníž. prenesená\",N537,0)","v":0},{"$f":"IF(U537=\"nulová\",N537,0)","v":0},"2",{"$f":"ROUND(L537*K537,3)","v":0},"64","772484238"]
[null,null,"164","K","210220230","Ochranná strieška FeZn",null,null,null,"ks",1,0,null,{"$f":"ROUND(L538*K538,3)","v":0},{"$nulls":5},"","znížená",null,{"$f":"V538*K538","v":0},0,{"$f":"X538*K538","v":0},0,{"$f":"Z538*K538","v":0},{"$nulls":16},"64",null,"K","2",null,null,null,"ROZPOCET",{"$nulls":5},{"$f":"IF(U538=\"základná\",N538,0)","v":0},{"$f":"IF(U538=\"znížená\",N538,0)","v":0},{"$f":"IF(U538=\"zákl. prenesená\",N538,0)","v":0},{"$f":"IF(U538=\"zníž. prenesená\",N538,0)","v":0},{"$f":"IF(U538=\"nulová\",N538,0)","v":0},"2",{"$f":"ROUND(L538*K538,3)","v":0},"64","-1364938886"]
[null,null,"165","M","3544216200","Horná ochranná strieška ocelová žiarovo zinkovaná označenie OS 01",null,null,null,"ks",1,0,null,{"$f":"ROUND(L539*K539,3)","v":0},{"$nulls":5},"","znížená",null,{"$f":"V539*K539","v":0},0,{"$f":"X539*K539","v":0},0,{"$f":"Z539*K539","v":0},{"$nulls":16},"256",null,"M","2",null,null,null,"ROZPOCET",{"$nulls":5},{"$f":"IF(U539=\"základná\",N539,0)","v":0},{"$f":"IF(U539=\"znížená\",N539,0)","v":0},{"$f":"IF(U539=\"zákl. prenesená\",N539,0)","v":0},{"$f":"IF(U539=\"zníž. prenesená\",N539,0)","v":0},{"$f":"IF(U539=\"nulová\",N539,0)","v":0},"2",{"$f":"ROUND(L539*K539,3)","v":0},"64","-1097624382"]
[null,null,"166","K","210220240","Svorka FeZn k uzemňovacej tyči  SJ",null,null,null,"ks",3,0,null,{"$f":"ROUND(L540*K540,3)","v":0},{"$nulls":5},"","znížená",null,{"$f":"V540*K540","v":0},0,{"$f":"X540*K540","v":0},0,{"$f":"Z540*K540","v":0},{"$nulls":16},"64",null,"K","2",null,null,null,"ROZPOCET",{"$nulls":5},{"$f":"IF(U540=\"základná\",N540,0)","v":0},{"$f":"IF(U540=\"znížená\",N540,0)","v":0},{"$f":"IF(U540=\"zákl. prenesená\",N540,0)","v":0},{"$f":"IF(U540=\"zníž. prenesená\",N540,0)","v":0},{"$f":"IF(U540=\"nulová\",N540,0)","v":0},"2",{"$f":"ROUND(L540*K540,3)","v":0},"64","1247497535"]
[null,null,"167","M","3544218900","Svorka k uzemňovacej tyči ocelová žiarovo zinkovaná označenie SJ 01",null,null,null,"ks",1,0,null,{"$f":"ROUND(L541*K541,3)","v":0},{"$nulls":5},"","znížená",null,{"$f":"V541*K541","v":0},0,{"$f":"X541*K541","v":0},0,{"$f":"Z541*K541","v":0},{"$nulls":16},"256",null,"M","2",null,null,null,"ROZPOCET",{"$nulls":5},{"$f":"IF(U541=\"základná\",N541,0)","v":0},{"$f":"IF(U541=\"znížená\",N541,0)","v":0},{"$f":"IF(U541=\"zákl. prenesená\",N541,0)","v":0},{"$f":"IF(U541=\"zníž. prenesená\",N541,0)","v":0},{"$f":"IF(U541=\"nulová\",N541,0)","v":0},"2",{"$f":"ROUND(L541*K541,3)","v":0},"64","712245670"]
[null,null,"168","M","3544219000","Svorka k uzemňovacej tyči ocelová žiarovo zinkovaná označenie SJ 02",null,null,null,"ks",2,0,null,{"$f":"ROUND(L542*K542,3)","v":0},{"$nulls":5},"","znížená",null,{"$f":"V542*K542","v":0},0,{"$f":"X542*K542","v":0},0,{"$f":"Z542*K542","v":0},{"$nulls":16},"256",null,"M","2",null,null,null,"ROZPOCET",{"$nulls":5},{"$f":"IF(U542=\"základná\",N542,0)","v":0},{"$f":"IF(U542=\"znížená\",N542,0)","v":0},{"$f":"IF(U542=\"zákl. prenesená\",N542,0)","v":0},{"$f":"IF(U542=\"zníž. prenesená\",N542,0)","v":0},{"$f":"IF(U542=\"nulová\",N542,0)","v":0},"2",{"$f":"ROUND(L542*K542,3)","v":0},"64","833743517"]
[null,null,"169","K","210220245","Svorka FeZn pripojovacia",null,null,null,"ks",1,0,null,{"$f":"ROUND(L543*K543,3)","v":0},{"$nulls":5},"","znížená",null,{"$f":"V543*K543","v":0},0,{"$f":"X543*K543","v":0},0,{"$f":"Z543*K543","v":0},{"$nulls":16},"64",null,"K","2",null,null,null,"ROZPOCET",{"$nulls":5},{"$f":"IF(U543=\"základná\",N543,0)","v":0},{"$f":"IF(U543=\"znížená\",N543,0)","v":0},{"$f":"IF(U543=\"zákl. prenesená\",N543,0)","v":0},{"$f":"IF(U543=\"zníž. prenesená\",N543,0)","v":0},{"$f":"IF(U543=\"nulová\",N543,0)","v":0},"2",{"$f":"ROUND(L543*K543,3)","v":0},"64","-603259466"]
[null,null,"170","M","3544219850","Svorka pripojovacia pre spojenie kovových súčiastok ocelová žiarovo zinkovaná označenie SP 1",null,null,null,"ks",1,0,null,{"$f":"ROUND(L544*K544,3)","v":0},{"$nulls":5},"","znížená",null,{"$f":"V544*K544","v":0},0,{"$f":"X544*K544","v":0},0,{"$f":"Z544*K544","v":0},{"$nulls":16},"256",null,"M","2",null,null,null,"ROZPOCET",{"$nulls":5},{"$f":"IF(U544=\"základná\",N544,0)","v":0},{"$f":"IF(U544=\"znížená\",N544,0)","v":0},{"$f":"IF(U544=\"zákl. prenesená\",N544,0)","v":0},{"$f":"IF(U544=\"zníž. prenesená\",N544,0)","v":0},{"$f":"IF(U544=\"nulová\",N544,0)","v":0},"2",{"$f":"ROUND(L544*K544,3)","v":0},"64","-2069746128"]
[null,null,"171","K","210220246","Svorka FeZn na odkvapový žľab SO",null,null,null,"ks",3,0,null,{"$f":"ROUND(L545*K545,3)","v":0},{"$nulls":5},"","znížená",null,{"$f":"V545*K545","v":0},0,{"$f":"X545*K545","v":0},0,{"$f":"Z545*K545","v":0},{"$nulls":16},"64",null,"K","2",null,null,null,"ROZPOCET",{"$nulls":5},{"$f":"IF(U545=\"základná\",N545,0)","v":0},{"$f":"IF(U545=\"znížená\",N545,0)","v":0},{"$f":"IF(U545=\"zákl. prenesená\",N545,0)","v":0},{"$f":"IF(U545=\"zníž. prenesená\",N545,0)","v":0},{"$f":"IF(U545=\"nulová\",N545,0)","v":0},"2",{"$f":"ROUND(L545*K545,3)","v":0},"64","214703421"]
[null,null,"172","M","3544219950","Svorka okapová ocelová žiarovo zinkovaná označenie SO",null,null,null,"ks",3,0,null,{"$f":"ROUND(L546*K546,3)","v":0},{"$nulls":5},"","znížená",null,{"$f":"V546*K546","v":0},0,{"$f":"X546*K546","v":0},0,{"$f":"Z546*K546","v":0},{"$nulls":16},"256",null,"M","2",null,null,null,"ROZPOCET",{"$nulls":5},{"$f":"IF(U546=\"základná\",N546,0)","v":0},{"$f":"IF(U546=\"znížená\",N546,0)","v":0},{"$f":"IF(U546=\"zákl. prenesená\",N546,0)","v":0},{"$f":"IF(U546=\"zníž. prenesená\",N546,0)","v":0},{"$f":"IF(U546=\"nulová\",N546,0)","v":0},"2",{"$f":"ROUND(L546*K546,3)","v":0},"64","1527716676"]
[null,null,"173","K","210220249","Svorka FeZn na odkvapové potrubie ST10-11, SU a SUP",null,null,null,"ks",3,0,null,{"$f":"ROUND(L547*K547,3)","v":0},{"$nulls":5},"","znížená",null,{"$f":"V547*K547","v":0},0,{"$f":"X547*K547","v":0},0,{"$f":"Z547*K547","v":0},{"$nulls":16},"64",null,"K","2",null,null,null,"ROZPOCET",{"$nulls":5},{"$f":"IF(U547=\"základná\",N547,0)","v":0},{"$f":"IF(U547=\"znížená\",N547,0)","v":0},{"$f":"IF(U547=\"zákl. prenesená\",N547,0)","v":0},{"$f":"IF(U547=\"zníž. prenesená\",N547,0)","v":0},{"$f":"IF(U547=\"nulová\",N547,0)","v":0},"2",{"$f":"ROUND(L547*K547,3)","v":0},"64","1129113695"]
[null,null,"174","M","3544220650","Svorka na potrubia- okapové rúry D= 50-150 mm ocelová žiarovo zinkovaná označenie ST 10",null,null,null,"ks",3,0,null,{"$f":"ROUND(L548*K548,3)","v":0},{"$nulls":5},"","znížená",null,{"$f":"V548*K548","v":0},0,{"$f":"X548*K548","v":0},0,{"$f":"Z548*K548","v":0},{"$nulls":16},"256",null,"M","2",null,null,null,"ROZPOCET",{"$nulls":5},{"$f":"IF(U548=\"základná\",N548,0)","v":0},{"$f":"IF(U548=\"znížená\",N548,0)","v":0},{"$f":"IF(U548=\"zákl. prenesená\",N548,0)","v":0},{"$f":"IF(U548=\"zníž. prenesená\",N548,0)","v":0},{"$f":"IF(U548=\"nulová\",N548,0)","v":0},"2",{"$f":"ROUND(L548*K548,3)","v":0},"64","-764803945"]
[null,null,"175","K","210220250","Svorka FeZn univerzálna SU, SU A-B",null,null,null,"ks",31,0,null,{"$f":"ROUND(L549*K549,3)","v":0},{"$nulls":5},"","znížená",null,{"$f":"V549*K549","v":0},0,{"$f":"X549*K549","v":0},0,{"$f":"Z549*K549","v":0},{"$nulls":16},"64",null,"K","2",null,null,null,"ROZPOCET",{"$nulls":5},{"$f":"IF(U549=\"základná\",N549,0)","v":0},{"$f":"IF(U549=\"znížená\",N549,0)","v":0},{"$f":"IF(U549=\"zákl. prenesená\",N549,0)","v":0},{"$f":"IF(U549=\"zníž. prenesená\",N549,0)","v":0},{"$f":"IF(U549=\"nulová\",N549,0)","v":0},"2",{"$f":"ROUND(L549*K549,3)","v":0},"64","919148307"]
[null,null,"176","M","3544220750","Svorka univerzálna ocelová žiarovo zinkovaná označenie SU",null,null,null,"ks",6,0,null,{"$f":"ROUND(L550*K550,3)","v":0},{"$nulls":5},"","znížená",null,{"$f":"V550*K550","v":0},0,{"$f":"X550*K550","v":0},0,{"$f":"Z550*K550","v":0},{"$nulls":16},"256",null,"M","2",null,null,null,"ROZPOCET",{"$nulls":5},{"$f":"IF(U550=\"základná\",N550,0)","v":0},{"$f":"IF(U550=\"znížená\",N550,0)","v":0},{"$f":"IF(U550=\"zákl. prenesená\",N550,0)","v":0},{"$f":"IF(U550=\"zníž. prenesená\",N550,0)","v":0},{"$f":"IF(U550=\"nulová\",N550,0)","v":0},"2",{"$f":"ROUND(L550*K550,3)","v":0},"64","-178279626"]
[null,null,"177","M","3544220850","Svorka univerzálna ocelová žiarovo zinkovaná označenie SU B",null,null,null,"ks",25,0,null,{"$f":"ROUND(L551*K551,3)","v":0},{"$nulls":5},"","znížená",null,{"$f":"V551*K551","v":0},0,{"$f":"X551*K551","v":0},0,{"$f":"Z551*K551","v":0},{"$nulls":16},"256",null,"M","2",null,null,null,"ROZPOCET",{"$nulls":5},{"$f":"IF(U551=\"základná\",N551,0)","v":0},{"$f":"IF(U551=\"znížená\",N551,0)","v":0},{"$f":"IF(U551=\"zákl. prenesená\",N551,0)","v":0},{"$f":"IF(U551=\"zníž. prenesená\",N551,0)","v":0},{"$f":"IF(U551=\"nulová\",N551,0)","v":0},"2",{"$f":"ROUND(L551*K551,3)","v":0},"64","-1617311268"]
[null,null,"178","K","210220253","Svorka FeZn uzemňovacia",null,null,null,"ks",11,0,null,{"$f":"ROUND(L552*K552,3)","v":0},{"$nulls":5},"","znížená",null,{"$f":"V552*K552","v":0},0,{"$f":"X552*K552","v":0},0,{"$f":"Z552*K552","v":0},{"$nulls":16},"64",null,"K","2",null,null,null,"ROZPOCET",{"$nulls":5},{"$f":"IF(U552=\"základná\",N552,0)","v":0},{"$f":"IF(U552=\"znížená\",N552,0)","v":0},{"$f":"IF(U552=\"zákl. prenesená\",N552,0)","v":0},{"$f":"IF(U552=\"zníž. prenesená\",N552,0)","v":0},{"$f":"IF(U552=\"nulová\",N552,0)","v":0},"2",{"$f":"ROUND(L552*K552,3)","v":0},"64","1234502663"]
[null,null,"179","M","3544221300","Uzemňovacia svorka ocelová žiarovo zinkovaná označenie SR 03 A",null,null,null,"ks",11,0,null,{"$f":"ROUND(L553*K553,3)","v":0},{"$nulls":5},"","znížená",null,{"$f":"V553*K553","v":0},0,{"$f":"X553*K553","v":0},0,{"$f":"Z553*K553","v":0},{"$nulls":16},"256",null,"M","2",null,null,null,"ROZPOCET",{"$nulls":5},{"$f":"IF(U553=\"základná\",N553,0)","v":0},{"$f":"IF(U553=\"znížená\",N553,0)","v":0},{"$f":"IF(U553=\"zákl. prenesená\",N553,0)","v":0},{"$f":"IF(U553=\"zníž. prenesená\",N553,0)","v":0},{"$f":"IF(U553=\"nulová\",N553,0)","v":0},"2",{"$f":"ROUND(L553*K553,3)","v":0},"64","-273673972"]
[null,null,"180","K","210220260","Ochranný uholník FeZn   OU",null,null,null,"ks",3,0,null,{"$f":"ROUND(L554*K554,3)","v":0},{"$nulls":5},"","znížená",null,{"$f":"V554*K554","v":0},0,{"$f":"X554*K554","v":0},0,{"$f":"Z554*K554","v":0},{"$nulls":16},"64",null,"K","2",null,null,null,"ROZPOCET",{"$nulls":5},{"$f":"IF(U554=\"základná\",N554,0)","v":0},{"$f":"IF(U554=\"znížená\",N554,0)","v":0},{"$f":"IF(U554=\"zákl. prenesená\",N554,0)","v":0},{"$f":"IF(U554=\"zníž. prenesená\",N554,0)","v":0},{"$f":"IF(U554=\"nulová\",N554,0)","v":0},"2",{"$f":"ROUND(L554*K554,3)","v":0},"64","-943337459"]
[null,null,"181","M","3544221600","Ochraný uholník ocelový žiarovo zinkovaný označenie OU 1,7 m",null,null,null,"ks",3,0,null,{"$f":"ROUND(L555*K555,3)","v":0},{"$nulls":5},"","znížená",null,{"$f":"V555*K555","v":0},0,{"$f":"X555*K555","v":0},0,{"$f":"Z555*K555","v":0},{"$nulls":16},"256",null,"M","2",null,null,null,"ROZPOCET",{"$nulls":5},{"$f":"IF(U555=\"základná\",N555,0)","v":0},{"$f":"IF(U555=\"znížená\",N555,0)","v":0},{"$f":"IF(U555=\"zákl. prenesená\",N555,0)","v":0},{"$f":"IF(U555=\"zníž. prenesená\",N555,0)","v":0},{"$f":"IF(U555=\"nulová\",N555,0)","v":0},"2",{"$f":"ROUND(L555*K555,3)","v":0},"64","952856017"]
[null,null,"182","K","210220261","Držiak ochranného uholníka FeZn   DU-Z,D a DOU",null,null,null,"ks",6,0,null,{"$f":"ROUND(L556*K556,3)","v":0},{"$nulls":5},"","znížená",null,{"$f":"V556*K556","v":0},0,{"$f":"X556*K556","v":0},0,{"$f":"Z556*K556","v":0},{"$nulls":16},"64",null,"K","2",null,null,null,"ROZPOCET",{"$nulls":5},{"$f":"IF(U556=\"základná\",N556,0)","v":0},{"$f":"IF(U556=\"znížená\",N556,0)","v":0},{"$f":"IF(U556=\"zákl. prenesená\",N556,0)","v":0},{"$f":"IF(U556=\"zníž. prenesená\",N556,0)","v":0},{"$f":"IF(U556=\"nulová\",N556,0)","v":0},"2",{"$f":"ROUND(L556*K556,3)","v":0},"64","-748573006"]
[null,null,"183","M","3544221850","Držiak ochranného uholníka univerzálny s vrutom ocelový žiarovo zinkovaný označenie DOU vr. 1",null,null,null,"ks",6,0,null,{"$f":"ROUND(L557*K557,3)","v":0},{"$nulls":5},"","znížená",null,{"$f":"V557*K557","v":0},0,{"$f":"X557*K557","v":0},0,{"$f":"Z557*K557","v":0},{"$nulls":16},"256",null,"M","2",null,null,null,"ROZPOCET",{"$nulls":5},{"$f":"IF(U557=\"základná\",N557,0)","v":0},{"$f":"IF(U557=\"znížená\",N557,0)","v":0},{"$f":"IF(U557=\"zákl. prenesená\",N557,0)","v":0},{"$f":"IF(U557=\"zníž. prenesená\",N557,0)","v":0},{"$f":"IF(U557=\"nulová\",N557,0)","v":0},"2",{"$f":"ROUND(L557*K557,3)","v":0},"64","14831834"]
[null,null,"184","K","210220280","Uzemňovacia tyč FeZn ZT",null,null,null,"ks",2,0,null,{"$f":"ROUND(L558*K558,3)","v":0},{"$nulls":5},"","znížená",null,{"$f":"V558*K558","v":0},0,{"$f":"X558*K558","v":0},0,{"$f":"Z558*K558","v":0},{"$nulls":16},"64",null,"K","2",null,null,null,"ROZPOCET",{"$nulls":5},{"$f":"IF(U558=\"základná\",N558,0)","v":0},{"$f":"IF(U558=\"znížená\",N558,0)","v":0},{"$f":"IF(U558=\"zákl. prenesená\",N558,0)","v":0},{"$f":"IF(U558=\"zníž. prenesená\",N558,0)","v":0},{"$f":"IF(U558=\"nulová\",N558,0)","v":0},"2",{"$f":"ROUND(L558*K558,3)","v":0},"64","-80120916"]
[null,null,"185","M","3544222550","Uzemňovacia tyč ocelová žiarovo zinkovaná označenie ZT 2 m",null,null,null,"ks",2,0,null,{"$f":"ROUND(L559*K559,3)","v":0},{"$nulls":5},"","znížená",null,{"$f":"V559*K559","v":0},0,{"$f":"X559*K559","v":0},0,{"$f":"Z559*K559","v":0},{"$nulls":16},"256",null,"M","2",null,null,null,"ROZPOCET",{"$nulls":5},{"$f":"IF(U559=\"základná\",N559,0)","v":0},{"$f":"IF(U559=\"znížená\",N559,0)","v":0},{"$f":"IF(U559=\"zákl. prenesená\",N559,0)","v":0},{"$f":"IF(U559=\"zníž. prenesená\",N559,0)","v":0},{"$f":"IF(U559=\"nulová\",N559,0)","v":0},"2",{"$f":"ROUND(L559*K559,3)","v":0},"64","1076403789"]
[null,null,"186","K","210220300","Ochranné pospájanie v práčovniach, kúpeľniach, voľne ulož.,alebo v omietke Cu 4-16mm2",null,null,null,"m",32,0,null,{"$f":"ROUND(L560*K560,3)","v":0},{"$nulls":5},"","znížená",null,{"$f":"V560*K560","v":0},0,{"$f":"X560*K560","v":0},0,{"$f":"Z560*K560","v":0},{"$nulls":16},"64",null,"K","2",null,null,null,"ROZPOCET",{"$nulls":5},{"$f":"IF(U560=\"základná\",N560,0)","v":0},{"$f":"IF(U560=\"znížená\",N560,0)","v":0},{"$f":"IF(U560=\"zákl. prenesená\",N560,0)","v":0},{"$f":"IF(U560=\"zníž. prenesená\",N560,0)","v":0},{"$f":"IF(U560=\"nulová\",N560,0)","v":0},"2",{"$f":"ROUND(L560*K560,3)","v":0},"64","-676696742"]
[null,null,"187","M","3410350555","H07V-K 10 Flexibilný kábel harmonizovaný",null,null,null,"m",20,0,null,{"$f":"ROUND(L561*K561,3)","v":0},{"$nulls":5},"","znížená",null,{"$f":"V561*K561","v":0},0,{"$f":"X561*K561","v":0},0,{"$f":"Z561*K561","v":0},{"$nulls":16},"256",null,"M","2",null,null,null,"ROZPOCET",{"$nulls":5},{"$f":"IF(U561=\"základná\",N561,0)","v":0},{"$f":"IF(U561=\"znížená\",N561,0)","v":0},{"$f":"IF(U561=\"zákl. prenesená\",N561,0)","v":0},{"$f":"IF(U561=\"zníž. prenesená\",N561,0)","v":0},{"$f":"IF(U561=\"nulová\",N561,0)","v":0},"2",{"$f":"ROUND(L561*K561,3)","v":0},"64","-2061415142"]
[null,null,"188","M","3410350556","H07V-K 16 Flexibilný kábel harmonizovaný",null,null,null,"m",12,0,null,{"$f":"ROUND(L562*K562,3)","v":0},{"$nulls":5},"","znížená",null,{"$f":"V562*K562","v":0},0,{"$f":"X562*K562","v":0},0,{"$f":"Z562*K562","v":0},{"$nulls":16},"256",null,"M","2",null,null,null,"ROZPOCET",{"$nulls":5},{"$f":"IF(U562=\"základná\",N562,0)","v":0},{"$f":"IF(U562=\"znížená\",N562,0)","v":0},{"$f":"IF(U562=\"zákl. prenesená\",N562,0)","v":0},{"$f":"IF(U562=\"zníž. prenesená\",N562,0)","v":0},{"$f":"IF(U562=\"nulová\",N562,0)","v":0},"2",{"$f":"ROUND(L562*K562,3)","v":0},"64","1604522204"]
[null,null,"189","K","210220401","Označenie zvodov štítkami smaltované, z umelej hmot",null,null,null,"ks",4,0,null,{"$f":"ROUND(L563*K563,3)","v":0},{"$nulls":5},"","znížená",null,{"$f":"V563*K563","v":0},0,{"$f":"X563*K563","v":0},0,{"$f":"Z563*K563","v":0},{"$nulls":16},"64",null,"K","2",null,null,null,"ROZPOCET",{"$nulls":5},{"$f":"IF(U563=\"základná\",N563,0)","v":0},{"$f":"IF(U563=\"znížená\",N563,0)","v":0},{"$f":"IF(U563=\"zákl. prenesená\",N563,0)","v":0},{"$f":"IF(U563=\"zníž. prenesená\",N563,0)","v":0},{"$f":"IF(U563=\"nulová\",N563,0)","v":0},"2",{"$f":"ROUND(L563*K563,3)","v":0},"64","-50323543"]
[null,null,"190","M","5489511000","Štítok plastový 10x15 mm",null,null,null,"Kus",4,0,null,{"$f":"ROUND(L564*K564,3)","v":0},{"$nulls":5},"","znížená",null,{"$f":"V564*K564","v":0},0,{"$f":"X564*K564","v":0},0,{"$f":"Z564*K564","v":0},{"$nulls":16},"256",null,"M","2",null,null,null,"ROZPOCET",{"$nulls":5},{"$f":"IF(U564=\"základná\",N564,0)","v":0},{"$f":"IF(U564=\"znížená\",N564,0)","v":0},{"$f":"IF(U564=\"zákl. prenesená\",N564,0)","v":0},{"$f":"IF(U564=\"zníž. prenesená\",N564,0)","v":0},{"$f":"IF(U564=\"nulová\",N564,0)","v":0},"2",{"$f":"ROUND(L564*K564,3)","v":0},"64","-413939454"]
[null,null,"191","K","210220657","Svorka nerez 1.4301 skúšobná",null,null,null,"ks",3,0,null,{"$f":"ROUND(L565*K565,3)","v":0},{"$nulls":5},"","znížená",null,{"$f":"V565*K565","v":0},0,{"$f":"X565*K565","v":0},0,{"$f":"Z565*K565","v":0},{"$nulls":16},"64",null,"K","2",null,null,null,"ROZPOCET",{"$nulls":5},{"$f":"IF(U565=\"základná\",N565,0)","v":0},{"$f":"IF(U565=\"znížená\",N565,0)","v":0},{"$f":"IF(U565=\"zákl. prenesená\",N565,0)","v":0},{"$f":"IF(U565=\"zníž. prenesená\",N565,0)","v":0},{"$f":"IF(U565=\"nulová\",N565,0)","v":0},"2",{"$f":"ROUND(L565*K565,3)","v":0},"64","-1275726099"]
[null,null,"192","M","3544237200","Svorka skušobná nerez akosť 1.4301 označenie SZ A2",null,null,null,"ks",3,0,null,{"$f":"ROUND(L566*K566,3)","v":0},{"$nulls":5},"","znížená",null,{"$f":"V566*K566","v":0},0,{"$f":"X566*K566","v":0},0,{"$f":"Z566*K566","v":0},{"$nulls":16},"256",null,"M","2",null,null,null,"ROZPOCET",{"$nulls":5},{"$f":"IF(U566=\"základná\",N566,0)","v":0},{"$f":"IF(U566=\"znížená\",N566,0)","v":0},{"$f":"IF(U566=\"zákl. prenesená\",N566,0)","v":0},{"$f":"IF(U566=\"zníž. prenesená\",N566,0)","v":0},{"$f":"IF(U566=\"nulová\",N566,0)","v":0},"2",{"$f":"ROUND(L566*K566,3)","v":0},"64","-1751590658"]
[null,null,"193","K","210220800","Uzemňovacie vedenie na povrchu  AlMgSi  O 8-10",null,null,null,"m",51,0,null,{"$f":"ROUND(L567*K567,3)","v":0},{"$nulls":5},"","znížená",null,{"$f":"V567*K567","v":0},0,{"$f":"X567*K567","v":0},0,{"$f":"Z567*K567","v":0},{"$nulls":16},"64",null,"K","2",null,null,null,"ROZPOCET",{"$nulls":5},{"$f":"IF(U567=\"základná\",N567,0)","v":0},{"$f":"IF(U567=\"znížená\",N567,0)","v":0},{"$f":"IF(U567=\"zákl. prenesená\",N567,0)","v":0},{"$f":"IF(U567=\"zníž. prenesená\",N567,0)","v":0},{"$f":"IF(U567=\"nulová\",N567,0)","v":0},"2",{"$f":"ROUND(L567*K567,3)","v":0},"64","-689541234"]
[null,null,"194","M","000840018","Drát DEHNALU 8mm AlMgSi Pevná délka role: 148m, měkký ke stáčení",null,null,null,"m",51,0,null,{"$f":"ROUND(L568*K568,3)","v":0},{"$nulls":5},"","znížená",null,{"$f":"V568*K568","v":0},0,{"$f":"X568*K568","v":0},0,{"$f":"Z568*K568","v":0},{"$nulls":16},"256",null,"M","2",null,null,null,"ROZPOCET",{"$nulls":5},{"$f":"IF(U568=\"základná\",N568,0)","v":0},{"$f":"IF(U568=\"znížená\",N568,0)","v":0},{"$f":"IF(U568=\"zákl. prenesená\",N568,0)","v":0},{"$f":"IF(U568=\"zníž. prenesená\",N568,0)","v":0},{"$f":"IF(U568=\"nulová\",N568,0)","v":0},"2",{"$f":"ROUND(L568*K568,3)","v":0},"64","1746243228"]
[null,null,"195","K","210800226","Vodič medený uložený pod omietkou CYKY  450/750 V  3x1,5mm2",null,null,null,"m",55,0,null,{"$f":"ROUND(L569*K569,3)","v":0},{"$nulls":5},"","znížená",null,{"$f":"V569*K569","v":0},0,{"$f":"X569*K569","v":0},0,{"$f":"Z569*K569","v":0},{"$nulls":16},"64",null,"K","2",null,null,null,"ROZPOCET",{"$nulls":5},{"$f":"IF(U569=\"základná\",N569,0)","v":0},{"$f":"IF(U569=\"znížená\",N569,0)","v":0},{"$f":"IF(U569=\"zákl. prenesená\",N569,0)","v":0},{"$f":"IF(U569=\"zníž. prenesená\",N569,0)","v":0},{"$f":"IF(U569=\"nulová\",N569,0)","v":0},"2",{"$f":"ROUND(L569*K569,3)","v":0},"64","1511394013"]
[null,null,"196","M","3410350085","CYKY-J 3x1,5    Kábel pre pevné uloženie, medený STN",null,null,null,"m",52,0,null,{"$f":"ROUND(L570*K570,3)","v":0},{"$nulls":5},"","znížená",null,{"$f":"V570*K570","v":0},0,{"$f":"X570*K570","v":0},0,{"$f":"Z570*K570","v":0},{"$nulls":16},"256",null,"M","2",null,null,null,"ROZPOCET",{"$nulls":5},{"$f":"IF(U570=\"základná\",N570,0)","v":0},{"$f":"IF(U570=\"znížená\",N570,0)","v":0},{"$f":"IF(U570=\"zákl. prenesená\",N570,0)","v":0},{"$f":"IF(U570=\"zníž. prenesená\",N570,0)","v":0},{"$f":"IF(U570=\"nulová\",N570,0)","v":0},"2",{"$f":"ROUND(L570*K570,3)","v":0},"64","1229676353"]
[null,null,"197","M","3410350085-O","CYKY-O 3x1,5    Kábel pre pevné uloženie, medený STN",null,null,null,"m",3,0,null,{"$f":"ROUND(L571*K571,3)","v":0},{"$nulls":5},"","znížená",null,{"$f":"V571*K571","v":0},0,{"$f":"X571*K571","v":0},0,{"$f":"Z571*K571","v":0},{"$nulls":16},"256",null,"M","2",null,null,null,"ROZPOCET",{"$nulls":5},{"$f":"IF(U571=\"základná\",N571,0)","v":0},{"$f":"IF(U571=\"znížená\",N571,0)","v":0},{"$f":"IF(U571=\"zákl. prenesená\",N571,0)","v":0},{"$f":"IF(U571=\"zníž. prenesená\",N571,0)","v":0},{"$f":"IF(U571=\"nulová\",N571,0)","v":0},"2",{"$f":"ROUND(L571*K571,3)","v":0},"64","-2028878902"]
[null,null,"198","K","210800227","Vodič medený uložený pod omietkou CYKY  450/750 V  3x2,5mm2",null,null,null,"m",42,0,null,{"$f":"ROUND(L572*K572,3)","v":0},{"$nulls":5},"","znížená",null,{"$f":"V572*K572","v":0},0,{"$f":"X572*K572","v":0},0,{"$f":"Z572*K572","v":0},{"$nulls":16},"64",null,"K","2",null,null,null,"ROZPOCET",{"$nulls":5},{"$f":"IF(U572=\"základná\",N572,0)","v":0},{"$f":"IF(U572=\"znížená\",N572,0)","v":0},{"$f":"IF(U572=\"zákl. prenesená\",N572,0)","v":0},{"$f":"IF(U572=\"zníž. prenesená\",N572,0)","v":0},{"$f":"IF(U572=\"nulová\",N572,0)","v":0},"2",{"$f":"ROUND(L572*K572,3)","v":0},"64","1183400322"]
[null,null,"199","M","3410350086","CYKY-J 3x2,5    Kábel pre pevné uloženie, medený STN",null,null,null,"m",42,0,null,{"$f":"ROUND(L573*K573,3)","v":0},{"$nulls":5},"","znížená",null,{"$f":"V573*K573","v":0},0,{"$f":"X573*K573","v":0},0,{"$f":"Z573*K573","v":0},{"$nulls":16},"256",null,"M","2",null,null,null,"ROZPOCET",{"$nulls":5},{"$f":"IF(U573=\"základná\",N573,0)","v":0},{"$f":"IF(U573=\"znížená\",N573,0)","v":0},{"$f":"IF(U573=\"zákl. prenesená\",N573,0)","v":0},{"$f":"IF(U573=\"zníž. prenesená\",N573,0)","v":0},{"$f":"IF(U573=\"nulová\",N573,0)","v":0},"2",{"$f":"ROUND(L573*K573,3)","v":0},"64","1464150524"]
[null,null,"200","K","210800238","Vodič medený uložený pod omietkou CYKY  450/750 V  5x1,5mm2",null,null,null,"m",85,0,null,{"$f":"ROUND(L574*K574,3)","v":0},{"$nulls":5},"","znížená",null,{"$f":"V574*K574","v":0},0,{"$f":"X574*K574","v":0},0,{"$f":"Z574*K574","v":0},{"$nulls":16},"64",null,"K","2",null,null,null,"ROZPOCET",{"$nulls":5},{"$f":"IF(U574=\"základná\",N574,0)","v":0},{"$f":"IF(U574=\"znížená\",N574,0)","v":0},{"$f":"IF(U574=\"zákl. prenesená\",N574,0)","v":0},{"$f":"IF(U574=\"zníž. prenesená\",N574,0)","v":0},{"$f":"IF(U574=\"nulová\",N574,0)","v":0},"2",{"$f":"ROUND(L574*K574,3)","v":0},"64","1361178308"]
[null,null,"201","M","3410350097","CYKY-J 5x1,5    Kábel pre pevné uloženie, medený STN",null,null,null,"m",85,0,null,{"$f":"ROUND(L575*K575,3)","v":0},{"$nulls":5},"","znížená",null,{"$f":"V575*K575","v":0},0,{"$f":"X575*K575","v":0},0,{"$f":"Z575*K575","v":0},{"$nulls":16},"256",null,"M","2",null,null,null,"ROZPOCET",{"$nulls":5},{"$f":"IF(U575=\"základná\",N575,0)","v":0},{"$f":"IF(U575=\"znížená\",N575,0)","v":0},{"$f":"IF(U575=\"zákl. prenesená\",N575,0)","v":0},{"$f":"IF(U575=\"zníž. prenesená\",N575,0)","v":0},{"$f":"IF(U575=\"nulová\",N575,0)","v":0},"2",{"$f":"ROUND(L575*K575,3)","v":0},"64","27033483"]
[null,null,"202","K","210800239","Vodič medený uložený pod omietkou CYKY  450/750 V  5x2,5mm2",null,null,null,"m",30,0,null,{"$f":"ROUND(L576*K576,3)","v":0},{"$nulls":5},"","znížená",null,{"$f":"V576*K576","v":0},0,{"$f":"X576*K576","v":0},0,{"$f":"Z576*K576","v":0},{"$nulls":16},"64",null,"K","2",null,null,null,"ROZPOCET",{"$nulls":5},{"$f":"IF(U576=\"základná\",N576,0)","v":0},{"$f":"IF(U576=\"znížená\",N576,0)","v":0},{"$f":"IF(U576=\"zákl. prenesená\",N576,0)","v":0},{"$f":"IF(U576=\"zníž. prenesená\",N576,0)","v":0},{"$f":"IF(U576=\"nulová\",N576,0)","v":0},"2",{"$f":"ROUND(L576*K576,3)","v":0},"64","176935029"]
[null,null,"203","M","3410350098","CYKY-J 5x2,5    Kábel pre pevné uloženie, medený STN",null,null,null,"m",30,0,null,{"$f":"ROUND(L577*K577,3)","v":0},{"$nulls":5},"","znížená",null,{"$f":"V577*K577","v":0},0,{"$f":"X577*K577","v":0},0,{"$f":"Z577*K577","v":0},{"$nulls":16},"256",null,"M","2",null,null,null,"ROZPOCET",{"$nulls":5},{"$f":"IF(U577=\"základná\",N577,0)","v":0},{"$f":"IF(U577=\"znížená\",N577,0)","v":0},{"$f":"IF(U577=\"zákl. prenesená\",N577,0)","v":0},{"$f":"IF(U577=\"zníž. prenesená\",N577,0)","v":0},{"$f":"IF(U577=\"nulová\",N577,0)","v":0},"2",{"$f":"ROUND(L577*K577,3)","v":0},"64","-1165572039"]
[null,null,"204","K","M21 DM","Doprava materiálu",null,null,null,"perc.",3,0,null,{"$f":"ROUND(L578*K578,3)","v":0},{"$nulls":5},"","znížená",null,{"$f":"V578*K578","v":0},0,{"$f":"X578*K578","v":0},0,{"$f":"Z578*K578","v":0},{"$nulls":16},"64",null,"K","2",null,null,null,"ROZPOCET",{"$nulls":5},{"$f":"IF(U578=\"základná\",N578,0)","v":0},{"$f":"IF(U578=\"znížená\",N578,0)","v":0},{"$f":"IF(U578=\"zákl. prenesená\",N578,0)","v":0},{"$f":"IF(U578=\"zníž. prenesená\",N578,0)","v":0},{"$f":"IF(U578=\"nulová\",N578,0)","v":0},"2",{"$f":"ROUND(L578*K578,3)","v":0},"64","1765764533"]
[null,null,"205","K","M21 PM","Pomocny material (upevňovací materiál, pásky)",null,null,null,"perc.",4,0,null,{"$f":"ROUND(L579*K579,3)","v":0},{"$nulls":5},"","znížená",null,{"$f":"V579*K579","v":0},0,{"$f":"X579*K579","v":0},0,{"$f":"Z579*K579","v":0},{"$nulls":16},"64",null,"K","2",null,null,null,"ROZPOCET",{"$nulls":5},{"$f":"IF(U579=\"základná\",N579,0)","v":0},{"$f":"IF(U579=\"znížená\",N579,0)","v":0},{"$f":"IF(U579=\"zákl. prenesená\",N579,0)","v":0},{"$f":"IF(U579=\"zníž. prenesená\",N579,0)","v":0},{"$f":"IF(U579=\"nulová\",N579,0)","v":0},"2",{"$f":"ROUND(L579*K579,3)","v":0},"64","-1853640976"]
[null,null,"206","K","M21 PP","Pomocne prace",null,null,null,"perc.",4,0,null,{"$f":"ROUND(L580*K580,3)","v":0},{"$nulls":5},"","znížená",null,{"$f":"V580*K580","v":0},0,{"$f":"X580*K580","v":0},0,{"$f":"Z580*K580","v":0},{"$nulls":16},"64",null,"K","2",null,null,null,"ROZPOCET",{"$nulls":5},{"$f":"IF(U580=\"základná\",N580,0)","v":0},{"$f":"IF(U580=\"znížená\",N580,0)","v":0},{"$f":"IF(U580=\"zákl. prenesená\",N580,0)","v":0},{"$f":"IF(U580=\"zníž. prenesená\",N580,0)","v":0},{"$f":"IF(U580=\"nulová\",N580,0)","v":0},"2",{"$f":"ROUND(L580*K580,3)","v":0},"64","-1772531897"]
[null,null,null,"    46-M - Zemné práce pri extr.mont.prácach",{"$nulls":9},{"$f":"BK581","v":0},{"$nulls":8},{"$f":"SUM(W582:W584)","v":0},null,{"$f":"SUM(Y582:Y584)","v":0},null,{"$f":"SUM(AA582:AA584)","v":0},{"$nulls":16},"3",null,"D","1",null,null,null,"ROZPOCET",{"$nulls":11},{"$f":"SUM(BK582:BK584)","v":0}]
[null,null,"207","K","460200163","Hĺbenie káblovej ryhy 35 cm širokej a 80 cm hlbokej, v zemine triedy 3",null,null,null,"m",55,0,null,{"$f":"ROUND(L582*K582,3)","v":0},{"$nulls":5},"","znížená",null,{"$f":"V582*K582","v":0},0,{"$f":"X582*K582","v":0},0,{"$f":"Z582*K582","v":0},{"$nulls":16},"64",null,"K","2",null,null,null,"ROZPOCET",{"$nulls":5},{"$f":"IF(U582=\"základná\",N582,0)","v":0},{"$f":"IF(U582=\"znížená\",N582,0)","v":0},{"$f":"IF(U582=\"zákl. prenesená\",N582,0)","v":0},{"$f":"IF(U582=\"zníž. prenesená\",N582,0)","v":0},{"$f":"IF(U582=\"nulová\",N582,0)","v":0},"2",{"$f":"ROUND(L582*K582,3)","v":0},"64","1658921969"]
[null,null,"208","K","460300006","Zhutnenie zeminy po vrstvách pri zahrnutí rýh, vrstva zeminy 20 cm",null,null,null,"m3",15.4,0,null,{"$f":"ROUND(L583*K583,3)","v":0},{"$nulls":5},"","znížená",null,{"$f":"V583*K583","v":0},0,{"$f":"X583*K583","v":0},0,{"$f":"Z583*K583","v":0},{"$nulls":16},"64",null,"K","2",null,null,null,"ROZPOCET",{"$nulls":5},{"$f":"IF(U583=\"základná\",N583,0)","v":0},{"$f":"IF(U583=\"znížená\",N583,0)","v":0},{"$f":"IF(U583=\"zákl. prenesená\",N583,0)","v":0},{"$f":"IF(U583=\"zníž. prenesená\",N583,0)","v":0},{"$f":"IF(U583=\"nulová\",N583,0)","v":0},"2",{"$f":"ROUND(L583*K583,3)","v":0},"64","1929220700"]
[null,null,"209","K","460560163","Ručný zásyp nezap. káblovej ryhy bez zhutn. zeminy, 35 cm širokej, 80 cm hlbokej v zemine tr. 3",null,null,null,"m",55,0,null,{"$f":"ROUND(L584*K584,3)","v":0},{"$nulls":5},"","znížená",null,{"$f":"V584*K584","v":0},0,{"$f":"X584*K584","v":0},0,{"$f":"Z584*K584","v":0},{"$nulls":16},"64",null,"K","2",null,null,null,"ROZPOCET",{"$nulls":5},{"$f":"IF(U584=\"základná\",N584,0)","v":0},{"$f":"IF(U584=\"znížená\",N584,0)","v":0},{"$f":"IF(U584=\"zákl. prenesená\",N584,0)","v":0},{"$f":"IF(U584=\"zníž. prenesená\",N584,0)","v":0},{"$f":"IF(U584=\"nulová\",N584,0)","v":0},"2",{"$f":"ROUND(L584*K584,3)","v":0},"64","1832550231"]
[null,null,null,"HZS - Hodinové zúčtovacie sadzby",{"$nulls":9},{"$f":"BK585","v":0},{"$nulls":8},{"$f":"W586","v":0},null,{"$f":"Y586","v":0},null,{"$f":"AA586","v":0},{"$nulls":16},"4",null,"D","0",null,null,null,"ROZPOCET",{"$nulls":11},{"$f":"BK586","v":0}]
[null,null,"210","K","HZS000112","Demontáž existujúceho bleskozvodu",null,null,null,"hod",6,0,null,{"$f":"ROUND(L586*K586,3)","v":0},{"$nulls":5},"","znížená",null,{"$f":"V586*K586","v":0},0,{"$f":"X586*K586","v":0},0,{"$f":"Z586*K586","v":0},{"$nulls":16},"512",null,"K","1",null,null,null,"ROZPOCET",{"$nulls":5},{"$f":"IF(U586=\"základná\",N586,0)","v":0},{"$f":"IF(U586=\"znížená\",N586,0)","v":0},{"$f":"IF(U586=\"zákl. prenesená\",N586,0)","v":0},{"$f":"IF(U586=\"zníž. prenesená\",N586,0)","v":0},{"$f":"IF(U586=\"nulová\",N586,0)","v":0},"2",{"$f":"ROUND(L586*K586,3)","v":0},"512","453198544"]
[null,null,null,"OST - Ostatné",{"$nulls":9},{"$f":"BK587","v":0},{"$nulls":8},{"$f":"SUM(W588:W589)","v":0},null,{"$f":"SUM(Y588:Y589)","v":0},null,{"$f":"SUM(AA588:AA589)","v":0},{"$nulls":16},"4",null,"D","0",null,null,null,"ROZPOCET",{"$nulls":11},{"$f":"SUM(BK588:BK589)","v":0}]
[null,null,"211","K","HZS0001140","Odborná prehliadka a odborná skúška, vypracovanie správy El.inšt.",null,null,null,"hod",10,0,null,{"$f":"ROUND(L588*K588,3)","v":0},{"$nulls":5},"","znížená",null,{"$f":"V588*K588","v":0},0,{"$f":"X588*K588","v":0},0,{"$f":"Z588*K588","v":0},{"$nulls":16},"512",null,"K","1",null,null,null,"ROZPOCET",{"$nulls":5},{"$f":"IF(U588=\"základná\",N588,0)","v":0},{"$f":"IF(U588=\"znížená\",N588,0)","v":0},{"$f":"IF(U588=\"zákl. prenesená\",N588,0)","v":0},{"$f":"IF(U588=\"zníž. prenesená\",N588,0)","v":0},{"$f":"IF(U588=\"nulová\",N588,0)","v":0},"2",{"$f":"ROUND(L588*K588,3)","v":0},"512","1608789844"]
[null,null,"212","K","HZS000114","Odborná prehliadka a odborná skúška, vypracovanie správy bleskozvod",null,null,null,"hod",10,0,null,{"$f":"ROUND(L589*K589,3)","v":0},{"$nulls":5},"","znížená",null,{"$f":"V589*K589","v":0},0,{"$f":"X589*K589","v":0},0,{"$f":"Z589*K589","v":0},{"$nulls":16},"512",null,"K","1",null,null,null,"ROZPOCET",{"$nulls":5},{"$f":"IF(U589=\"základná\",N589,0)","v":0},{"$f":"IF(U589=\"znížená\",N589,0)","v":0},{"$f":"IF(U589=\"zákl. prenesená\",N589,0)","v":0},{"$f":"IF(U589=\"zníž. prenesená\",N589,0)","v":0},{"$f":"IF(U589=\"nulová\",N589,0)","v":0},"2",{"$f":"ROUND(L589*K589,3)","v":0},"512","224117064"]
[null,null,null,"VP - Práce naviac",{"$nulls":9},{"$f":"BK590","v":0},{"$nulls":31},"D","0",null,null,null,"PN",{"$nulls":11},{"$f":"SUM(BK591:BK595)","v":0}]
[null,null,"","K","","",null,null,null,"",null,null,null,{"$f":"BK591","v":0},{"$nulls":5},"","znížená",{"$nulls":24},"PN","1",null,null,null,"PN",{"$nulls":5},{"$f":"IF(U591=\"základná\",N591,0)","v":0},{"$f":"IF(U591=\"znížená\",N591,0)","v":0},{"$f":"IF(U591=\"zákl. prenesená\",N591,0)","v":0},{"$f":"IF(U591=\"zníž. prenesená\",N591,0)","v":0},{"$f":"IF(U591=\"nulová\",N591,0)","v":0},"2",{"$f":"L591*K591","v":0}]
[null,null,"","K","","",null,null,null,"",null,null,null,{"$f":"BK592","v":0},{"$nulls":5},"","znížená",{"$nulls":24},"PN","1",null,null,null,"PN",{"$nulls":5},{"$f":"IF(U592=\"základná\",N592,0)","v":0},{"$f":"IF(U592=\"znížená\",N592,0)","v":0},{"$f":"IF(U592=\"zákl. prenesená\",N592,0)","v":0},{"$f":"IF(U592=\"zníž. prenesená\",N592,0)","v":0},{"$f":"IF(U592=\"nulová\",N592,0)","v":0},"2",{"$f":"L592*K592","v":0}]
[null,null,"","K","","",null,null,null,"",null,null,null,{"$f":"BK593","v":0},{"$nulls":5},"","znížená",{"$nulls":24},"PN","1",null,null,null,"PN",{"$nulls":5},{"$f":"IF(U593=\"základná\",N593,0)","v":0},{"$f":"IF(U593=\"znížená\",N593,0)","v":0},{"$f":"IF(U593=\"zákl. prenesená\",N593,0)","v":0},{"$f":"IF(U593=\"zníž. prenesená\",N593,0)","v":0},{"$f":"IF(U593=\"nulová\",N593,0)","v":0},"2",{"$f":"L593*K593","v":0}]
[null,null,"","K","","",null,null,null,"",null,null,null,{"$f":"BK594","v":0},{"$nulls":5},"","znížená",{"$nulls":24},"PN","1",null,null,null,"PN",{"$nulls":5},{"$f":"IF(U594=\"základná\",N594,0)","v":0},{"$f":"IF(U594=\"znížená\",N594,0)","v":0},{"$f":"IF(U594=\"zákl. prenesená\",N594,0)","v":0},{"$f":"IF(U594=\"zníž. prenesená\",N594,0)","v":0},{"$f":"IF(U594=\"nulová\",N594,0)","v":0},"2",{"$f":"L594*K594","v":0}]
[null,null,"","K","","",null,null,null,"",null,null,null,{"$f":"BK595","v":0},{"$nulls":5},"","znížená",{"$nulls":24},"PN","1",null,null,null,"PN",{"$nulls":5},{"$f":"IF(U595=\"základná\",N595,0)","v":0},{"$f":"IF(U595=\"znížená\",N595,0)","v":0},{"$f":"IF(U595=\"zákl. prenesená\",N595,0)","v":0},{"$f":"IF(U595=\"zníž. prenesená\",N595,0)","v":0},{"$f":"IF(U595=\"nulová\",N595,0)","v":0},"2",{"$f":"L595*K595","v":0}]